Workbook

Sheet Rank 3 bandas
C2: RANKING ACUMULADO 3 BANDAS TEMP. 26/27
C4: CLASIFICACION
B5: DNI | C5: NOMBRE | D5: ALCALÁ 22/23 | E5: MIJAS 22/23 | F5: BOLLULLOS 22/23 | G5: BURGUILLOS 22/23 | H5: ALCALÁ 23/24 | I5: BURGUILLOS 23/24 | J5: MARACENA 23/24 | K5: MIJAS 23/24 | L5: ALCALÁ 24/25 | M5: BAEZA 24/25 | N5: SEVILLA 24/25 | O5: HUMILLADERO 24/25 | P5: BURGUILLOS 24/25 | Q5: Córdoba 25/26 | R5: Bollullos 25/26 | S5: Burguillos 25/26 | T5: Sevilla 25/26 | U5: Humilladero 25/26 | V5: Almonte 26/27 | W5: Alcalá 26/27 | X5: Bonus Asistencia | Y5: TOTAL | AA5: Máximo | AB5: suma
A6: 1 | B6: 24280762F | C6: DÍAZ RODRÍGUEZ, JAVIER | D6: 146 | E6: 180 | F6: 180 | G6: =VLOOKUP(C6,Hoja4!B:C,2,FALSE) -> 140 | H6: =VLOOKUP(C6,Hoja3!A:B,2,FALSE) -> 180 | I6: 165 | J6: 165 | K6: =VLOOKUP(C6,Hoja10!A:B,2,FALSE) -> 180 | L6: =VLOOKUP(C6,Hoja11!A:B,2,FALSE) -> 180 | M6: =VLOOKUP(C6,Hoja12!A:B,2,FALSE) -> 165 | N6: 142 | O6: 180 | P6: =VLOOKUP(C6,Hoja15!A:B,2,FALSE) -> 146 | Q6: 155 | R6: 129 | S6: 144 | T6: 146 | U6: 180 | V6: 180 | W6: =IFERROR(VLOOKUP(C6,Hoja23!A:H,8,FALSE),"") -> 180 | X6: =+COUNT(S6:W6)*15+Z6 -> 75 | Y6: =+SUM(S6:X6) -> 905 | AA6: =MAX(S6:W6) -> 180 | AB6: =SUM(D6:W6) -> 3263
A7: 2 | B7: 29770104P | C7: MIRA CANTILLO, BALDOMERO | D7: 129 | E7: 144 | F7: 129 | G7: 146 | H7: 126 | I7: 103 | L7: =VLOOKUP(C7,Hoja11!A:B,2,FALSE) -> 117 | M7: =VLOOKUP(C7,Hoja12!A:B,2,FALSE) -> 95 | N7: =VLOOKUP(C7,Hoja13!A:B,2,FALSE) -> 117 | O7: 90 | P7: =VLOOKUP(C7,Hoja15!A:B,2,FALSE) -> 132 | Q7: 129 | R7: 165 | S7: 165 | T7: 180 | U7: 126 | V7: 131 | W7: =IFERROR(VLOOKUP(C7,Hoja23!A:H,8,FALSE),"") -> 146 | X7: =+COUNT(S7:W7)*15+Z7 -> 75 | Y7: =+SUM(S7:X7) -> 823 | AA7: =MAX(S7:W7) -> 180 | AB7: =SUM(D7:W7) -> 2370
A8: 3 | B8: 29736242W | C8: SÁNCHEZ FARACO, JAIME | D8: 180 | E8: 155 | F8: 117 | G8: =VLOOKUP(C8,Hoja4!B:C,2,FALSE) -> 180 | H8: =VLOOKUP(C8,Hoja3!A:B,2,FALSE) -> 114 | I8: 132 | J8: 155 | K8: =VLOOKUP(C8,Hoja10!A:B,2,FALSE) -> 144 | L8: =VLOOKUP(C8,Hoja11!A:B,2,FALSE) -> 165 | M8: =VLOOKUP(C8,Hoja12!A:B,2,FALSE) -> 180 | N8: =VLOOKUP(C8,Hoja13!A:B,2,FALSE) -> 165 | O8: 155 | P8: =VLOOKUP(C8,Hoja15!A:B,2,FALSE) -> 155 | Q8: 130 | R8: 146 | S8: 180 | T8: 129 | U8: 144 | V8: 109 | W8: =IFERROR(VLOOKUP(C8,Hoja23!A:H,8,FALSE),"") -> 155 | X8: =+COUNT(S8:W8)*15+Z8 -> 75 | Y8: =+SUM(S8:X8) -> 792 | AA8: =MAX(S8:W8) -> 180 | AB8: =SUM(D8:W8) -> 2990
A9: 4 | B9: 28668899C | C9: GONZÁLEZ CASTRILLO, MANUEL JESÚS | D9: 165 | E9: 165 | F9: 105 | G9: =VLOOKUP(C9,Hoja4!B:C,2,FALSE) -> 127 | H9: =VLOOKUP(C9,Hoja3!A:B,2,FALSE) -> 155 | I9: 131 | J9: 114 | K9: =VLOOKUP(C9,Hoja10!A:B,2,FALSE) -> 132 | L9: =VLOOKUP(C9,Hoja11!A:B,2,FALSE) -> 109 | M9: =VLOOKUP(C9,Hoja12!A:B,2,FALSE) -> 129 | N9: =VLOOKUP(C9,Hoja13!A:B,2,FALSE) -> 132 | O9: 155 | P9: =VLOOKUP(C9,Hoja15!A:B,2,FALSE) -> 140 | Q9: 165 | R9: 155 | S9: 113 | T9: 131 | U9: 142 | V9: 165 | W9: =IFERROR(VLOOKUP(C9,Hoja23!A:H,8,FALSE),"") -> 165 | X9: =+COUNT(S9:W9)*15+Z9 -> 75 | Y9: =+SUM(S9:X9) -> 791 | AA9: =MAX(S9:W9) -> 165 | AB9: =SUM(D9:W9) -> 2795
A10: 5 | C10: SOUSA LÓPEZ, MANUEL | D10: 144 | E10: 155 | F10: 130 | G10: =VLOOKUP(C10,Hoja4!B:C,2,FALSE) -> 130 | H10: =VLOOKUP(C10,Hoja3!A:B,2,FALSE) -> 112 | I10: 128 | J10: 144 | K10: =VLOOKUP(C10,Hoja10!A:B,2,FALSE) -> 130 | L10: =VLOOKUP(C10,Hoja11!A:B,2,FALSE) -> 118 | M10: =VLOOKUP(C10,Hoja12!A:B,2,FALSE) -> 132 | N10: =VLOOKUP(C10,Hoja13!A:B,2,FALSE) -> 155 | O10: 130 | P10: =VLOOKUP(C10,Hoja15!A:B,2,FALSE) -> 129 | Q10: 180 | R10: 142 | S10: 155 | T10: 165 | U10: 127 | V10: 118 | W10: =IFERROR(VLOOKUP(C10,Hoja23!A:H,8,FALSE),"") -> 144 | X10: =+COUNT(S10:W10)*15+Z10 -> 75 | Y10: =+SUM(S10:X10) -> 784 | AA10: =MAX(S10:W10) -> 165 | AB10: =SUM(D10:W10) -> 2768
A11: 6 | C11: MARTÍN SALAS, JOSÉ | D11: 155 | E11: 117 | F11: 127 | G11: =VLOOKUP(C11,Hoja4!B:C,2,FALSE) -> 155 | H11: =VLOOKUP(C11,Hoja3!A:B,2,FALSE) -> 116 | I11: 140 | J11: 142 | L11: =VLOOKUP(C11,Hoja11!A:B,2,FALSE) -> 132 | N11: =VLOOKUP(C11,Hoja13!A:B,2,FALSE) -> 92 | O11: 128 | P11: =VLOOKUP(C11,Hoja15!A:B,2,FALSE) -> 131 | R11: 144 | S11: 142 | T11: 144 | U11: 165 | V11: 106 | W11: =IFERROR(VLOOKUP(C11,Hoja23!A:H,8,FALSE),"") -> 130 | X11: =+COUNT(S11:W11)*15+Z11 -> 75 | Y11: =+SUM(S11:X11) -> 762 | AA11: =MAX(S11:W11) -> 165 | AB11: =SUM(D11:W11) -> 2266
A12: 7 | B12: 29492239Y | C12: CAMACHO ESPINA, JOSÉ ANTONIO | D12: 132 | E12: 112 | F12: 146 | G12: =VLOOKUP(C12,Hoja4!B:C,2,FALSE) -> 114 | H12: =VLOOKUP(C12,Hoja3!A:B,2,FALSE) -> 129 | I12: 142 | J12: 116 | K12: =VLOOKUP(C12,Hoja10!A:B,2,FALSE) -> 118 | L12: =VLOOKUP(C12,Hoja11!A:B,2,FALSE) -> 146 | M12: =VLOOKUP(C12,Hoja12!A:B,2,FALSE) -> 131 | N12: 146 | O12: 165 | P12: =VLOOKUP(C12,Hoja15!A:B,2,FALSE) -> 144 | Q12: 127 | R12: 132 | S12: 131 | T12: 155 | U12: 115 | V12: 146 | W12: =IFERROR(VLOOKUP(C12,Hoja23!A:H,8,FALSE),"") -> 140 | X12: =+COUNT(S12:W12)*15+Z12 -> 75 | Y12: =+SUM(S12:X12) -> 762 | AA12: =MAX(S12:W12) -> 155 | AB12: =SUM(D12:W12) -> 2687
A13: 8 | B13: 75536381B | C13: RODRÍGUEZ DOMÍNGUEZ, FRANCISCO J. | E13: 108 | F13: 116 | G13: =VLOOKUP(C13,Hoja4!B:C,2,FALSE) -> 129 | H13: =VLOOKUP(C13,Hoja3!A:B,2,FALSE) -> 130 | I13: 114 | J13: 155 | K13: =VLOOKUP(C13,Hoja10!A:B,2,FALSE) -> 155 | L13: =VLOOKUP(C13,Hoja11!A:B,2,FALSE) -> 127 | M13: =VLOOKUP(C13,Hoja12!A:B,2,FALSE) -> 155 | N13: =VLOOKUP(C13,Hoja13!A:B,2,FALSE) -> 180 | O13: 144 | P13: =VLOOKUP(C13,Hoja15!A:B,2,FALSE) -> 180 | Q13: 155 | R13: 127 | S13: 155 | T13: 132 | U13: 146 | V13: 113 | W13: =IFERROR(VLOOKUP(C13,Hoja23!A:H,8,FALSE),"") -> 132 | X13: =+COUNT(S13:W13)*15+Z13 -> 75 | Y13: =+SUM(S13:X13) -> 753 | AA13: =MAX(S13:W13) -> 155 | AB13: =SUM(D13:W13) -> 2653
A14: 9 | B14: 29746898D | C14: KOFOED, PER | D14: 131 | E14: 146 | F14: 131 | G14: =VLOOKUP(C14,Hoja4!B:C,2,FALSE) -> 131 | H14: =VLOOKUP(C14,Hoja3!A:B,2,FALSE) -> 142 | I14: 146 | J14: 129 | K14: =VLOOKUP(C14,Hoja10!A:B,2,FALSE) -> 131 | L14: =VLOOKUP(C14,Hoja11!A:B,2,FALSE) -> 140 | M14: =VLOOKUP(C14,Hoja12!A:B,2,FALSE) -> 125 | N14: =VLOOKUP(C14,Hoja13!A:B,2,FALSE) -> 127 | O14: 142 | P14: =VLOOKUP(C14,Hoja15!A:B,2,FALSE) -> 165 | Q14: 146 | R14: 126 | S14: 140 | T14: 130 | U14: 140 | V14: 155 | W14: =IFERROR(VLOOKUP(C14,Hoja23!A:H,8,FALSE),"") -> 113 | X14: =+COUNT(S14:W14)*15+Z14 -> 75 | Y14: =+SUM(S14:X14) -> 753 | AA14: =MAX(S14:W14) -> 155 | AB14: =SUM(D14:W14) -> 2736
A15: 10 | B15: 75528972P | C15: MARÍN GUERRERO, FELICIANO | D15: 113 | F15: 165 | G15: =VLOOKUP(C15,Hoja4!B:C,2,FALSE) -> 116 | H15: =VLOOKUP(C15,Hoja3!A:B,2,FALSE) -> 125 | I15: 127 | J15: 140 | K15: =VLOOKUP(C15,Hoja10!A:B,2,FALSE) -> 115 | L15: =VLOOKUP(C15,Hoja11!A:B,2,FALSE) -> 155 | M15: =VLOOKUP(C15,Hoja12!A:B,2,FALSE) -> 114 | N15: =VLOOKUP(C15,Hoja13!A:B,2,FALSE) -> 130 | O15: 146 | P15: =VLOOKUP(C15,Hoja15!A:B,2,FALSE) -> 142 | Q15: 132 | R15: 180 | S15: 111 | T15: 140 | U15: 155 | V15: 117 | W15: =IFERROR(VLOOKUP(C15,Hoja23!A:H,8,FALSE),"") -> 142 | X15: =+COUNT(S15:W15)*15+Z15 -> 75 | Y15: =+SUM(S15:X15) -> 740 | AA15: =MAX(S15:W15) -> 155 | AB15: =SUM(D15:W15) -> 2565
A16: 11 | C16: CANO LÓPEZ, PABLO | D16: 116 | E16: 127 | F16: 115 | G16: =VLOOKUP(C16,Hoja4!B:C,2,FALSE) -> 132 | H16: =VLOOKUP(C16,Hoja3!A:B,2,FALSE) -> 140 | I16: 155 | J16: 146 | K16: =VLOOKUP(C16,Hoja10!A:B,2,FALSE) -> 146 | L16: =VLOOKUP(C16,Hoja11!A:B,2,FALSE) -> 155 | M16: =VLOOKUP(C16,Hoja12!A:B,2,FALSE) -> 118 | N16: =VLOOKUP(C16,Hoja13!A:B,2,FALSE) -> 126 | O16: 140 | P16: =VLOOKUP(C16,Hoja15!A:B,2,FALSE) -> 116 | Q16: 106 | R16: 140 | S16: 117 | T16: 155 | U16: 128 | V16: 129 | W16: =IFERROR(VLOOKUP(C16,Hoja23!A:H,8,FALSE),"") -> 125 | X16: =+COUNT(S16:W16)*15+Z16 -> 75 | Y16: =+SUM(S16:X16) -> 729 | AA16: =MAX(S16:W16) -> 155 | AB16: =SUM(D16:W16) -> 2632
A17: 12 | B17: 29784957A | C17: GONZÁLEZ CALLE, JOSÉ RAMÓN | D17: 140 | E17: 114 | F17: 118 | G17: =VLOOKUP(C17,Hoja4!B:C,2,FALSE) -> 144 | H17: =VLOOKUP(C17,Hoja3!A:B,2,FALSE) -> 144 | I17: 118 | J17: 128 | K17: =VLOOKUP(C17,Hoja10!A:B,2,FALSE) -> 128 | L17: =VLOOKUP(C17,Hoja11!A:B,2,FALSE) -> 129 | M17: =VLOOKUP(C17,Hoja12!A:B,2,FALSE) -> 146 | N17: 140 | O17: 125 | P17: =VLOOKUP(C17,Hoja15!A:B,2,FALSE) -> 127 | Q17: 118 | R17: 118 | S17: 132 | T17: 125 | U17: 117 | V17: 130 | W17: =IFERROR(VLOOKUP(C17,Hoja23!A:H,8,FALSE),"") -> 126 | X17: =+COUNT(S17:W17)*15+Z17 -> 75 | Y17: =+SUM(S17:X17) -> 705 | AA17: =MAX(S17:W17) -> 132 | AB17: =SUM(D17:W17) -> 2567
A18: 13 | C18: DOMINGO CRESPO, JOSÉ MANUEL | D18: 108 | E18: 95 | F18: 128 | G18: =VLOOKUP(C18,Hoja4!B:C,2,FALSE) -> 128 | H18: =VLOOKUP(C18,Hoja3!A:B,2,FALSE) -> 132 | I18: 130 | J18: 109 | K18: =VLOOKUP(C18,Hoja10!A:B,2,FALSE) -> 111 | L18: =VLOOKUP(C18,Hoja11!A:B,2,FALSE) -> 126 | M18: =VLOOKUP(C18,Hoja12!A:B,2,FALSE) -> 109 | N18: =VLOOKUP(C18,Hoja13!A:B,2,FALSE) -> 114 | O18: 129 | P18: =VLOOKUP(C18,Hoja15!A:B,2,FALSE) -> 155 | Q18: 112 | R18: 130 | S18: 127 | T18: 126 | U18: 104 | V18: 155 | W18: =IFERROR(VLOOKUP(C18,Hoja23!A:H,8,FALSE),"") -> 112 | X18: =+COUNT(S18:W18)*15+Z18 -> 75 | Y18: =+SUM(S18:X18) -> 699 | AA18: =MAX(S18:W18) -> 155 | AB18: =SUM(D18:W18) -> 2440
A19: 14 | C19: MORALES MARTÍNEZ, GREGORIO | F19: 140 | H19: =VLOOKUP(C19,Hoja3!A:B,2,FALSE) -> 92 | I19: 95 | L19: =VLOOKUP(C19,Hoja11!A:B,2,FALSE) -> 125 | M19: =VLOOKUP(C19,Hoja12!A:B,2,FALSE) -> 142 | N19: =VLOOKUP(C19,Hoja13!A:B,2,FALSE) -> 129 | O19: 57 | P19: =VLOOKUP(C19,Hoja15!A:B,2,FALSE) -> 112 | Q19: 89 | R19: 116 | S19: 146 | T19: 90 | U19: 118 | V19: 144 | W19: =IFERROR(VLOOKUP(C19,Hoja23!A:H,8,FALSE),"") -> 118 | X19: =+COUNT(S19:W19)*15+Z19 -> 75 | Y19: =+SUM(S19:X19) -> 691 | AA19: =MAX(S19:W19) -> 146 | AB19: =SUM(D19:W19) -> 1713
A20: 15 | B20: 75399370B | C20: RAMÍREZ BARROSO, FRANCISCO J. | M20: =VLOOKUP(C20,Hoja12!A:B,2,FALSE) -> 115 | N20: =VLOOKUP(C20,Hoja13!A:B,2,FALSE) -> 128 | O20: 72 | P20: =VLOOKUP(C20,Hoja15!A:B,2,FALSE) -> 118 | Q20: 140 | R20: 155 | S20: 109 | T20: 127 | U20: 129 | V20: 115 | W20: =IFERROR(VLOOKUP(C20,Hoja23!A:H,8,FALSE),"") -> 128 | X20: =+COUNT(S20:W20)*15+Z20 -> 75 | Y20: =+SUM(S20:X20) -> 683 | AA20: =MAX(S20:W20) -> 129 | AB20: =SUM(D20:W20) -> 1336
A21: 16 | B21: 75412420C | C21: CAMACHO DÍAZ, JOSÉ LUIS | D21: 155 | E21: 132 | F21: 142 | G21: =VLOOKUP(C21,Hoja4!B:C,2,FALSE) -> 142 | H21: =VLOOKUP(C21,Hoja3!A:B,2,FALSE) -> 111 | I21: 117 | J21: 125 | K21: =VLOOKUP(C21,Hoja10!A:B,2,FALSE) -> 142 | L21: =VLOOKUP(C21,Hoja11!A:B,2,FALSE) -> 130 | M21: =VLOOKUP(C21,Hoja12!A:B,2,FALSE) -> 144 | N21: =VLOOKUP(C21,Hoja13!A:B,2,FALSE) -> 155 | O21: 132 | P21: =VLOOKUP(C21,Hoja15!A:B,2,FALSE) -> 126 | Q21: 144 | R21: 131 | S21: 115 | T21: 116 | U21: 131 | V21: 114 | W21: =IFERROR(VLOOKUP(C21,Hoja23!A:H,8,FALSE),"") -> 117 | X21: =+COUNT(S21:W21)*15+Z21 -> 75 | Y21: =+SUM(S21:X21) -> 668 | AA21: =MAX(S21:W21) -> 131 | AB21: =SUM(D21:W21) -> 2621
A22: 17 | B22: 52298597R | C22: ANTONIO VERA, DOMINGO J. | D22: 125 | F22: 49 | G22: =VLOOKUP(C22,Hoja4!B:C,2,FALSE) -> 93 | H22: =VLOOKUP(C22,Hoja3!A:B,2,FALSE) -> 65 | I22: 111 | L22: =VLOOKUP(C22,Hoja11!A:B,2,FALSE) -> 94 | N22: 144 | O22: 70 | P22: =VLOOKUP(C22,Hoja15!A:B,2,FALSE) -> 71 | Q22: 125 | R22: 117 | S22: 129 | T22: 85 | U22: 108 | V22: 111 | W22: =IFERROR(VLOOKUP(C22,Hoja23!A:H,8,FALSE),"") -> 155 | X22: =+COUNT(S22:W22)*15+Z22 -> 75 | Y22: =+SUM(S22:X22) -> 663 | AA22: =MAX(S22:W22) -> 155 | AB22: =SUM(D22:W22) -> 1652
A23: 18 | C23: DADDETTA, JOSÉ NESTOR | D23: 103 | E23: 118 | F23: 104 | G23: =VLOOKUP(C23,Hoja4!B:C,2,FALSE) -> 110 | H23: =VLOOKUP(C23,Hoja3!A:B,2,FALSE) -> 105 | I23: 107 | J23: 93 | K23: =VLOOKUP(C23,Hoja10!A:B,2,FALSE) -> 110 | L23: =VLOOKUP(C23,Hoja11!A:B,2,FALSE) -> 80 | M23: =VLOOKUP(C23,Hoja12!A:B,2,FALSE) -> 80 | N23: =VLOOKUP(C23,Hoja13!A:B,2,FALSE) -> 87 | O23: 127 | P23: =VLOOKUP(C23,Hoja15!A:B,2,FALSE) -> 110 | Q23: 113 | R23: 89 | S23: 114 | T23: 108 | U23: 110 | V23: 127 | W23: =IFERROR(VLOOKUP(C23,Hoja23!A:H,8,FALSE),"") -> 127 | X23: =+COUNT(S23:W23)*15+Z23 -> 75 | Y23: =+SUM(S23:X23) -> 661 | AA23: =MAX(S23:W23) -> 127 | AB23: =SUM(D23:W23) -> 2122
A24: 19 | B24: 29473376A | C24: LAZO BLANCO, JOSÉ | F24: 109 | G24: =VLOOKUP(C24,Hoja4!B:C,2,FALSE) -> 95 | H24: =VLOOKUP(C24,Hoja3!A:B,2,FALSE) -> 131 | I24: 109 | L24: =VLOOKUP(C24,Hoja11!A:B,2,FALSE) -> 110 | M24: =VLOOKUP(C24,Hoja12!A:B,2,FALSE) -> 94 | N24: =VLOOKUP(C24,Hoja13!A:B,2,FALSE) -> 131 | O24: 67 | P24: =VLOOKUP(C24,Hoja15!A:B,2,FALSE) -> 117 | R24: 112 | S24: 130 | T24: 117 | U24: 130 | V24: 90 | W24: =IFERROR(VLOOKUP(C24,Hoja23!A:H,8,FALSE),"") -> 115 | X24: =+COUNT(S24:W24)*15+Z24 -> 75 | Y24: =+SUM(S24:X24) -> 657 | AA24: =MAX(S24:W24) -> 130 | AB24: =SUM(D24:W24) -> 1657
A25: 20 | B25: 75526957V | C25: FERNÁNDEZ MORALES, RICHARD | Q25: 128 | R25: 93 | S25: 87 | T25: 128 | U25: 125 | V25: 110 | W25: =IFERROR(VLOOKUP(C25,Hoja23!A:H,8,FALSE),"") -> 129 | X25: =+COUNT(S25:W25)*15+Z25 -> 75 | Y25: =+SUM(S25:X25) -> 654 | AA25: =MAX(S25:W25) -> 129 | AB25: =SUM(D25:W25) -> 800
A26: 21 | B26: 29765004Z | C26: GONZÁLEZ RODRÍGUEZ, DIEGO | D26: 112 | E26: 109 | F26: 84 | G26: =VLOOKUP(C26,Hoja4!B:C,2,FALSE) -> 91 | H26: =VLOOKUP(C26,Hoja3!A:B,2,FALSE) -> 108 | I26: 106 | J26: 118 | K26: =VLOOKUP(C26,Hoja10!A:B,2,FALSE) -> 112 | L26: =VLOOKUP(C26,Hoja11!A:B,2,FALSE) -> 142 | M26: =VLOOKUP(C26,Hoja12!A:B,2,FALSE) -> 108 | N26: =VLOOKUP(C26,Hoja13!A:B,2,FALSE) -> 107 | O26: 131 | P26: =VLOOKUP(C26,Hoja15!A:B,2,FALSE) -> 114 | Q26: 108 | R26: 108 | S26: 125 | T26: 111 | U26: 113 | V26: 140 | W26: =IFERROR(VLOOKUP(C26,Hoja23!A:H,8,FALSE),"") -> 80 | X26: =+COUNT(S26:W26)*15+Z26 -> 60 | Y26: =+SUM(S26:X26) -> 629 | Z26: -15 | AA26: =MAX(S26:W26) -> 140 | AB26: =SUM(D26:W26) -> 2227
A27: 22 | B27: 24792531A | C27: CONTRERAS ROMERO, JUAN | D27: 69 | E27: 68 | F27: 71 | G27: =VLOOKUP(C27,Hoja4!B:C,2,FALSE) -> 86 | H27: =VLOOKUP(C27,Hoja3!A:B,2,FALSE) -> 85 | I27: 108 | L27: =VLOOKUP(C27,Hoja11!A:B,2,FALSE) -> 66 | N27: =VLOOKUP(C27,Hoja13!A:B,2,FALSE) -> 112 | O27: 42 | P27: =VLOOKUP(C27,Hoja15!A:B,2,FALSE) -> 130 | Q27: 57 | R27: 105 | S27: 103 | T27: 114 | U27: 112 | V27: 128 | W27: =IFERROR(VLOOKUP(C27,Hoja23!A:H,8,FALSE),"") -> 89 | X27: =+COUNT(S27:W27)*15+Z27 -> 75 | Y27: =+SUM(S27:X27) -> 621 | AA27: =MAX(S27:W27) -> 128 | AB27: =SUM(D27:W27) -> 1545
A28: 23 | C28: GARCÍA MARTÍNEZ, CRISTÓBAL | D28: 95 | E28: 113 | F28: 87 | G28: =VLOOKUP(C28,Hoja4!B:C,2,FALSE) -> 108 | H28: =VLOOKUP(C28,Hoja3!A:B,2,FALSE) -> 95 | I28: 104 | J28: 95 | K28: =VLOOKUP(C28,Hoja10!A:B,2,FALSE) -> 113 | L28: =VLOOKUP(C28,Hoja11!A:B,2,FALSE) -> 115 | M28: =VLOOKUP(C28,Hoja12!A:B,2,FALSE) -> 126 | N28: =VLOOKUP(C28,Hoja13!A:B,2,FALSE) -> 110 | O28: 106 | P28: =VLOOKUP(C28,Hoja15!A:B,2,FALSE) -> 113 | Q28: 105 | R28: 115 | S28: 84 | T28: 104 | U28: 132 | V28: 103 | W28: =IFERROR(VLOOKUP(C28,Hoja23!A:H,8,FALSE),"") -> 106 | X28: =+COUNT(S28:W28)*15+Z28 -> 75 | Y28: =+SUM(S28:X28) -> 604 | AA28: =MAX(S28:W28) -> 132 | AB28: =SUM(D28:W28) -> 2129
A29: 24 | B29: 22449098V | C29: STAND URIBE, JOSÉ ANTONIO | D29: 88 | E29: 71 | F29: 110 | G29: =VLOOKUP(C29,Hoja4!B:C,2,FALSE) -> 92 | H29: =VLOOKUP(C29,Hoja3!A:B,2,FALSE) -> 109 | I29: 116 | J29: 90 | K29: =VLOOKUP(C29,Hoja10!A:B,2,FALSE) -> 125 | L29: =VLOOKUP(C29,Hoja11!A:B,2,FALSE) -> 112 | M29: =VLOOKUP(C29,Hoja12!A:B,2,FALSE) -> 103 | P29: =VLOOKUP(C29,Hoja15!A:B,2,FALSE) -> 109 | Q29: 67 | R29: 63 | S29: 116 | T29: 105 | U29: 114 | V29: 83 | W29: =IFERROR(VLOOKUP(C29,Hoja23!A:H,8,FALSE),"") -> 108 | X29: =+COUNT(S29:W29)*15+Z29 -> 75 | Y29: =+SUM(S29:X29) -> 601 | AA29: =MAX(S29:W29) -> 116 | AB29: =SUM(D29:W29) -> 1781
A30: 25 | B30: 75569065N | C30: RODRÍGUEZ MARTÍN, FERNANDO | D30: 87 | E30: 93 | G30: =VLOOKUP(C30,Hoja4!B:C,2,FALSE) -> 111 | H30: =VLOOKUP(C30,Hoja3!A:B,2,FALSE) -> 86 | I30: 58 | K30: 104 | L30: =VLOOKUP(C30,Hoja11!A:B,2,FALSE) -> 116 | M30: =VLOOKUP(C30,Hoja12!A:B,2,FALSE) -> 103 | N30: =VLOOKUP(C30,Hoja13!A:B,2,FALSE) -> 95 | O30: 86 | P30: =VLOOKUP(C30,Hoja15!A:B,2,FALSE) -> 104 | Q30: 90 | R30: 90 | S30: 126 | T30: 103 | U30: 109 | V30: 92 | W30: =IFERROR(VLOOKUP(C30,Hoja23!A:H,8,FALSE),"") -> 92 | X30: =+COUNT(S30:W30)*15+Z30 -> 75 | Y30: =+SUM(S30:X30) -> 597 | AA30: =MAX(S30:W30) -> 126 | AB30: =SUM(D30:W30) -> 1745
A31: 26 | B31: 77153101S | C31: GARCÍA ARIAS, FRANCISCO J. | D31: 93 | E31: 126 | F31: 107 | G31: =VLOOKUP(C31,Hoja4!B:C,2,FALSE) -> 83 | H31: =VLOOKUP(C31,Hoja3!A:B,2,FALSE) -> 117 | I31: 105 | J31: 80 | K31: =VLOOKUP(C31,Hoja10!A:B,2,FALSE) -> 94 | L31: =VLOOKUP(C31,Hoja11!A:B,2,FALSE) -> 95 | M31: =VLOOKUP(C31,Hoja12!A:B,2,FALSE) -> 112 | N31: =VLOOKUP(C31,Hoja13!A:B,2,FALSE) -> 104 | O31: 117 | P31: =VLOOKUP(C31,Hoja15!A:B,2,FALSE) -> 125 | Q31: 131 | R31: 125 | S31: 118 | T31: 115 | U31: 107 | V31: 108 | W31: =IFERROR(VLOOKUP(C31,Hoja23!A:H,8,FALSE),"") -> 80 | X31: =+COUNT(S31:W31)*15+Z31 -> 60 | Y31: =+SUM(S31:X31) -> 588 | Z31: -15 | AA31: =MAX(S31:W31) -> 118 | AB31: =SUM(D31:W31) -> 2142
A32: 27 | B32: 28851604J | C32: DÍAZ RODRÍGUEZ, JUAN MARÍA | D32: 64 | E32: 65 | F32: 68 | G32: =VLOOKUP(C32,Hoja4!B:C,2,FALSE) -> 90 | H32: =VLOOKUP(C32,Hoja3!A:B,2,FALSE) -> 107 | I32: 63 | J32: 91 | K32: =VLOOKUP(C32,Hoja10!A:B,2,FALSE) -> 88 | L32: =VLOOKUP(C32,Hoja11!A:B,2,FALSE) -> 91 | N32: =VLOOKUP(C32,Hoja13!A:B,2,FALSE) -> 118 | O32: 87 | P32: =VLOOKUP(C32,Hoja15!A:B,2,FALSE) -> 111 | Q32: 63 | R32: 104 | S32: 106 | T32: 92 | U32: 81 | V32: 87 | W32: =IFERROR(VLOOKUP(C32,Hoja23!A:H,8,FALSE),"") -> 114 | X32: =+COUNT(S32:W32)*15+Z32 -> 75 | Y32: =+SUM(S32:X32) -> 555 | AA32: =MAX(S32:W32) -> 114 | AB32: =SUM(D32:W32) -> 1690
A33: 28 | C33: TORRES PULIDO, EMILIO JOSÉ | D33: 111 | E33: 104 | F33: 94 | G33: =VLOOKUP(C33,Hoja4!B:C,2,FALSE) -> 82 | H33: =VLOOKUP(C33,Hoja3!A:B,2,FALSE) -> 104 | I33: 126 | J33: 89 | K33: =VLOOKUP(C33,Hoja10!A:B,2,FALSE) -> 105 | L33: =VLOOKUP(C33,Hoja11!A:B,2,FALSE) -> 111 | M33: =VLOOKUP(C33,Hoja12!A:B,2,FALSE) -> 128 | N33: =VLOOKUP(C33,Hoja13!A:B,2,FALSE) -> 109 | O33: 118 | P33: =VLOOKUP(C33,Hoja15!A:B,2,FALSE) -> 115 | Q33: 115 | R33: 128 | S33: 105 | T33: 80 | U33: 91 | V33: 107 | W33: =IFERROR(VLOOKUP(C33,Hoja23!A:H,8,FALSE),"") -> 111 | X33: =+COUNT(S33:W33)*15+Z33 -> 60 | Y33: =+SUM(S33:X33) -> 554 | Z33: -15 | AA33: =MAX(S33:W33) -> 111 | AB33: =SUM(D33:W33) -> 2133
A34: 29 | B34: 32009587G | C34: MARTÍN INFANTES, ANTONIO JOSÉ | D34: 118 | E34: 130 | F34: 113 | G34: =VLOOKUP(C34,Hoja4!B:C,2,FALSE) -> 113 | H34: =VLOOKUP(C34,Hoja3!A:B,2,FALSE) -> 113 | I34: 91 | J34: 106 | K34: =VLOOKUP(C34,Hoja10!A:B,2,FALSE) -> 127 | L34: =VLOOKUP(C34,Hoja11!A:B,2,FALSE) -> 106 | N34: =VLOOKUP(C34,Hoja13!A:B,2,FALSE) -> 85 | O34: 91 | P34: =VLOOKUP(C34,Hoja15!A:B,2,FALSE) -> 86 | Q34: 70 | R34: 106 | S34: 108 | T34: 87 | U34: 93 | V34: 88 | W34: =IFERROR(VLOOKUP(C34,Hoja23!A:H,8,FALSE),"") -> 90 | X34: =+COUNT(S34:W34)*15+Z34 -> 75 | Y34: =+SUM(S34:X34) -> 541 | AA34: =MAX(S34:W34) -> 108 | AB34: =SUM(D34:W34) -> 1921
A35: 30 | B35: 48925054Y | C35: PLANELLES MONERRIS, ANTONIO DE LOS REYES | D35: 91 | E35: 91 | F35: 106 | G35: =VLOOKUP(C35,Hoja4!B:C,2,FALSE) -> 104 | H35: =VLOOKUP(C35,Hoja3!A:B,2,FALSE) -> 127 | I35: 113 | J35: 94 | K35: 103 | L35: =VLOOKUP(C35,Hoja11!A:B,2,FALSE) -> 85 | M35: =VLOOKUP(C35,Hoja12!A:B,2,FALSE) -> 90 | N35: =VLOOKUP(C35,Hoja13!A:B,2,FALSE) -> 91 | O35: 108 | P35: =VLOOKUP(C35,Hoja15!A:B,2,FALSE) -> 95 | Q35: 104 | R35: 80 | S35: 107 | T35: 84 | U35: 83 | V35: 104 | W35: =IFERROR(VLOOKUP(C35,Hoja23!A:H,8,FALSE),"") -> 86 | X35: =+COUNT(S35:W35)*15+Z35 -> 75 | Y35: =+SUM(S35:X35) -> 539 | AA35: =MAX(S35:W35) -> 107 | AB35: =SUM(D35:W35) -> 1946
A36: 31 | B36: 75518363W | C36: TRUEBA SÁNCHEZ, JUAN CARLOS | D36: 65 | E36: 64 | F36: 62 | G36: =VLOOKUP(C36,Hoja4!B:C,2,FALSE) -> 117 | H36: =VLOOKUP(C36,Hoja3!A:B,2,FALSE) -> 88 | I36: 112 | J36: 113 | K36: =VLOOKUP(C36,Hoja10!A:B,2,FALSE) -> 106 | L36: =VLOOKUP(C36,Hoja11!A:B,2,FALSE) -> 105 | M36: =VLOOKUP(C36,Hoja12!A:B,2,FALSE) -> 89 | N36: =VLOOKUP(C36,Hoja13!A:B,2,FALSE) -> 86 | O36: 110 | P36: =VLOOKUP(C36,Hoja15!A:B,2,FALSE) -> 105 | Q36: 87 | R36: 92 | S36: 89 | T36: 93 | U36: 103 | V36: 82 | W36: =IFERROR(VLOOKUP(C36,Hoja23!A:H,8,FALSE),"") -> 94 | X36: =+COUNT(S36:W36)*15+Z36 -> 75 | Y36: =+SUM(S36:X36) -> 536 | AA36: =MAX(S36:W36) -> 103 | AB36: =SUM(D36:W36) -> 1862
A37: 32 | C37: GUTIÉRREZ SAMPEDRO, RAFAEL | D37: 115 | E37: 128 | G37: =VLOOKUP(C37,Hoja4!B:C,2,FALSE) -> 118 | H37: =VLOOKUP(C37,Hoja3!A:B,2,FALSE) -> 128 | I37: 115 | J37: 88 | K37: =VLOOKUP(C37,Hoja10!A:B,2,FALSE) -> 95 | M37: =VLOOKUP(C37,Hoja12!A:B,2,FALSE) -> 80 | O37: 71 | P37: 81 | Q37: 91 | R37: 94 | S37: 62 | T37: 94 | U37: 68 | V37: 126 | W37: =IFERROR(VLOOKUP(C37,Hoja23!A:H,8,FALSE),"") -> 110 | X37: =+COUNT(S37:W37)*15+Z37 -> 75 | Y37: =+SUM(S37:X37) -> 535 | AA37: =MAX(S37:W37) -> 126 | AB37: =SUM(D37:W37) -> 1664
A38: 33 | C38: DE LOS REYES JIMÉNEZ, JUAN ANTONIO | Q38: 49 | R38: 84 | T38: 142 | U38: 116 | V38: 116 | W38: =IFERROR(VLOOKUP(C38,Hoja23!A:H,8,FALSE),"") -> 93 | X38: =+COUNT(S38:W38)*15+Z38 -> 60 | Y38: =+SUM(S38:X38) -> 527 | AA38: =MAX(S38:W38) -> 142 | AB38: =SUM(D38:W38) -> 600
A39: 34 | C39: LOBILLO VILLALÓN, JOSÉ | D39: 68 | E39: 67 | F39: 85 | G39: =VLOOKUP(C39,Hoja4!B:C,2,FALSE) -> 85 | H39: =VLOOKUP(C39,Hoja3!A:B,2,FALSE) -> 103 | I39: 84 | J39: 110 | L39: =VLOOKUP(C39,Hoja11!A:B,2,FALSE) -> 113 | M39: =VLOOKUP(C39,Hoja12!A:B,2,FALSE) -> 88 | N39: =VLOOKUP(C39,Hoja13!A:B,2,FALSE) -> 82 | O39: 89 | P39: =VLOOKUP(C39,Hoja15!A:B,2,FALSE) -> 57 | Q39: 110 | R39: 83 | S39: 110 | T39: 91 | U39: 64 | V39: 67 | W39: =IFERROR(VLOOKUP(C39,Hoja23!A:H,8,FALSE),"") -> 91 | X39: =+COUNT(S39:W39)*15+Z39 -> 75 | Y39: =+SUM(S39:X39) -> 498 | AA39: =MAX(S39:W39) -> 110 | AB39: =SUM(D39:W39) -> 1647
A40: 35 | B40: 75363756R | C40: DOMÍNGUEZ CANO, JUAN | D40: 105 | F40: 48 | G40: =VLOOKUP(C40,Hoja4!B:C,2,FALSE) -> 63 | H40: =VLOOKUP(C40,Hoja3!A:B,2,FALSE) -> 90 | I40: 71 | J40: 117 | L40: =VLOOKUP(C40,Hoja11!A:B,2,FALSE) -> 103 | N40: =VLOOKUP(C40,Hoja13!A:B,2,FALSE) -> 113 | O40: 113 | P40: =VLOOKUP(C40,Hoja15!A:B,2,FALSE) -> 69 | R40: 86 | S40: 94 | T40: 112 | U40: 69 | V40: 57 | W40: =IFERROR(VLOOKUP(C40,Hoja23!A:H,8,FALSE),"") -> 105 | X40: =+COUNT(S40:W40)*15+Z40 -> 60 | Y40: =+SUM(S40:X40) -> 497 | Z40: -15 | AA40: =MAX(S40:W40) -> 112 | AB40: =SUM(D40:W40) -> 1415
A41: 36 | B41: 30002348K | C41: AMAYA FORTES, SALVADOR | E41: 48 | F41: 47 | K41: =VLOOKUP(C41,Hoja10!A:B,2,FALSE) -> 46 | L41: =VLOOKUP(C41,Hoja11!A:B,2,FALSE) -> 48 | M41: =VLOOKUP(C41,Hoja12!A:B,2,FALSE) -> 67 | N41: =VLOOKUP(C41,Hoja13!A:B,2,FALSE) -> 111 | O41: 69 | Q41: 88 | R41: 107 | S41: 90 | T41: 88 | U41: 90 | V41: 80 | W41: =IFERROR(VLOOKUP(C41,Hoja23!A:H,8,FALSE),"") -> 88 | X41: =+COUNT(S41:W41)*15+Z41 -> 60 | Y41: =+SUM(S41:X41) -> 496 | Z41: -15 | AA41: =MAX(S41:W41) -> 90 | AB41: =SUM(D41:W41) -> 1067
A42: 37 | B42: 06187184T | C42: GONZÁLEZ RODRÍGUEZ, ALEJANDRO ANTONIO | D42: 114 | E42: 116 | F42: 82 | G42: =VLOOKUP(C42,Hoja4!B:C,2,FALSE) -> 84 | H42: =VLOOKUP(C42,Hoja3!A:B,2,FALSE) -> 93 | I42: 80 | J42: 80 | L42: =VLOOKUP(C42,Hoja11!A:B,2,FALSE) -> 92 | M42: =VLOOKUP(C42,Hoja12!A:B,2,FALSE) -> 111 | N42: =VLOOKUP(C42,Hoja13!A:B,2,FALSE) -> 93 | P42: =VLOOKUP(C42,Hoja15!A:B,2,FALSE) -> 94 | Q42: 71 | R42: 62 | S42: 85 | T42: 71 | U42: 57 | V42: 71 | W42: =IFERROR(VLOOKUP(C42,Hoja23!A:H,8,FALSE),"") -> 116 | X42: =+COUNT(S42:W42)*15+Z42 -> 60 | Y42: =+SUM(S42:X42) -> 460 | Z42: -15 | AA42: =MAX(S42:W42) -> 116 | AB42: =SUM(D42:W42) -> 1572
A43: 38 | B43: 28561760S | C43: GÓMEZ PÉREZ, MANUEL | D43: 71 | E43: 86 | F43: 57 | G43: =VLOOKUP(C43,Hoja4!B:C,2,FALSE) -> 109 | I43: 88 | L43: =VLOOKUP(C43,Hoja11!A:B,2,FALSE) -> 108 | N43: =VLOOKUP(C43,Hoja13!A:B,2,FALSE) -> 60 | O43: 64 | P43: =VLOOKUP(C43,Hoja15!A:B,2,FALSE) -> 65 | Q43: 92 | R43: 59 | S43: 71 | T43: 81 | U43: 61 | V43: 66 | W43: =IFERROR(VLOOKUP(C43,Hoja23!A:H,8,FALSE),"") -> 103 | X43: =+COUNT(S43:W43)*15+Z43 -> 75 | Y43: =+SUM(S43:X43) -> 457 | AA43: =MAX(S43:W43) -> 103 | AB43: =SUM(D43:W43) -> 1241
A44: 39 | B44: 28885555A | C44: MUÑOZ MORENO, FRANCISCO | D44: 34 | E44: 70 | G44: =VLOOKUP(C44,Hoja4!B:C,2,FALSE) -> 80 | I44: 49 | J44: 130 | K44: =VLOOKUP(C44,Hoja10!A:B,2,FALSE) -> 114 | O44: 88 | Q44: 84 | R44: 61 | S44: 95 | T44: 72 | U44: 72 | V44: 70 | W44: =IFERROR(VLOOKUP(C44,Hoja23!A:H,8,FALSE),"") -> 72 | X44: =+COUNT(S44:W44)*15+Z44 -> 75 | Y44: =+SUM(S44:X44) -> 456 | AA44: =MAX(S44:W44) -> 95 | AB44: =SUM(D44:W44) -> 1091
A45: 40 | B45: 31294783V | C45: SEQUERA BARRERA, SEVERINO | D45: 61 | E45: 63 | F45: 91 | G45: =VLOOKUP(C45,Hoja4!B:C,2,FALSE) -> 67 | H45: =VLOOKUP(C45,Hoja3!A:B,2,FALSE) -> 60 | I45: 65 | J45: 64 | K45: =VLOOKUP(C45,Hoja10!A:B,2,FALSE) -> 81 | L45: =VLOOKUP(C45,Hoja11!A:B,2,FALSE) -> 81 | M45: =VLOOKUP(C45,Hoja12!A:B,2,FALSE) -> 113 | N45: =VLOOKUP(C45,Hoja13!A:B,2,FALSE) -> 81 | O45: 111 | P45: 80 | Q45: 83 | R45: 85 | S45: 83 | T45: 109 | U45: 57 | V45: 69 | W45: =IFERROR(VLOOKUP(C45,Hoja23!A:H,8,FALSE),"") -> 66 | X45: =+COUNT(S45:W45)*15+Z45 -> 60 | Y45: =+SUM(S45:X45) -> 444 | Z45: -15 | AA45: =MAX(S45:W45) -> 109 | AB45: =SUM(D45:W45) -> 1570
A46: 41 | B46: 24860582C | C46: MELERO MELERO, JUAN | Q46: 126 | R46: 44 | S46: 93 | T46: 69 | U46: 71 | V46: 57 | W46: =IFERROR(VLOOKUP(C46,Hoja23!A:H,8,FALSE),"") -> 71 | X46: =+COUNT(S46:W46)*15+Z46 -> 60 | Y46: =+SUM(S46:X46) -> 421 | Z46: -15 | AA46: =MAX(S46:W46) -> 93 | AB46: =SUM(D46:W46) -> 531
A47: 42 | B47: 52271032J | C47: VÁZQUEZ AGUILERA, JOSÉ ANTONIO | D47: 45 | E47: 61 | F47: 39 | G47: =VLOOKUP(C47,Hoja4!B:C,2,FALSE) -> 106 | H47: =VLOOKUP(C47,Hoja3!A:B,2,FALSE) -> 61 | I47: 60 | J47: 69 | K47: =VLOOKUP(C47,Hoja10!A:B,2,FALSE) -> 84 | L47: =VLOOKUP(C47,Hoja11!A:B,2,FALSE) -> 84 | M47: =VLOOKUP(C47,Hoja12!A:B,2,FALSE) -> 80 | N47: =VLOOKUP(C47,Hoja13!A:B,2,FALSE) -> 80 | O47: 85 | P47: 80 | Q47: 57 | R47: 95 | S47: 112 | T47: 57 | U47: 63 | V47: 64 | W47: =IFERROR(VLOOKUP(C47,Hoja23!A:H,8,FALSE),"") -> 63 | X47: =+COUNT(S47:W47)*15+Z47 -> 60 | Y47: =+SUM(S47:X47) -> 419 | Z47: -15 | AA47: =MAX(S47:W47) -> 112 | AB47: =SUM(D47:W47) -> 1445
A48: 43 | B48: 24778323D | C48: LÓPEZ CORREA, CARLOS EDUARDO | R48: 0 | S48: 82 | T48: 107 | U48: 62 | V48: 46 | W48: =IFERROR(VLOOKUP(C48,Hoja23!A:H,8,FALSE),"") -> 49 | X48: =+COUNT(S48:W48)*15+Z48 -> 60 | Y48: =+SUM(S48:X48) -> 406 | Z48: -15 | AA48: =MAX(S48:W48) -> 107 | AB48: =SUM(D48:W48) -> 346
A49: 44 | C49: SÁNCHEZ GUARDIA, ISIDRO | D49: 109 | E49: 80 | F49: 81 | G49: =VLOOKUP(C49,Hoja4!B:C,2,FALSE) -> 87 | H49: =VLOOKUP(C49,Hoja3!A:B,2,FALSE) -> 82 | I49: 57 | L49: =VLOOKUP(C49,Hoja11!A:B,2,FALSE) -> 67 | N49: =VLOOKUP(C49,Hoja13!A:B,2,FALSE) -> 46 | O49: 60 | P49: =VLOOKUP(C49,Hoja15!A:B,2,FALSE) -> 84 | Q49: 65 | R49: 66 | S49: 59 | T49: 63 | U49: 70 | V49: 68 | W49: =IFERROR(VLOOKUP(C49,Hoja23!A:H,8,FALSE),"") -> 68 | X49: =+COUNT(S49:W49)*15+Z49 -> 75 | Y49: =+SUM(S49:X49) -> 403 | AA49: =MAX(S49:W49) -> 70 | AB49: =SUM(D49:W49) -> 1212
A50: 45 | B50: X5145438Q | C50: COBO SORIANO, FRANCISCO JAVIER | D50: 70 | E50: 88 | G50: =VLOOKUP(C50,Hoja4!B:C,2,FALSE) -> 105 | I50: 68 | J50: 65 | K50: =VLOOKUP(C50,Hoja10!A:B,2,FALSE) -> 57 | M50: =VLOOKUP(C50,Hoja12!A:B,2,FALSE) -> 140 | N50: =VLOOKUP(C50,Hoja13!A:B,2,FALSE) -> 105 | O50: 104 | P50: =VLOOKUP(C50,Hoja15!A:B,2,FALSE) -> 87 | Q50: 116 | R50: 91 | S50: 104 | T50: 83 | U50: 106 | W50: =IFERROR(VLOOKUP(C50,Hoja23!A:H,8,FALSE),"") -> 57 | X50: =+COUNT(S50:W50)*15+Z50 -> 45 | Y50: =+SUM(S50:X50) -> 395 | Z50: -15 | AA50: =MAX(S50:W50) -> 106 | AB50: =SUM(D50:W50) -> 1446
A51: 46 | B51: 24173371A | C51: SÁNCHEZ GARCÍA, JUAN RAMÓN | D51: 67 | E51: 41 | F51: 93 | G51: =VLOOKUP(C51,Hoja4!B:C,2,FALSE) -> 49 | J51: 62 | K51: =VLOOKUP(C51,Hoja10!A:B,2,FALSE) -> 67 | L51: =VLOOKUP(C51,Hoja11!A:B,2,FALSE) -> 44 | M51: =VLOOKUP(C51,Hoja12!A:B,2,FALSE) -> 107 | N51: =VLOOKUP(C51,Hoja13!A:B,2,FALSE) -> 57 | O51: 81 | P51: =VLOOKUP(C51,Hoja15!A:B,2,FALSE) -> 88 | Q51: 60 | R51: 58 | S51: 92 | T51: 82 | U51: 60 | V51: 57 | W51: =IFERROR(VLOOKUP(C51,Hoja23!A:H,8,FALSE),"") -> 57 | X51: =+COUNT(S51:W51)*15+Z51 -> 45 | Y51: =+SUM(S51:X51) -> 393 | Z51: -30 | AA51: =MAX(S51:W51) -> 92 | AB51: =SUM(D51:W51) -> 1222
A52: 47 | C52: ORTIZ FERNÁNDEZ, JOSE LUIS | L52: 25 | N52: =VLOOKUP(C52,Hoja13!A:B,2,FALSE) -> 65 | P52: =VLOOKUP(C52,Hoja15!A:B,2,FALSE) -> 58 | Q52: 47 | R52: 65 | S52: 63 | T52: 113 | V52: 93 | W52: =IFERROR(VLOOKUP(C52,Hoja23!A:H,8,FALSE),"") -> 59 | X52: =+COUNT(S52:W52)*15+Z52 -> 60 | Y52: =+SUM(S52:X52) -> 388 | AA52: =MAX(S52:W52) -> 113 | AB52: =SUM(D52:W52) -> 588
A53: 48 | B53: 75628542B | C53: MORENO GUZMÁN, JUAN | D53: 62 | E53: 82 | F53: 61 | G53: =VLOOKUP(C53,Hoja4!B:C,2,FALSE) -> 58 | H53: =VLOOKUP(C53,Hoja3!A:B,2,FALSE) -> 81 | I53: 59 | J53: 61 | K53: =VLOOKUP(C53,Hoja10!A:B,2,FALSE) -> 68 | L53: =VLOOKUP(C53,Hoja11!A:B,2,FALSE) -> 62 | M53: =VLOOKUP(C53,Hoja12!A:B,2,FALSE) -> 86 | N53: =VLOOKUP(C53,Hoja13!A:B,2,FALSE) -> 84 | O53: 62 | P53: =VLOOKUP(C53,Hoja15!A:B,2,FALSE) -> 59 | Q53: 64 | R53: 82 | S53: 61 | T53: 58 | U53: 66 | V53: 63 | W53: =IFERROR(VLOOKUP(C53,Hoja23!A:H,8,FALSE),"") -> 64 | X53: =+COUNT(S53:W53)*15+Z53 -> 75 | Y53: =+SUM(S53:X53) -> 387 | AA53: =MAX(S53:W53) -> 66 | AB53: =SUM(D53:W53) -> 1343
A54: 49 | B54: 28897101Q | C54: ZARZA CALVO, JOSÉ LUIS | Q54: 41 | R54: 25 | S54: 49 | T54: 45 | U54: 42 | V54: 105 | W54: =IFERROR(VLOOKUP(C54,Hoja23!A:H,8,FALSE),"") -> 70 | X54: =+COUNT(S54:W54)*15+Z54 -> 75 | Y54: =+SUM(S54:X54) -> 386 | AA54: =MAX(S54:W54) -> 105 | AB54: =SUM(D54:W54) -> 377
A55: 50 | C55: CANO POYATO, MANUEL | D55: 92 | E55: 111 | G55: =VLOOKUP(C55,Hoja4!B:C,2,FALSE) -> 48 | I55: 66 | J55: 59 | L55: =VLOOKUP(C55,Hoja11!A:B,2,FALSE) -> 71 | N55: =VLOOKUP(C55,Hoja13!A:B,2,FALSE) -> 116 | P55: =VLOOKUP(C55,Hoja15!A:B,2,FALSE) -> 91 | R55: 70 | S55: 41 | T55: 61 | U55: 86 | V55: 39 | W55: =IFERROR(VLOOKUP(C55,Hoja23!A:H,8,FALSE),"") -> 84 | X55: =+COUNT(S55:W55)*15+Z55 -> 75 | Y55: =+SUM(S55:X55) -> 386 | AA55: =MAX(S55:W55) -> 86 | AB55: =SUM(D55:W55) -> 1035
A56: 51 | B56: 28299104L | C56: GÓMEZ RIBAYO, ANTONIO | E56: 66 | F56: 86 | J56: 48 | M56: =VLOOKUP(C56,Hoja12!A:B,2,FALSE) -> 127 | Q56: 111 | R56: 109 | S56: 65 | T56: 106 | V56: 57 | W56: =IFERROR(VLOOKUP(C56,Hoja23!A:H,8,FALSE),"") -> 107 | X56: =+COUNT(S56:W56)*15+Z56 -> 45 | Y56: =+SUM(S56:X56) -> 380 | Z56: -15 | AA56: =MAX(S56:W56) -> 107 | AB56: =SUM(D56:W56) -> 882
A57: 52 | B57: 75364503N | C57: GARCÍA GARCÍA, PATXI | E57: 60 | J57: 39 | K57: =VLOOKUP(C57,Hoja10!A:B,2,FALSE) -> 38 | L57: =VLOOKUP(C57,Hoja11!A:B,2,FALSE) -> 64 | M57: =VLOOKUP(C57,Hoja12!A:B,2,FALSE) -> 85 | N57: =VLOOKUP(C57,Hoja13!A:B,2,FALSE) -> 83 | O57: 109 | P57: =VLOOKUP(C57,Hoja15!A:B,2,FALSE) -> 61 | Q57: 62 | R57: 88 | S57: 80 | T57: 66 | U57: 105 | W57: =IFERROR(VLOOKUP(C57,Hoja23!A:H,8,FALSE),"") -> 67 | X57: =+COUNT(S57:W57)*15+Z57 -> 60 | Y57: =+SUM(S57:X57) -> 378 | AA57: =MAX(S57:W57) -> 105 | AB57: =SUM(D57:W57) -> 1007
A58: 53 | B58: 30063623R | C58: MUÑOZ DOBLAS, JOSÉ LUIS | J58: 70 | K58: =VLOOKUP(C58,Hoja10!A:B,2,FALSE) -> 155 | L58: =VLOOKUP(C58,Hoja11!A:B,2,FALSE) -> 49 | M58: =VLOOKUP(C58,Hoja12!A:B,2,FALSE) -> 92 | N58: =VLOOKUP(C58,Hoja13!A:B,2,FALSE) -> 94 | O58: 112 | P58: =VLOOKUP(C58,Hoja15!A:B,2,FALSE) -> 128 | Q58: 109 | R58: 111 | S58: 88 | U58: 67 | V58: 57 | W58: =IFERROR(VLOOKUP(C58,Hoja23!A:H,8,FALSE),"") -> 109 | X58: =+COUNT(S58:W58)*15+Z58 -> 45 | Y58: =+SUM(S58:X58) -> 366 | Z58: -15 | AA58: =MAX(S58:W58) -> 109 | AB58: =SUM(D58:W58) -> 1241
A59: 54 | B59: 44235255E | C59: DE LA HUERGA MENÉNDEZ, SERGIO | D59: 81 | F59: 108 | G59: =VLOOKUP(C59,Hoja4!B:C,2,FALSE) -> 72 | O59: 103 | Q59: 117 | R59: 67 | S59: 68 | T59: 70 | V59: 72 | W59: =IFERROR(VLOOKUP(C59,Hoja23!A:H,8,FALSE),"") -> 95 | X59: =+COUNT(S59:W59)*15+Z59 -> 60 | Y59: =+SUM(S59:X59) -> 365 | AA59: =MAX(S59:W59) -> 95 | AB59: =SUM(D59:W59) -> 853
A60: 55 | C60: COBRERO VALDERRAMA, MANUEL | G60: 64 | H60: 48 | I60: 62 | L60: =VLOOKUP(C60,Hoja11!A:B,2,FALSE) -> 68 | N60: =VLOOKUP(C60,Hoja13!A:B,2,FALSE) -> 43 | O60: 95 | Q60: 85 | S60: 67 | T60: 67 | U60: 84 | W60: =IFERROR(VLOOKUP(C60,Hoja23!A:H,8,FALSE),"") -> 82 | X60: =+COUNT(S60:W60)*15+Z60 -> 60 | Y60: =+SUM(S60:X60) -> 360 | AA60: =MAX(S60:W60) -> 84 | AB60: =SUM(D60:W60) -> 765
A61: 56 | B61: 29727218V | C61: CANO LÓPEZ, JOSÉ | F61: 67 | L61: =VLOOKUP(C61,Hoja11!A:B,2,FALSE) -> 25 | N61: =VLOOKUP(C61,Hoja13!A:B,2,FALSE) -> 35 | P61: =VLOOKUP(C61,Hoja15!A:B,2,FALSE) -> 40 | R61: 68 | T61: 110 | V61: 94 | W61: =IFERROR(VLOOKUP(C61,Hoja23!A:H,8,FALSE),"") -> 104 | X61: =+COUNT(S61:W61)*15+Z61 -> 45 | Y61: =+SUM(S61:X61) -> 353 | AA61: =MAX(S61:W61) -> 110 | AB61: =SUM(D61:W61) -> 543
A62: 57 | B62: 28353489D | C62: CARMONA MARTÍN, AGUSTÍN | D62: 89 | F62: 88 | G62: =VLOOKUP(C62,Hoja4!B:C,2,FALSE) -> 89 | H62: =VLOOKUP(C62,Hoja3!A:B,2,FALSE) -> 106 | I62: 89 | L62: =VLOOKUP(C62,Hoja11!A:B,2,FALSE) -> 128 | P62: =VLOOKUP(C62,Hoja15!A:B,2,FALSE) -> 68 | R62: 25 | T62: 68 | U62: 65 | V62: 86 | W62: =IFERROR(VLOOKUP(C62,Hoja23!A:H,8,FALSE),"") -> 69 | X62: =+COUNT(S62:W62)*15+Z62 -> 60 | Y62: =+SUM(S62:X62) -> 348 | AA62: =MAX(S62:W62) -> 86 | AB62: =SUM(D62:W62) -> 970
A63: 58 | B63: 28453999D | C63: MORENO RUIZ, GREGORIO | H63: =VLOOKUP(C63,Hoja3!A:B,2,FALSE) -> 66 | J63: 83 | K63: =VLOOKUP(C63,Hoja10!A:B,2,FALSE) -> 72 | L63: =VLOOKUP(C63,Hoja11!A:B,2,FALSE) -> 72 | M63: =VLOOKUP(C63,Hoja12!A:B,2,FALSE) -> 116 | N63: =VLOOKUP(C63,Hoja13!A:B,2,FALSE) -> 115 | O63: 126 | Q63: 94 | R63: 103 | T63: 118 | U63: 94 | W63: =IFERROR(VLOOKUP(C63,Hoja23!A:H,8,FALSE),"") -> 87 | X63: =+COUNT(S63:W63)*15+Z63 -> 45 | Y63: =+SUM(S63:X63) -> 344 | AA63: =MAX(S63:W63) -> 118 | AB63: =SUM(D63:W63) -> 1146
A64: 59 | B64: 34079418L | C64: RODRÍGUEZ LÓPEZ, FRANCISCO M. | P64: 46 | R64: 60 | S64: 48 | T64: 39 | U64: 92 | V64: 34 | W64: =IFERROR(VLOOKUP(C64,Hoja23!A:H,8,FALSE),"") -> 48 | X64: =+COUNT(S64:W64)*15+Z64 -> 75 | Y64: =+SUM(S64:X64) -> 336 | AA64: =MAX(S64:W64) -> 92 | AB64: =SUM(D64:W64) -> 367
A65: 60 | B65: 75547307N | C65: RAMÍREZ DEL VALLE, JOSÉ LUIS | D65: 80 | E65: 40 | F65: 63 | G65: =VLOOKUP(C65,Hoja4!B:C,2,FALSE) -> 40 | H65: =VLOOKUP(C65,Hoja3!A:B,2,FALSE) -> 68 | I65: 39 | J65: 57 | L65: =VLOOKUP(C65,Hoja11!A:B,2,FALSE) -> 57 | N65: =VLOOKUP(C65,Hoja13!A:B,2,FALSE) -> 61 | O65: 39 | P65: =VLOOKUP(C65,Hoja15!A:B,2,FALSE) -> 62 | R65: 42 | S65: 64 | T65: 42 | U65: 37 | V65: 38 | W65: =IFERROR(VLOOKUP(C65,Hoja23!A:H,8,FALSE),"") -> 46 | X65: =+COUNT(S65:W65)*15+Z65 -> 75 | Y65: =+SUM(S65:X65) -> 302 | AA65: =MAX(S65:W65) -> 64 | AB65: =SUM(D65:W65) -> 875
A66: 61 | B66: 29720181H | C66: IRISARRI CRUZ, FERNANDO | D66: 35 | F66: 25 | G66: =VLOOKUP(C66,Hoja4!B:C,2,FALSE) -> 62 | H66: =VLOOKUP(C66,Hoja3!A:B,2,FALSE) -> 89 | I66: 67 | L66: =VLOOKUP(C66,Hoja11!A:B,2,FALSE) -> 47 | N66: =VLOOKUP(C66,Hoja13!A:B,2,FALSE) -> 64 | P66: =VLOOKUP(C66,Hoja15!A:B,2,FALSE) -> 90 | R66: 48 | S66: 44 | U66: 89 | V66: 44 | W66: =IFERROR(VLOOKUP(C66,Hoja23!A:H,8,FALSE),"") -> 60 | X66: =+COUNT(S66:W66)*15+Z66 -> 60 | Y66: =+SUM(S66:X66) -> 297 | AA66: =MAX(S66:W66) -> 89 | AB66: =SUM(D66:W66) -> 764
A67: 62 | B67: 80128244Q | C67: JIMÉNEZ UTRERA, JOSÉ | D67: 25 | R67: 25 | S67: 91 | T67: 49 | V67: 45 | W67: =IFERROR(VLOOKUP(C67,Hoja23!A:H,8,FALSE),"") -> 44 | X67: =+COUNT(S67:W67)*15+Z67 -> 60 | Y67: =+SUM(S67:X67) -> 289 | AA67: =MAX(S67:W67) -> 91 | AB67: =SUM(D67:W67) -> 279
A68: 63 | B68: 28421185Q | C68: CAÑAL GALBARRO, BLAS | D68: 41 | E68: 83 | F68: 46 | G68: =VLOOKUP(C68,Hoja4!B:C,2,FALSE) -> 38 | K68: =VLOOKUP(C68,Hoja10!A:B,2,FALSE) -> 90 | N68: =VLOOKUP(C68,Hoja13!A:B,2,FALSE) -> 68 | O68: 43 | P68: =VLOOKUP(C68,Hoja15!A:B,2,FALSE) -> 70 | R68: 46 | S68: 80 | T68: 59 | U68: 40 | W68: =IFERROR(VLOOKUP(C68,Hoja23!A:H,8,FALSE),"") -> 40 | X68: =+COUNT(S68:W68)*15+Z68 -> 60 | Y68: =+SUM(S68:X68) -> 279 | AA68: =MAX(S68:W68) -> 80 | AB68: =SUM(D68:W68) -> 744
A69: 64 | B69: 24206489R | C69: CARAVER PRADOS, JOSÉ MIGUEL | D69: 59 | E69: 47 | F69: 89 | G69: =VLOOKUP(C69,Hoja4!B:C,2,FALSE) -> 70 | H69: 58 | I69: 61 | J69: 60 | L69: =VLOOKUP(C69,Hoja11!A:B,2,FALSE) -> 90 | N69: =VLOOKUP(C69,Hoja13!A:B,2,FALSE) -> 66 | O69: 46 | Q69: 44 | R69: 0 | S69: 46 | T69: 34 | U69: 38 | V69: 36 | W69: =IFERROR(VLOOKUP(C69,Hoja23!A:H,8,FALSE),"") -> 61 | X69: =+COUNT(S69:W69)*15+Z69 -> 60 | Y69: =+SUM(S69:X69) -> 275 | Z69: -15 | AA69: =MAX(S69:W69) -> 61 | AB69: =SUM(D69:W69) -> 905
A70: 65 | B70: 25317537B | C70: CASTRO CRESPO, JORGE | D70: 25 | F70: 35 | L70: =VLOOKUP(C70,Hoja11!A:B,2,FALSE) -> 39 | N70: =VLOOKUP(C70,Hoja13!A:B,2,FALSE) -> 0 | R70: 45 | S70: 25 | T70: 25 | V70: 81 | W70: =IFERROR(VLOOKUP(C70,Hoja23!A:H,8,FALSE),"") -> 83 | X70: =+COUNT(S70:W70)*15+Z70 -> 60 | Y70: =+SUM(S70:X70) -> 274 | AA70: =MAX(S70:W70) -> 83 | AB70: =SUM(D70:W70) -> 358
A71: 66 | C71: TOVAR JIMÉNEZ, YESID | Q71: 107 | R71: 25 | S71: 25 | T71: 40 | V71: 85 | W71: =IFERROR(VLOOKUP(C71,Hoja23!A:H,8,FALSE),"") -> 62 | X71: =+COUNT(S71:W71)*15+Z71 -> 60 | Y71: =+SUM(S71:X71) -> 272 | AA71: =MAX(S71:W71) -> 85 | AB71: =SUM(D71:W71) -> 344
A72: 67 | C72: CORONEL CORONEL, PEDRO | D72: 82 | F72: 25 | L72: =VLOOKUP(C72,Hoja11!A:B,2,FALSE) -> 82 | N72: =VLOOKUP(C72,Hoja13!A:B,2,FALSE) -> 40 | R72: 25 | S72: 57 | T72: 25 | V72: 132 | X72: =+COUNT(S72:W72)*15+Z72 -> 45 | Y72: =+SUM(S72:X72) -> 259 | AA72: =MAX(R72:V72) -> 132 | AB72: =SUM(D72:V72) -> 468
A73: 68 | C73: CABELLO SOUSA, JUAN JOSÉ | D73: 25 | F73: 25 | G73: =VLOOKUP(C73,Hoja4!B:C,2,FALSE) -> 37 | L73: =VLOOKUP(C73,Hoja11!A:B,2,FALSE) -> 86 | N73: =VLOOKUP(C73,Hoja13!A:B,2,FALSE) -> 59 | R73: 25 | S73: 70 | T73: 60 | V73: 40 | W73: =IFERROR(VLOOKUP(C73,Hoja23!A:H,8,FALSE),"") -> 34 | X73: =+COUNT(S73:W73)*15+Z73 -> 45 | Y73: =+SUM(S73:X73) -> 249 | Z73: -15 | AA73: =MAX(S73:W73) -> 70 | AB73: =SUM(D73:W73) -> 461
A74: 69 | B74: 30198522M | C74: AMATE PRIETO, ANDRÉS | D74: 72 | E74: 62 | F74: 43 | G74: =VLOOKUP(C74,Hoja4!B:C,2,FALSE) -> 68 | H74: =VLOOKUP(C74,Hoja3!A:B,2,FALSE) -> 87 | I74: 85 | J74: 71 | L74: =VLOOKUP(C74,Hoja11!A:B,2,FALSE) -> 114 | M74: =VLOOKUP(C74,Hoja12!A:B,2,FALSE) -> 117 | N74: =VLOOKUP(C74,Hoja13!A:B,2,FALSE) -> 89 | O74: 94 | P74: =VLOOKUP(C74,Hoja15!A:B,2,FALSE) -> 107 | Q74: 142 | R74: 87 | S74: 128 | T74: 89 | U74: 0 | X74: =+COUNT(S74:W74)*15+Z74 -> 30 | Y74: =+SUM(S74:X74) -> 247 | Z74: -15 | AA74: =MAX(R74:V74) -> 128 | AB74: =SUM(D74:V74) -> 1455
A75: 70 | B75: 24290369T | C75: SEVILLA BEJARANO, JUAN JOSÉ | D75: 94 | E75: 49 | F75: 34 | G75: =VLOOKUP(C75,Hoja4!B:C,2,FALSE) -> 69 | H75: =VLOOKUP(C75,Hoja3!A:B,2,FALSE) -> 91 | I75: 72 | L75: =VLOOKUP(C75,Hoja11!A:B,2,FALSE) -> 107 | N75: =VLOOKUP(C75,Hoja13!A:B,2,FALSE) -> 70 | P75: =VLOOKUP(C75,Hoja15!A:B,2,FALSE) -> 64 | S75: 25 | T75: 38 | V75: 84 | W75: =IFERROR(VLOOKUP(C75,Hoja23!A:H,8,FALSE),"") -> 35 | X75: =+COUNT(S75:W75)*15+Z75 -> 60 | Y75: =+SUM(S75:X75) -> 242 | AA75: =MAX(S75:W75) -> 84 | AB75: =SUM(D75:W75) -> 832
A76: 71 | C76: MARTÍN VARGAS, MANUEL | D76: 84 | F76: 103 | G76: =VLOOKUP(C76,Hoja4!B:C,2,FALSE) -> 46 | I76: 83 | L76: =VLOOKUP(C76,Hoja11!A:B,2,FALSE) -> 69 | N76: =VLOOKUP(C76,Hoja13!A:B,2,FALSE) -> 58 | O76: 66 | P76: =VLOOKUP(C76,Hoja15!A:B,2,FALSE) -> 93 | R76: 43 | S76: 69 | T76: 62 | W76: =IFERROR(VLOOKUP(C76,Hoja23!A:H,8,FALSE),"") -> 65 | X76: =+COUNT(S76:W76)*15+Z76 -> 45 | Y76: =+SUM(S76:X76) -> 241 | AA76: =MAX(S76:W76) -> 69 | AB76: =SUM(D76:W76) -> 841
A77: 72 | C77: GUILLÉN BERRAQUERO, ANTONIO | D77: 83 | E77: 90 | F77: 90 | G77: =VLOOKUP(C77,Hoja4!B:C,2,FALSE) -> 88 | H77: =VLOOKUP(C77,Hoja3!A:B,2,FALSE) -> 70 | I77: 87 | J77: 85 | K77: =VLOOKUP(C77,Hoja10!A:B,2,FALSE) -> 109 | L77: =VLOOKUP(C77,Hoja11!A:B,2,FALSE) -> 88 | N77: =VLOOKUP(C77,Hoja13!A:B,2,FALSE) -> 88 | O77: 107 | P77: =VLOOKUP(C77,Hoja15!A:B,2,FALSE) -> 89 | Q77: 72 | S77: 66 | T77: 64 | U77: 59 | X77: =+COUNT(S77:W77)*15+Z77 -> 45 | Y77: =+SUM(S77:X77) -> 234 | AA77: =MAX(R77:V77) -> 66 | AB77: =SUM(D77:V77) -> 1335
A78: 73 | C78: DOMÍNGUEZ CRUZ, FRANCISCO | R78: 114 | S78: 72 | V78: 112 | X78: =+COUNT(S78:W78)*15+Z78 -> 30 | Y78: =+SUM(S78:X78) -> 214 | AA78: =MAX(R78:V78) -> 114 | AB78: =SUM(D78:V78) -> 298
A79: 74 | C79: SAAVEDRA DOMINGUEZ, FRANCISCO | F79: 114 | R79: 72 | T79: 95 | V79: 89 | X79: =+COUNT(S79:W79)*15+Z79 -> 30 | Y79: =+SUM(S79:X79) -> 214 | AA79: =MAX(R79:V79) -> 95 | AB79: =SUM(D79:V79) -> 370
A80: 75 | B80: 75407294T | C80: ROSADO DÍAZ, ANTONIO | D80: 85 | F80: 112 | G80: =VLOOKUP(C80,Hoja4!B:C,2,FALSE) -> 71 | H80: =VLOOKUP(C80,Hoja3!A:B,2,FALSE) -> 72 | I80: 70 | L80: =VLOOKUP(C80,Hoja11!A:B,2,FALSE) -> 93 | N80: =VLOOKUP(C80,Hoja13!A:B,2,FALSE) -> 63 | O80: 38 | R80: 57 | S80: 42 | T80: 44 | U80: 82 | X80: =+COUNT(S80:W80)*15+Z80 -> 45 | Y80: =+SUM(S80:X80) -> 213 | AA80: =MAX(R80:V80) -> 82 | AB80: =SUM(D80:V80) -> 829
A81: 76 | B81: 75340105V | C81: MORENO LEO, ANTONIO | D81: 110 | E81: 87 | F81: 92 | G81: =VLOOKUP(C81,Hoja4!B:C,2,FALSE) -> 81 | H81: =VLOOKUP(C81,Hoja3!A:B,2,FALSE) -> 80 | I81: 110 | J81: 105 | K81: =VLOOKUP(C81,Hoja10!A:B,2,FALSE) -> 91 | L81: =VLOOKUP(C81,Hoja11!A:B,2,FALSE) -> 83 | M81: =VLOOKUP(C81,Hoja12!A:B,2,FALSE) -> 105 | N81: =VLOOKUP(C81,Hoja13!A:B,2,FALSE) -> 108 | O81: 82 | P81: =VLOOKUP(C81,Hoja15!A:B,2,FALSE) -> 108 | Q81: 86 | R81: 110 | S81: 86 | T81: 86 | X81: =+COUNT(S81:W81)*15+Z81 -> 30 | Y81: =+SUM(S81:X81) -> 202 | AA81: =MAX(R81:V81) -> 110 | AB81: =SUM(D81:V81) -> 1610
A82: 77 | B82: 24122511L | C82: BOHÓRQUEZ VERA, JOSÉ Mª | D82: 40 | H82: =VLOOKUP(C82,Hoja3!A:B,2,FALSE) -> 62 | L82: =VLOOKUP(C82,Hoja11!A:B,2,FALSE) -> 25 | N82: =VLOOKUP(C82,Hoja13!A:B,2,FALSE) -> 48 | P82: =VLOOKUP(C82,Hoja15!A:B,2,FALSE) -> 48 | R82: 81 | S82: 43 | T82: 65 | V82: 47 | X82: =+COUNT(S82:W82)*15+Z82 -> 45 | Y82: =+SUM(S82:X82) -> 200 | AA82: =MAX(R82:V82) -> 81 | AB82: =SUM(D82:V82) -> 459
A83: 78 | C83: MANZANO DOÑA, FRANCISCO DE ASÍS | D83: 25 | F83: 25 | G83: =VLOOKUP(C83,Hoja4!B:C,2,FALSE) -> 25 | H83: =VLOOKUP(C83,Hoja3!A:B,2,FALSE) -> 49 | L83: =VLOOKUP(C83,Hoja11!A:B,2,FALSE) -> 34 | N83: =VLOOKUP(C83,Hoja13!A:B,2,FALSE) -> 38 | P83: =VLOOKUP(C83,Hoja15!A:B,2,FALSE) -> 60 | R83: 39 | S83: 25 | T83: 36 | V83: 42 | W83: =IFERROR(VLOOKUP(C83,Hoja23!A:H,8,FALSE),"") -> 25 | X83: =+COUNT(S83:W83)*15+Z83 -> 60 | Y83: =+SUM(S83:X83) -> 188 | AA83: =MAX(S83:W83) -> 42 | AB83: =SUM(D83:W83) -> 423
A84: 79 | B84: 29786946Z | C84: CALLE ALBARRÁN, FRANCISCO | R84: 38 | V84: 142 | W84: =IFERROR(VLOOKUP(C84,Hoja23!A:H,8,FALSE),"") -> 25 | X84: =+COUNT(S84:W84)*15+Z84 -> 15 | Y84: =+SUM(S84:X84) -> 182 | Z84: -15 | AA84: =MAX(S84:W84) -> 142 | AB84: =SUM(D84:W84) -> 205
A85: 80 | B85: 27857057D | C85: MARÍN GUERRERO, DIEGO | R85: 25 | S85: 35 | T85: 48 | V85: 49 | X85: =+COUNT(S85:W85)*15+Z85 -> 45 | Y85: =+SUM(S85:X85) -> 177 | AA85: =MAX(R85:V85) -> 49 | AB85: =SUM(D85:V85) -> 157
A86: 81 | B86: 5554453 | C86: VEGA SUÁREZ, CAYETANO | F86: 25 | N86: =VLOOKUP(C86,Hoja13!A:B,2,FALSE) -> 71 | R86: 113 | S86: 36 | T86: 46 | V86: 48 | X86: =+COUNT(S86:W86)*15+Z86 -> 45 | Y86: =+SUM(S86:X86) -> 175 | AA86: =MAX(R86:V86) -> 113 | AB86: =SUM(D86:V86) -> 339
A87: 82 | B87: 28740644M | C87: MORAL CASTRO, JAVIER | D87: 130 | E87: 106 | F87: 126 | G87: =VLOOKUP(C87,Hoja4!B:C,2,FALSE) -> 107 | H87: =VLOOKUP(C87,Hoja3!A:B,2,FALSE) -> 155 | I87: 125 | J87: 103 | K87: =VLOOKUP(C87,Hoja10!A:B,2,FALSE) -> 126 | L87: =VLOOKUP(C87,Hoja11!A:B,2,FALSE) -> 131 | M87: =VLOOKUP(C87,Hoja12!A:B,2,FALSE) -> 110 | O87: 80 | Q87: 59 | U87: 49 | V87: 95 | X87: =+COUNT(S87:W87)*15+Z87 -> 30 | Y87: =+SUM(S87:X87) -> 174 | AA87: =MAX(R87:V87) -> 95 | AB87: =SUM(D87:V87) -> 1502
A88: 83 | B88: 29726636X | C88: GUTIERREZ MORENO, RAFAEL | H88: 46 | I88: 38 | L88: =VLOOKUP(C88,Hoja11!A:B,2,FALSE) -> 40 | P88: =VLOOKUP(C88,Hoja15!A:B,2,FALSE) -> 41 | R88: 41 | S88: 25 | T88: 25 | V88: 37 | W88: =IFERROR(VLOOKUP(C88,Hoja23!A:H,8,FALSE),"") -> 25 | X88: =+COUNT(S88:W88)*15+Z88 -> 60 | Y88: =+SUM(S88:X88) -> 172 | AA88: =MAX(S88:W88) -> 37 | AB88: =SUM(D88:W88) -> 318
A89: 84 | C89: NUÑEZ PÉREZ, GERMÁN | J89: 180 | Q89: 93 | U89: 155 | X89: =+COUNT(S89:W89)*15+Z89 -> 15 | Y89: =+SUM(S89:X89) -> 170 | AA89: =MAX(R89:V89) -> 155 | AB89: =SUM(D89:V89) -> 428
A90: 85 | B90: 200 | C90: ACUÑA CARMONA, PEDRO | H90: =VLOOKUP(C90,Hoja3!A:B,2,FALSE) -> 84 | L90: =VLOOKUP(C90,Hoja11!A:B,2,FALSE) -> 89 | O90: 41 | U90: 46 | W90: =IFERROR(VLOOKUP(C90,Hoja23!A:H,8,FALSE),"") -> 85 | X90: =+COUNT(S90:W90)*15+Z90 -> 30 | Y90: =+SUM(S90:X90) -> 161 | AA90: =MAX(S90:W90) -> 85 | AB90: =SUM(D90:W90) -> 345
A91: 86 | B91: 141 | C91: TRUJILLO VEGA, JUAN VICENTE | L91: =VLOOKUP(C91,Hoja11!A:B,2,FALSE) -> 25 | P91: =VLOOKUP(C91,Hoja15!A:B,2,FALSE) -> 25 | S91: 60 | T91: 43 | W91: =IFERROR(VLOOKUP(C91,Hoja23!A:H,8,FALSE),"") -> 25 | X91: =+COUNT(S91:W91)*15+Z91 -> 30 | Y91: =+SUM(S91:X91) -> 158 | Z91: -15 | AA91: =MAX(S91:W91) -> 60 | AB91: =SUM(D91:W91) -> 178
A92: 87 | B92: 25951086W | C92: JIMÉNEZ TORRES, ANDRÉS | I92: 46 | L92: =VLOOKUP(C92,Hoja11!A:B,2,FALSE) -> 45 | N92: =VLOOKUP(C92,Hoja13!A:B,2,FALSE) -> 47 | P92: =VLOOKUP(C92,Hoja15!A:B,2,FALSE) -> 66 | R92: 0 | S92: 25 | T92: 25 | U92: 34 | W92: =IFERROR(VLOOKUP(C92,Hoja23!A:H,8,FALSE),"") -> 43 | X92: =+COUNT(S92:W92)*15+Z92 -> 30 | Y92: =+SUM(S92:X92) -> 157 | Z92: -30 | AA92: =MAX(S92:W92) -> 43 | AB92: =SUM(D92:W92) -> 331
A93: 88 | B93: 29470206F | C93: GÓMEZ SÁNCHEZ, ALBERTO | D93: 117 | E93: 110 | G93: =VLOOKUP(C93,Hoja4!B:C,2,FALSE) -> 126 | H93: =VLOOKUP(C93,Hoja3!A:B,2,FALSE) -> 146 | I93: 155 | J93: 80 | K93: =VLOOKUP(C93,Hoja10!A:B,2,FALSE) -> 117 | N93: =VLOOKUP(C93,Hoja13!A:B,2,FALSE) -> 72 | W93: =IFERROR(VLOOKUP(C93,Hoja23!A:H,8,FALSE),"") -> 131 | X93: =+COUNT(S93:W93)*15+Z93 -> 15 | Y93: =+SUM(S93:X93) -> 146 | AA93: =MAX(S93:W93) -> 131 | AB93: =SUM(D93:W93) -> 1054
A94: 89 | B94: X3528777W | C94: CANO ACOSTA, SANTIAGO | F94: 25 | G94: =VLOOKUP(C94,Hoja4!B:C,2,FALSE) -> 115 | V94: 125 | X94: =+COUNT(S94:W94)*15+Z94 -> 15 | Y94: =+SUM(S94:X94) -> 140 | AA94: =MAX(R94:V94) -> 125 | AB94: =SUM(D94:V94) -> 265
A95: 90 | B95: 26143221H | C95: JIMÉNEZ POLEY, PASCUAL | L95: 37 | O95: 68 | T95: 25 | U95: 85 | X95: =+COUNT(S95:W95)*15+Z95 -> 30 | Y95: =+SUM(S95:X95) -> 140 | AA95: =MAX(R95:V95) -> 85 | AB95: =SUM(D95:V95) -> 215
A96: 91 | C96: JUAN DEL VALLE, ADRIÁN | H96: 44 | I96: 41 | L96: =VLOOKUP(C96,Hoja11!A:B,2,FALSE) -> 61 | N96: =VLOOKUP(C96,Hoja13!A:B,2,FALSE) -> 37 | P96: =VLOOKUP(C96,Hoja15!A:B,2,FALSE) -> 37 | S96: 25 | T96: 25 | W96: =IFERROR(VLOOKUP(C96,Hoja23!A:H,8,FALSE),"") -> 45 | X96: =+COUNT(S96:W96)*15+Z96 -> 45 | Y96: =+SUM(S96:X96) -> 140 | AA96: =MAX(S96:W96) -> 45 | AB96: =SUM(D96:W96) -> 315
A97: 92 | B97: 31559062A | C97: SERRANO JURADO, VICTOR MANUEL | J97: 40 | K97: =VLOOKUP(C97,Hoja10!A:B,2,FALSE) -> 82 | L97: =VLOOKUP(C97,Hoja11!A:B,2,FALSE) -> 41 | M97: =VLOOKUP(C97,Hoja12!A:B,2,FALSE) -> 106 | N97: =VLOOKUP(C97,Hoja13!A:B,2,FALSE) -> 69 | O97: 83 | P97: 80 | Q97: 68 | T97: 41 | V97: 25 | W97: =IFERROR(VLOOKUP(C97,Hoja23!A:H,8,FALSE),"") -> 25 | X97: =+COUNT(S97:W97)*15+Z97 -> 45 | Y97: =+SUM(S97:X97) -> 136 | AA97: =MAX(S97:W97) -> 41 | AB97: =SUM(D97:W97) -> 660
A98: 93 | C98: GUTIERREZ MORENO, KEVIN | H98: 40 | I98: 40 | N98: =VLOOKUP(C98,Hoja13!A:B,2,FALSE) -> 25 | P98: =VLOOKUP(C98,Hoja15!A:B,2,FALSE) -> 36 | S98: 39 | V98: 25 | W98: =IFERROR(VLOOKUP(C98,Hoja23!A:H,8,FALSE),"") -> 25 | X98: =+COUNT(S98:W98)*15+Z98 -> 45 | Y98: =+SUM(S98:X98) -> 134 | AA98: =MAX(S98:W98) -> 39 | AB98: =SUM(D98:W98) -> 230
A99: 94 | C99: SANCHO LÓPEZ, FRANCISCO | J99: 107 | K99: =VLOOKUP(C99,Hoja10!A:B,2,FALSE) -> 140 | O99: 116 | U99: 111 | X99: =+COUNT(S99:W99)*15+Z99 -> 15 | Y99: =+SUM(S99:X99) -> 126 | AA99: =MAX(R99:V99) -> 111 | AB99: =SUM(D99:V99) -> 474
A100: 95 | C100: CABRAL ANGEL, JOSÉ | D100: 38 | G100: =VLOOKUP(C100,Hoja4!B:C,2,FALSE) -> 25 | S100: 18 | T100: 25 | W100: =IFERROR(VLOOKUP(C100,Hoja23!A:H,8,FALSE),"") -> 38 | X100: =+COUNT(S100:W100)*15+Z100 -> 45 | Y100: =+SUM(S100:X100) -> 126 | AA100: =MAX(S100:W100) -> 38 | AB100: =SUM(D100:W100) -> 144
A101: 96 | B101: 29747788W | C101: BOGALLO JIMÉNEZ, RAFAEL | I101: 90 | J101: 41 | Q101: 69 | U101: 48 | W101: =IFERROR(VLOOKUP(C101,Hoja23!A:H,8,FALSE),"") -> 42 | X101: =+COUNT(S101:W101)*15+Z101 -> 30 | Y101: =+SUM(S101:X101) -> 120 | AA101: =MAX(S101:W101) -> 48 | AB101: =SUM(D101:W101) -> 290
A102: 97 | B102: 28745032T | C102: RODRÍGUEZ MESA, JOSÉ MARÍA | L102: 25 | N102: =VLOOKUP(C102,Hoja13!A:B,2,FALSE) -> 25 | P102: =VLOOKUP(C102,Hoja15!A:B,2,FALSE) -> 35 | S102: 25 | T102: 25 | W102: =IFERROR(VLOOKUP(C102,Hoja23!A:H,8,FALSE),"") -> 25 | X102: =+COUNT(S102:W102)*15+Z102 -> 45 | Y102: =+SUM(S102:X102) -> 120 | AA102: =MAX(S102:W102) -> 25 | AB102: =SUM(D102:W102) -> 160
...

Sheet Hoja23
A1: DÍAZ RODRÍGUEZ, JAVIER | B1: 5 | C1: 5 | D1: 160 | E1: 147 | F1: 1.088 | G1: 1.25 | H1: 180
A2: GONZÁLEZ CASTRILLO, MANUEL JESÚS | B2: 5 | C2: 4 | D2: 179 | E2: 200 | F2: 0.895 | G2: 1.143 | H2: 165
A3: SÁNCHEZ FARACO, JAIME | B3: 4 | C3: 3 | D3: 158 | E3: 131 | F3: 1.206 | G3: 1.667 | H3: 155
A4: ANTONIO VERA, DOMINGO J. | B4: 5 | C4: 4 | D4: 138 | E4: 165 | F4: 0.836 | G4: 1.25 | H4: 155
A5: MIRA CANTILLO, BALDOMERO | B5: 3 | C5: 2 | D5: 116 | E5: 129 | F5: 0.899 | G5: 1.057 | H5: 146
A6: SOUSA LÓPEZ, MANUEL | B6: 3 | C6: 2 | D6: 104 | E6: 109 | F6: 0.954 | G6: 1.143 | H6: 144
A7: MARÍN GUERRERO, FELICIANO | B7: 3 | C7: 2 | D7: 104 | E7: 130 | F7: 0.8 | G7: 0.889 | H7: 142
A8: CAMACHO ESPINA, JOSÉ ANTONIO | B8: 3 | C8: 2 | D8: 96 | E8: 113 | F8: 0.85 | G8: 1 | H8: 140
A9: RODRÍGUEZ DOMÍNGUEZ, FRANCISCO J. | B9: 2 | C9: 1 | D9: 71 | E9: 89 | F9: 0.798 | G9: 0.949 | H9: 132
A10: GÓMEZ SÁNCHEZ, ALBERTO | B10: 7 | C10: 6 | D10: 198 | E10: 226 | F10: 0.876 | G10: 1.026 | H10: 131
A11: MARTÍN SALAS, JOSÉ | B11: 2 | C11: 1 | D11: 36 | E11: 44 | F11: 0.818 | G11: 0.818 | H11: 130
A12: FERNÁNDEZ MORALES, RICHARD | B12: 3 | C12: 2 | D12: 119 | E12: 136 | F12: 0.875 | G12: 0.93 | H12: 129
... A46: COBRERO VALDERRAMA, MANUEL | B46: 3 | C46: 2 | D46: 46 | E46: 100 | F46: 0.46 | G46: 0.48 | H46: 82
A47: GONZÁLEZ RODRÍGUEZ, DIEGO | B47: 1 | C47: 0 | D47: 0 | E47: 0 | G47: 0 | H47: 80
A48: GARCÍA ARIAS, FRANCISCO J. | B48: 1 | C48: 0 | D48: 0 | E48: 0 | G48: 0 | H48: 80
A49: MUÑOZ MORENO, FRANCISCO | B49: 1 | C49: 0 | D49: 28 | E49: 50 | F49: 0.56 | G49: 0.56 | H49: 72
A50: MELERO MELERO, JUAN | B50: 1 | C50: 0 | D50: 27 | E50: 50 | F50: 0.54 | G50: 0.54 | H50: 71
A51: ZARZA CALVO, JOSÉ LUIS | B51: 2 | C51: 1 | D51: 44 | E51: 100 | F51: 0.44 | G51: 0.52 | H51: 70
A52: CARMONA MARTÍN, AGUSTÍN | B52: 2 | C52: 1 | D52: 44 | E52: 100 | F52: 0.44 | G52: 0.48 | H52: 69
A53: SÁNCHEZ GUARDIA, ISIDRO | B53: 1 | C53: 0 | D53: 24 | E53: 50 | F53: 0.48 | G53: 0.48 | H53: 68
A54: GARCÍA GARCÍA, PATXI | B54: 1 | C54: 0 | D54: 22 | E54: 50 | F54: 0.44 | G54: 0.44 | H54: 67
A55: SEQUERA BARRERA, SEVERINO | B55: 1 | C55: 0 | D55: 20 | E55: 50 | F55: 0.4 | G55: 0.4 | H55: 66
A56: MARTÍN VARGAS, MANUEL | B56: 3 | C56: 2 | D56: 75 | E56: 150 | F56: 0.5 | G56: 0.58 | H56: 65
A57: MORENO GUZMÁN, JUAN | B57: 1 | C57: 0 | D57: 15 | E57: 40 | F57: 0.375 | G57: 0.375 | H57: 64
A58: VÁZQUEZ AGUILERA, JOSÉ ANTONIO | B58: 1 | C58: 0 | D58: 18 | E58: 50 | F58: 0.36 | G58: 0.36 | H58: 63
A59: TOVAR JIMÉNEZ, YESID | B59: 3 | C59: 2 | D59: 64 | E59: 150 | F59: 0.427 | G59: 0.54 | H59: 62
A60: CARAVER PRADOS, JOSÉ MIGUEL | B60: 3 | C60: 2 | D60: 39 | E60: 100 | F60: 0.39 | G60: 0.5 | H60: 61
... A62: ORTIZ FERNÁNDEZ, JOSE LUIS | B62: 1 | C62: 0 | D62: 11 | E62: 50 | F62: 0.22 | G62: 0.22 | H62: 59
A63: SÁNCHEZ GARCÍA, JUAN RAMÓN | B63: 1 | C63: 0 | D63: 0 | E63: 0 | G63: 0 | H63: 57
A64: COBO SORIANO, FRANCISCO JAVIER | B64: 1 | C64: 0 | D64: 0 | E64: 0 | G64: 0 | H64: 57
A65: LÓPEZ CORREA, CARLOS EDUARDO | B65: 1 | C65: 0 | D65: 24 | E65: 50 | F65: 0.48 | G65: 0.48 | H65: 49
A66: RODRÍGUEZ LÓPEZ, FRANCISCO M. | B66: 1 | C66: 0 | D66: 19 | E66: 50 | F66: 0.38 | G66: 0.38 | H66: 48
A67: LOZANO EXPÓSITO, ALBERTO JOSÉ | B67: 3 | C67: 2 | D67: 62 | E67: 150 | F67: 0.413 | G67: 0.54 | H67: 47
A68: RAMÍREZ DEL VALLE, JOSÉ LUIS | B68: 1 | C68: 0 | D68: 19 | E68: 50 | F68: 0.38 | G68: 0.38 | H68: 46
A69: JUAN DEL VALLE, ADRIÁN | B69: 2 | C69: 1 | D69: 37 | E69: 100 | F69: 0.37 | G69: 0.38 | H69: 45
A70: JIMÉNEZ UTRERA, JOSÉ | B70: 1 | C70: 0 | D70: 18 | E70: 50 | F70: 0.36 | G70: 0.36 | H70: 44
A71: JIMÉNEZ TORRES, ANDRÉS | B71: 2 | C71: 1 | D71: 42 | E71: 100 | F71: 0.42 | G71: 0.48 | H71: 43
A72: BOGALLO JIMÉNEZ, RAFAEL | B72: 2 | C72: 1 | D72: 36 | E72: 100 | F72: 0.36 | G72: 0.38 | H72: 42
A73: GONZÁLEZ ÁLVAREZ, JOSÉ MANUEL | B73: 2 | C73: 1 | D73: 34 | E73: 100 | F73: 0.34 | G73: 0.38 | H73: 41
A74: CAÑAL GALBARRO, BLAS | B74: 1 | C74: 0 | D74: 15 | E74: 50 | F74: 0.3 | G74: 0.3 | H74: 40
A75: HOLGUIN MUÑOZ, PEDRO | B75: 2 | C75: 1 | D75: 39 | E75: 100 | F75: 0.39 | G75: 0.52 | H75: 39
A76: CABRAL ANGEL, JOSÉ | B76: 2 | C76: 1 | D76: 43 | E76: 100 | F76: 0.43 | G76: 0.62 | H76: 38
... A79: SEVILLA BEJARANO, JUAN JOSÉ | B79: 1 | C79: 1 | D79: 17 | E79: 49 | F79: 0.347 | G79: 0.347 | H79: 35
A80: CABELLO SOUSA, JUAN JOSÉ | B80: 1 | C80: 0 | D80: 0 | E80: 0 | G80: 0 | H80: 34
A81: GARCÍA DOMÍNGUEZ, JUAN | B81: 2 | C81: 1 | D81: 27 | E81: 50 | F81: 0.54 | G81: 0.54 | H81: 25
A82: SERRANO JURADO, VICTOR MANUEL | B82: 1 | C82: 0 | D82: 18 | E82: 50 | F82: 0.36 | G82: 0.36 | H82: 25
A83: GARCÍA ALARCÓN, CARLOS | B83: 1 | C83: 0 | D83: 18 | E83: 50 | F83: 0.36 | G83: 0.36 | H83: 25
A84: NAVARRO GUILLÉN, JUAN ANTONIO | B84: 1 | C84: 0 | D84: 18 | E84: 50 | F84: 0.36 | G84: 0.36 | H84: 25
A85: CORDERO MORENO, ALFONSO ANTONIO | B85: 2 | C85: 1 | D85: 41 | E85: 99 | F85: 0.414 | G85: 0.48 | H85: 25
A86: GUTIERREZ MORENO, RAFAEL | B86: 1 | C86: 0 | D86: 16 | E86: 50 | F86: 0.32 | G86: 0.32 | H86: 25
A87: MENDOZA CONTRERAS, MATEO ESTEBAN | B87: 2 | C87: 1 | D87: 15 | E87: 50 | F87: 0.3 | G87: 0.3 | H87: 25
A88: RODRÍGUEZ MESA, JOSÉ MARÍA | B88: 1 | C88: 0 | D88: 13 | E88: 50 | F88: 0.26 | G88: 0.26 | H88: 25
A89: GUTIERREZ MORENO, KEVIN | B89: 1 | C89: 0 | D89: 12 | E89: 50 | F89: 0.24 | G89: 0.24 | H89: 25
A90: HERNÁNDEZ HERNÁNDEZ, PEDRO PASCUAL | B90: 2 | C90: 1 | D90: 24 | E90: 100 | F90: 0.24 | G90: 0.26 | H90: 25
A91: MANZANO DOÑA, FRANCISCO DE ASÍS | B91: 1 | C91: 0 | D91: 10 | E91: 50 | F91: 0.2 | G91: 0.2 | H91: 25
A92: AVILA PERILLA, CRISTIAN DAVID | B92: 1 | C92: 0 | D92: 6 | E92: 50 | F92: 0.12 | G92: 0.12 | H92: 25
A93: FERNÁNDEZ SÁNCHEZ-ARJONA, FRANCISCO JOSÉ | B93: 1 | C93: 0 | D93: 5 | E93: 50 | F93: 0.1 | G93: 0.1 | H93: 25
A94: TRUJILLO VEGA, JUAN VICENTE | B94: 1 | C94: 0 | D94: 0 | E94: 0 | G94: 0 | H94: 25
A95: PRUAÑO PÉREZ, JUAN | B95: 2 | C95: 1 | D95: 21 | E95: 50 | F95: 0.42 | G95: 0.42 | H95: 25
A96: CALLE ALBARRÁN, FRANCISCO | B96: 1 | C96: 0 | D96: 0 | E96: 0 | G96: 0 | H96: 25
A97: ROMERO RAMÍREZ, JOSE LUIS | B97: 1 | C97: 0 | D97: 23 | E97: 47 | F97: 0.489 | G97: 0.489 | H97: 18
A98: SANTOS SEGURA, ANGEL | B98: 1 | C98: 0 | D98: 24 | E98: 50 | F98: 0.48 | G98: 0.48 | H98: 18
A99: CABEZAS CAÑADA, JUAN | B99: 1 | C99: 0 | D99: 10 | E99: 50 | F99: 0.2 | G99: 0.2 | H99: 18
A100: MORA GÓMEZ, CARMELO | B100: 1 | C100: 0 | D100: 10 | E100: 50 | F100: 0.2 | G100: 0.2 | H100: 18
A101: DEL POZO RODRÍGUEZ, FRANCISCO | B101: 1 | C101: 0 | D101: 9 | E101: 50 | F101: 0.18 | G101: 0.18 | H101: 18
A102: CARRACEDO PULIDO, JUAN ANTONIO | B102: 1 | C102: 0 | D102: 5 | E102: 50 | F102: 0.1 | G102: 0.1 | H102: 18
A103: PLATA BARRERA, PEDRO | B103: 1 | C103: 0 | D103: 0 | E103: 0 | G103: 0 | H103: 0
A104: PÉREZ FUENTES, FEDERICO | B104: 1 | C104: 0 | D104: 0 | E104: 0 | G104: 0 | H104: 0
A105: PÉREZ FUENTES, ALEJANDRO | B105: 1 | C105: 0 | D105: 0 | E105: 0 | G105: 0 | H105: 0

Sheet Hoja22
B1: Jugador | C1: Partidos Jugados | D1: Partidos Ganados | E1: Carambolas | F1: Entradas | G1: Promedio General | H1: Promedio Particular | I1: Puntos
A2: 1 | B2: DÍAZ RODRÍGUEZ, JAVIER | C2: 4 | D2: 4 | E2: 160 | F2: 141 | G2: 1.135 | H2: 1.333 | I2: 180
A3: 2 | B3: GONZÁLEZ CASTRILLO, MANUEL JESÚS | C3: 5 | D3: 4 | E3: 187 | F3: 176 | G3: 1.063 | H3: 1.6 | I3: 165
A4: 3 | B4: KOFOED, PER | C4: 4 | D4: 3 | E4: 153 | F4: 165 | G4: 0.927 | H4: 1.143 | I4: 155
A5: 4 | B5: DOMINGO CRESPO, JOSÉ MANUEL | C5: 3 | D5: 3 | E5: 96 | F5: 113 | G5: 0.85 | H5: 1.111 | I5: 155
A6: 5 | B6: CAMACHO ESPINA, JOSÉ ANTONIO | C6: 3 | D6: 2 | E6: 119 | F6: 126 | G6: 0.944 | H6: 1.114 | I6: 146
A7: 6 | B7: MORALES MARTÍNEZ, GREGORIO | C7: 4 | D7: 3 | E7: 149 | F7: 180 | G7: 0.828 | H7: 0.974 | I7: 144
A8: 7 | B8: CALLE ALBARRÁN, FRANCISCO | C8: 7 | D8: 6 | E8: 247 | F8: 328 | G8: 0.753 | H8: 1.111 | I8: 142
A9: 8 | B9: GONZÁLEZ RODRÍGUEZ, DIEGO | C9: 4 | D9: 3 | E9: 135 | F9: 200 | G9: 0.675 | H9: 0.76 | I9: 140
A10: 9 | B10: CORONEL CORONEL, PEDRO | C10: 4 | D10: 4 | E10: 137 | F10: 188 | G10: 0.729 | H10: 0.842 | I10: 132
A11: 10 | B11: MIRA CANTILLO, BALDOMERO | C11: 2 | D11: 1 | E11: 73 | F11: 86 | G11: 0.849 | H11: 1 | I11: 131
A12: 11 | B12: GONZÁLEZ CALLE, JOSÉ RAMÓN | C12: 2 | D12: 1 | E12: 52 | F12: 86 | G12: 0.605 | H12: 0.694 | I12: 130
A13: 12 | B13: CANO LÓPEZ, PABLO | C13: 2 | D13: 1 | E13: 69 | F13: 76 | G13: 0.908 | H13: 1.29 | I13: 129
... A48: 47 | B48: CASTRO CRESPO, JORGE | C48: 3 | D48: 2 | E48: 72 | F48: 150 | G48: 0.48 | H48: 0.56 | I48: 81
A49: 48 | B49: AMAYA FORTES, SALVADOR | C49: 0 | D49: 0 | E49: 0 | F49: 0 | H49: 0 | I49: 80
A50: 49 | B50: DE LA HUERGA MENÉNDEZ, SERGIO | C50: 1 | D50: 0 | E50: 33 | F50: 49 | G50: 0.673 | H50: 0.673 | I50: 72
A51: 50 | B51: GONZÁLEZ RODRÍGUEZ, ALEJANDRO ANTONIO | C51: 1 | D51: 0 | E51: 27 | F51: 50 | G51: 0.54 | H51: 0.54 | I51: 71
A52: 51 | B52: MUÑOZ MORENO, FRANCISCO | C52: 1 | D52: 0 | E52: 25 | F52: 50 | G52: 0.5 | H52: 0.5 | I52: 70
A53: 52 | B53: SEQUERA BARRERA, SEVERINO | C53: 1 | D53: 0 | E53: 24 | F53: 50 | G53: 0.48 | H53: 0.48 | I53: 69
A54: 53 | B54: SÁNCHEZ GUARDIA, ISIDRO | C54: 1 | D54: 0 | E54: 22 | F54: 50 | G54: 0.44 | H54: 0.44 | I54: 68
A55: 54 | B55: LOBILLO VILLALÓN, JOSÉ | C55: 1 | D55: 0 | E55: 21 | F55: 50 | G55: 0.42 | H55: 0.42 | I55: 67
A56: 55 | B56: GÓMEZ PÉREZ, MANUEL | C56: 1 | D56: 0 | E56: 18 | F56: 50 | G56: 0.36 | H56: 0.36 | I56: 66
A57: 56 | B57: LAGARES CANO, JOSÉ | C57: 2 | D57: 2 | E57: 41 | F57: 100 | G57: 0.41 | H57: 0.54 | I57: 65
A58: 57 | B58: VÁZQUEZ AGUILERA, JOSÉ ANTONIO | C58: 1 | D58: 0 | E58: 13 | F58: 50 | G58: 0.26 | H58: 0.26 | I58: 64
A59: 58 | B59: MORENO GUZMÁN, JUAN | C59: 1 | D59: 0 | E59: 11 | F59: 50 | G59: 0.22 | H59: 0.22 | I59: 63
A60: 59 | B60: SÁNCHEZ JUAN, ÁNGEL | C60: 3 | D60: 2 | E60: 65 | F60: 147 | G60: 0.442 | H60: 0.56 | I60: 62
A61: 60 | B61: SÁNCHEZ GARCÍA, JUAN RAMÓN | C61: 0 | D61: 0 | E61: 0 | F61: 0 | H61: 0 | I61: 57
A62: 61 | B62: MUÑOZ DOBLAS, JOSÉ LUIS | C62: 0 | D62: 0 | E62: 0 | F62: 0 | H62: 0 | I62: 57
A63: 62 | B63: MELERO MELERO, JUAN | C63: 0 | D63: 0 | E63: 0 | F63: 0 | H63: 0 | I63: 57
A64: 63 | B64: GÓMEZ RIBAYO, ANTONIO | C64: 0 | D64: 0 | E64: 0 | F64: 0 | H64: 0 | I64: 57
A65: 64 | B65: DOMÍNGUEZ CANO, JUAN | C65: 0 | D65: 0 | E65: 0 | F65: 0 | H65: 0 | I65: 57
A66: 65 | B66: MARÍN GUERRERO, DIEGO | C66: 1 | D66: 0 | E66: 30 | F66: 50 | G66: 0.6 | H66: 0.6 | I66: 49
A67: 66 | B67: VEGA SUÁREZ, CAYETANO | C67: 1 | D67: 0 | E67: 30 | F67: 50 | G67: 0.6 | H67: 0.6 | I67: 48
A68: 67 | B68: BOHÓRQUEZ VERA, JOSÉ Mª | C68: 1 | D68: 0 | E68: 30 | F68: 50 | G68: 0.6 | H68: 0.6 | I68: 47
A69: 68 | B69: LÓPEZ CORREA, CARLOS EDUARDO | C69: 1 | D69: 0 | E69: 28 | F69: 50 | G69: 0.56 | H69: 0.56 | I69: 46
A70: 69 | B70: JIMÉNEZ UTRERA, JOSÉ | C70: 1 | D70: 0 | E70: 27 | F70: 50 | G70: 0.54 | H70: 0.54 | I70: 45
A71: 70 | B71: IRISARRI CRUZ, FERNANDO | C71: 1 | D71: 0 | E71: 24 | F71: 50 | G71: 0.48 | H71: 0.48 | I71: 44
A72: 71 | B72: NAVARRO GUILLÉN, JUAN ANTONIO | C72: 2 | D72: 1 | E72: 54 | F72: 100 | G72: 0.54 | H72: 0.6 | I72: 43
A73: 72 | B73: MANZANO DOÑA, FRANCISCO DE ASÍS | C73: 1 | D73: 0 | E73: 21 | F73: 50 | G73: 0.42 | H73: 0.42 | I73: 42
A74: 73 | B74: SÁNCHEZ GARCÍA, TOMÁS | C74: 1 | D74: 0 | E74: 21 | F74: 50 | G74: 0.42 | H74: 0.42 | I74: 41
A75: 74 | B75: CABELLO SOUSA, JUAN JOSÉ | C75: 1 | D75: 0 | E75: 13 | F75: 32 | G75: 0.406 | H75: 0.406 | I75: 40
A76: 75 | B76: CANO POYATO, MANUEL | C76: 1 | D76: 0 | E76: 20 | F76: 50 | G76: 0.4 | H76: 0.4 | I76: 39
A77: 76 | B77: RAMÍREZ DEL VALLE, JOSÉ LUIS | C77: 1 | D77: 0 | E77: 16 | F77: 50 | G77: 0.32 | H77: 0.32 | I77: 38
... A80: 79 | B80: GÓMEZ LÓPEZ, JOSÉ | C80: 2 | D80: 1 | E80: 43 | F80: 100 | G80: 0.43 | H80: 0.58 | I80: 35
A81: 80 | B81: RODRÍGUEZ LÓPEZ, FRANCISCO M. | C81: 0 | D81: 0 | E81: 0 | F81: 0 | H81: 0 | I81: 34
A82: 81 | B82: MARTÍN RAMOS, MANUEL JESÚS | C82: 1 | D82: 0 | E82: 27 | F82: 50 | G82: 0.54 | H82: 0.54 | I82: 25
A83: 82 | B83: NUÑEZ BLANCO, DAVID | C83: 1 | D83: 0 | E83: 21 | F83: 48 | G83: 0.438 | H83: 0.438 | I83: 25
A84: 83 | B84: GONZÁLEZ GARCÉS, JOSÉ ROSENDO | C84: 1 | D84: 0 | E84: 21 | F84: 50 | G84: 0.42 | H84: 0.42 | I84: 25
A85: 84 | B85: CANO GARCÍA, GUILLERMO | C85: 1 | D85: 0 | E85: 21 | F85: 50 | G85: 0.42 | H85: 0.42 | I85: 25
A86: 85 | B86: MARTÍN PÉREZ, VICENTE | C86: 1 | D86: 0 | E86: 20 | F86: 50 | G86: 0.4 | H86: 0.4 | I86: 25
A87: 86 | B87: CASTELLANO DOMÍNGUEZ, FÉLIX PABLO | C87: 1 | D87: 0 | E87: 19 | F87: 50 | G87: 0.38 | H87: 0.38 | I87: 25
A88: 87 | B88: SERRANO JURADO, VICTOR MANUEL | C88: 1 | D88: 0 | E88: 19 | F88: 50 | G88: 0.38 | H88: 0.38 | I88: 25
A89: 88 | B89: CORDERO MORENO, ALFONSO ANTONIO | C89: 1 | D89: 0 | E89: 18 | F89: 50 | G89: 0.36 | H89: 0.36 | I89: 25
A90: 89 | B90: HERNÁNDEZ HERNÁNDEZ, PEDRO PASCUAL | C90: 1 | D90: 0 | E90: 14 | F90: 50 | G90: 0.28 | H90: 0.28 | I90: 25
A91: 90 | B91: GUTIERREZ MORENO, KEVIN | C91: 1 | D91: 0 | E91: 5 | F91: 50 | G91: 0.1 | H91: 0.1 | I91: 25

Sheet Hoja21
A1: Jugador | B1: Puntos
A2: DÍAZ RODRÍGUEZ, JAVIER | B2: 180
A3: MARTÍN SALAS, JOSÉ | B3: 165
A4: NUÑEZ PÉREZ, GERMÁN | B4: 155
A5: MARÍN GUERRERO, FELICIANO | B5: 155
A6: RODRÍGUEZ DOMÍNGUEZ, FRANCISCO J. | B6: 146
A7: SÁNCHEZ FARACO, JAIME | B7: 144
A8: GONZÁLEZ CASTRILLO, MANUEL JESÚS | B8: 142
A9: KOFOED, PER | B9: 140
A10: GARCÍA MARTÍNEZ, CRISTÓBAL | B10: 132
A11: CAMACHO DÍAZ, JOSÉ LUIS | B11: 131
A12: LAZO BLANCO, JOSÉ | B12: 130
A13: RAMÍREZ BARROSO, FRANCISCO J. | B13: 129
... A96: MARTÍN REYES, ENRIQUE | B96: 0

Sheet Hoja20
A1: MIRA CANTILLO, BALDOMERO | B1: 180
A2: SOUSA LÓPEZ, MANUEL | B2: 165
A3: CANO LÓPEZ, PABLO | B3: 155
A4: CAMACHO ESPINA, JOSÉ ANTONIO | B4: 155
A5: DÍAZ RODRÍGUEZ, JAVIER | B5: 146
A6: MARTÍN SALAS, JOSÉ | B6: 144
A7: DE LOS REYES JIMÉNEZ, JUAN ANTONIO | B7: 142
A8: MARÍN GUERRERO, FELICIANO | B8: 140
A9: RODRÍGUEZ DOMÍNGUEZ, FRANCISCO J. | B9: 132
A10: GONZÁLEZ CASTRILLO, MANUEL JESÚS | B10: 131
A11: KOFOED, PER | B11: 130
A12: SÁNCHEZ FARACO, JAIME | B12: 129
... A97: NUÑEZ BLANCO, DAVID | B97: 18

Sheet Hoja19
A1: SÁNCHEZ FARACO, JAIME | B1: 180
A2: RODRÍGUEZ DOMÍNGUEZ, FRANCISCO J. | B2: 155
A3: DÍAZ RODRÍGUEZ, JAVIER | B3: 144
A4: SOUSA LÓPEZ, MANUEL | B4: 155
A5: GONZÁLEZ CASTRILLO, MANUEL JESÚS | B5: 113
A6: KOFOED, PER | B6: 140
A7: MARÍN GUERRERO, FELICIANO | B7: 111
A8: CAMACHO ESPINA, JOSÉ ANTONIO | B8: 131
A9: MIRA CANTILLO, BALDOMERO | B9: 165
A10: DOMINGO CRESPO, JOSÉ MANUEL | B10: 127
A11: CAMACHO DÍAZ, JOSÉ LUIS | B11: 115
A12: GONZÁLEZ CALLE, JOSÉ RAMÓN | B12: 132
... A49: MUÑOZ MORENO, FRANCISCO | B49: 95
A50: RAMOS BLÁZQUEZ, FERNANDO
A51: GONZÁLEZ RODRÍGUEZ, ALEJANDRO ANTONIO | B51: 85
A52: MORENO RUIZ, GREGORIO
A53: FERNÁNDEZ MORALES, RICHARD | B53: 87
A54: GÓMEZ RIBAYO, ANTONIO | B54: 65
A55: MARTÍN VARGAS, MANUEL | B55: 69
A56: MELERO MELERO, JUAN | B56: 93
A57: CAÑAL GALBARRO, BLAS | B57: 80
A58: ORTIZ FERNÁNDEZ, JOSE LUIS | B58: 63
A59: COBRERO VALDERRAMA, MANUEL | B59: 67
A60: RAMÍREZ DEL VALLE, JOSÉ LUIS | B60: 64
A61: SERRANO JURADO, VICTOR MANUEL
A62: MARÍN BERNABEU, ANTONIO MANUEL
A63: CANO POYATO, MANUEL | B63: 41
A64: FUENTES VARGAS, ANTONIO
A65: IRISARRI CRUZ, FERNANDO | B65: 44
A66: BERMEO MARTINEZ, JUSTIN RODRIGO
A67: BOHÓRQUEZ VERA, JOSÉ Mª | B67: 43
A68: DOMÍNGUEZ CRUZ, FRANCISCO | B68: 72
A69: TOVAR JIMÉNEZ, YESID | B69: 25
A70: RODRÍGUEZ LÓPEZ, FRANCISCO M. | B70: 48
A71: ROSADO DÍAZ, ANTONIO | B71: 42
A72: CARAVER PRADOS, JOSÉ MIGUEL | B72: 46
A73: VEGA SUÁREZ, CAYETANO | B73: 36
A74: BLANCA GARCÍA, JUAN ANTONIO | B74: 25
A75: MANZANO DOÑA, FRANCISCO DE ASÍS | B75: 25
A76: DE LOS REYES JIMÉNEZ, JUAN ANTONIO
A77: ZARZA CALVO, JOSÉ LUIS | B77: 49
A78: MORAL CASTRO, JAVIER
A79: SÁNCHEZ GARCÍA, TOMÁS | B79: 47
A80: GUTIERREZ MORENO, RAFAEL | B80: 25
A81: MUÑOZ CABELLO, FRANCISCO JOSÉ
A82: ARROBA MARTÍ, JUAN | B82: 37
A83: JIMÉNEZ UTRERA, JOSÉ | B83: 91
A84: LÓPEZ SAMPEDRO, ALVARO | B84: 25
A85: CANO LÓPEZ, JOSÉ
A86: MENDEZ HIDALGO, FRANCISCO
A87: SANCHO LÓPEZ, FRANCISCO
A88: GONZÁLEZ CALVILLO, RAFAEL M.
A89: CABELLO SOUSA, JUAN JOSÉ | B89: 70
A90: CARMONA MARTÍN, AGUSTÍN
A91: JIMÉNEZ TORRES, ANDRÉS | B91: 25
A92: SEVILLA BEJARANO, JUAN JOSÉ | B92: 25
A93: CRUZ BURGOS, JOSÉ
A94: HOLGUIN MUÑOZ, PEDRO | B94: 25
A95: GÓMEZ LÓPEZ, JOSÉ | B95: 45
A96: CORONEL CORONEL, PEDRO | B96: 57
A97: PÉREZ MUÑOZ, FRANCISCO | B97: 34
A98: FERNÁNDEZ REYES, ÁNGEL
A99: GONZÁLEZ ÁLVAREZ, JOSÉ MANUEL | B99: 40
A100: NUÑEZ PÉREZ, GERMÁN
A101: TORREJÓN MOLINA, DIONISIO
A102: ÁLVAREZ AGUILAR, MANUEL
A103: GUTIERREZ MORENO, KEVIN | B103: 39
A104: TRUJILLO VEGA, JUAN VICENTE | B104: 60
A105: CASTRO CRESPO, JORGE | B105: 25
A106: MONROY MORENO, JUAN CARLOS | B106: 25
A107: LÓPEZ CORREA, CARLOS EDUARDO | B107: 82
A108: FERNÁNDEZ SÁNCHEZ-ARJONA, FRANCISCO JOSÉ | B108: 25
A109: MARTÍN VALVERDE, FRANCISCO JAVIER | B109: 38
A110: JUAN DEL VALLE, ADRIÁN | B110: 25
A111: MARÍN GUERRERO, DIEGO | B111: 35
A112: RODRÍGUEZ MESA, JOSÉ MARÍA | B112: 25
A113: SAAVEDRA ROMERO, FRANCISCO
A114: MARTÍN RAMOS, MANUEL JESÚS
A115: BOGALLO JIMÉNEZ, RAFAEL
A116: JIMÉNEZ POLEY, PASCUAL
A117: HERNÁNDEZ MARTÍNEZ, JAVIER
A118: MONTALBÁN ÁLVAREZ, FERNANDO
A119: ALBA CABEZA, RAFAEL
A120: GONZÁLEZ GARCÍA, MANUEL
A121: JUAN TORRES, JOSE MANUEL | B121: 18
A122: JESÚS CORREIA, JUAN LEONEL
A123: MONTENEGRO MORENO, JUAN PEDRO
A124: JURADO GÓMEZ, FRANCISCO PEDRO
A125: MARÍN BUENO, ANTONIO
A126: MENA JIMÉNEZ, JOSÉ
A127: HUESCA PÁEZ, JOSÉ
A128: MADUEÑO MADUEÑO, JOSÉ
A129: ROMERO PAREJA, JOSÉ MANUEL
A130: PINEDA POZO, RAFAEL
A131: NAVARRO GUILLÉN, JUAN ANTONIO
A132: ACUÑA CARMONA, PEDRO
A133: MARISCAL CAMPOS, FRANCISCO ALBERTO
... A146: REPULLO GÓMEZ, JOSÉ
A147: GARCÍA ALARCÓN, CARLOS | B147: 25
A148: CABRAL ANGEL, JOSÉ | B148: 18
...

Sheet Hoja18
A1: GONZÁLEZ CALLE, JOSÉ RAMÓN | B1: =VLOOKUP(A1,Hoja19!A:B,2,FALSE) -> 132 | C1: 132
A2: CAMACHO ESPINA, JOSÉ ANTONIO | B2: =VLOOKUP(A2,Hoja19!A:B,2,FALSE) -> 131 | C2: 131
A3: LAZO BLANCO, JOSÉ | B3: =VLOOKUP(A3,Hoja19!A:B,2,FALSE) -> 130 | C3: 130
A4: ANTONIO VERA, DOMINGO J. | B4: =VLOOKUP(A4,Hoja19!A:B,2,FALSE) -> 129 | C4: 129
A5: AMATE PRIETO, ANDRÉS | B5: =VLOOKUP(A5,Hoja19!A:B,2,FALSE) -> 128 | C5: 128
A6: DOMINGO CRESPO, JOSÉ MANUEL | B6: =VLOOKUP(A6,Hoja19!A:B,2,FALSE) -> 127 | C6: 127
A7: RODRÍGUEZ MARTÍN, FERNANDO | B7: =VLOOKUP(A7,Hoja19!A:B,2,FALSE) -> 126 | C7: 126
A8: GONZÁLEZ RODRÍGUEZ, DIEGO | B8: =VLOOKUP(A8,Hoja19!A:B,2,FALSE) -> 125 | C8: 125
A9: GARCÍA ARIAS, FRANCISCO J. | B9: =VLOOKUP(A9,Hoja19!A:B,2,FALSE) -> 118 | C9: 118
A10: CANO LÓPEZ, PABLO | B10: =VLOOKUP(A10,Hoja19!A:B,2,FALSE) -> 117 | C10: 117
A11: STAND URIBE, JOSÉ ANTONIO | B11: =VLOOKUP(A11,Hoja19!A:B,2,FALSE) -> 116 | C11: 116
A12: CAMACHO DÍAZ, JOSÉ LUIS | B12: =VLOOKUP(A12,Hoja19!A:B,2,FALSE) -> 115 | C12: 115
... A92: GONZÁLEZ VEGA, JUAN ANTONIO | B92: =VLOOKUP(A92,Hoja19!A:B,2,FALSE) -> 18 | C92: 18

Sheet Hoja17
A3: GONZÁLEZ CASTRILLO, MANUEL JESÚS | B3: 155
A4: RAMÍREZ BARROSO, FRANCISCO J. | B4: 155
A5: SÁNCHEZ FARACO, JAIME | B5: 146
A6: MARTÍN SALAS, JOSÉ | B6: 144
A7: SOUSA LÓPEZ, MANUEL | B7: 142
A8: CANO LÓPEZ, PABLO | B8: 140
A9: CAMACHO ESPINA, JOSÉ ANTONIO | B9: 132
A10: CAMACHO DÍAZ, JOSÉ LUIS | B10: 131
A11: DOMINGO CRESPO, JOSÉ MANUEL | B11: 130
A12: DÍAZ RODRÍGUEZ, JAVIER | B12: 129
A13: TORRES PULIDO, EMILIO JOSÉ | B13: 128
A14: RODRÍGUEZ DOMÍNGUEZ, FRANCISCO J. | B14: 127
... A94: LÓPEZ CORREA, CARLOS EDUARDO | B94: 0

Sheet Hoja15
A1: RODRÍGUEZ DOMÍNGUEZ, FRANCISCO J. | B1: 180
A2: KOFOED, PER | B2: 165
A3: SÁNCHEZ FARACO, JAIME | B3: 155
A4: DOMINGO CRESPO, JOSÉ MANUEL | B4: 155
A5: DÍAZ RODRÍGUEZ, JAVIER | B5: 146
A6: CAMACHO ESPINA, JOSÉ ANTONIO | B6: 144
A7: MARÍN GUERRERO, FELICIANO | B7: 142
A8: GONZÁLEZ CASTRILLO, MANUEL JESÚS | B8: 140
A9: MIRA CANTILLO, BALDOMERO | B9: 132
A10: MARTÍN SALAS, JOSÉ | B10: 131
A11: CONTRERAS ROMERO, JUAN | B11: 130
A12: SOUSA LÓPEZ, MANUEL | B12: 129
... A84: JIMÉNEZ LÓPEZ, CLEMENTE | B84: 25

Sheet Hoja14
A1: DÍAZ RODRÍGUEZ, JAVIER | B1: 180
A2: CAMACHO ESPINA, JOSÉ ANTONIO | B2: 165
A3: SÁNCHEZ FARACO, JAIME | B3: 155
A4: GONZÁLEZ CASTRILLO, MANUEL JESÚS | B4: 155
A5: MARÍN GUERRERO, FELICIANO | B5: 146
A6: RODRÍGUEZ DOMÍNGUEZ, FRANCISCO J. | B6: 144
A7: KOFOED, PER | B7: 142
A8: CANO LÓPEZ, PABLO | B8: 140
A9: CAMACHO DÍAZ, JOSÉ LUIS | B9: 132
A10: GONZÁLEZ RODRÍGUEZ, DIEGO | B10: 131
A11: SOUSA LÓPEZ, MANUEL | B11: 130
A12: DOMINGO CRESPO, JOSÉ MANUEL | B12: 129
... A86: ALARCÓN CALLE, JUAN | B86: 0

Sheet Hoja11
A1: DÍAZ RODRÍGUEZ, JAVIER | B1: 180
A2: SÁNCHEZ FARACO, JAIME | B2: 165
A3: MARÍN GUERRERO, FELICIANO | B3: 155
A4: CANO LÓPEZ, PABLO | B4: 155
A5: CAMACHO ESPINA, JOSÉ ANTONIO | B5: 146
A6: RAMOS BLÁZQUEZ, FERNANDO | B6: 144
A7: GONZÁLEZ RODRÍGUEZ, DIEGO | B7: 142
A8: KOFOED, PER | B8: 140
A9: MARTÍN SALAS, JOSÉ | B9: 132
A10: MORAL CASTRO, JAVIER | B10: 131
A11: CAMACHO DÍAZ, JOSÉ LUIS | B11: 130
A12: GONZÁLEZ CALLE, JOSÉ RAMÓN | B12: 129
... A92: CAMAS ROSADO, CHRISTIAN | B92: 0

Sheet Hoja12
A1: SÁNCHEZ FARACO, JAIME | B1: 180
A2: DÍAZ RODRÍGUEZ, JAVIER | B2: 165
A3: RODRÍGUEZ DOMÍNGUEZ, FRANCISCO J. | B3: 155
A4: RAMOS BLÁZQUEZ, FERNANDO | B4: 155
A5: GONZÁLEZ CALLE, JOSÉ RAMÓN | B5: 146
A6: CAMACHO DÍAZ, JOSÉ LUIS | B6: 144
A7: MORALES MARTÍNEZ, GREGORIO | B7: 142
A8: COBO SORIANO, FRANCISCO JAVIER | B8: 140
A9: SOUSA LÓPEZ, MANUEL | B9: 132
A10: CAMACHO ESPINA, JOSÉ ANTONIO | B10: 131
A11: ORCERA MURO, PEDRO JOSÉ | B11: 130
A12: GONZÁLEZ CASTRILLO, MANUEL JESÚS | B12: 129
... A54: AMAYA FORTES, SALVADOR | B54: 67

Sheet Hoja13
A1: RODRÍGUEZ DOMÍNGUEZ, FRANCISCO J. | B1: 180
A2: SÁNCHEZ FARACO, JAIME | B2: 165
A3: SOUSA LÓPEZ, MANUEL | B3: 155
A4: CAMACHO DÍAZ, JOSÉ LUIS | B4: 155
A5: ANTONIO VERA, DOMINGO J. | B5: 146
A6: DÍAZ RODRÍGUEZ, JAVIER | B6: 144
A7: GONZÁLEZ CALLE, JOSÉ RAMÓN | B7: 142
A8: CAMACHO ESPINA, JOSÉ ANTONIO | B8: 140
A9: GONZÁLEZ CASTRILLO, MANUEL JESÚS | B9: 132
A10: LAZO BLANCO, JOSÉ | B10: 131
A11: MARÍN GUERRERO, FELICIANO | B11: 130
A12: MORALES MARTÍNEZ, GREGORIO | B12: 129
... A94: CASTRO CRESPO, JORGE | B94: 0

Sheet Hoja16
A1: SOUSA LÓPEZ, MANUEL | B1: 180
A2: GONZÁLEZ CASTRILLO, MANUEL JESÚS | B2: 165
A3: DÍAZ RODRÍGUEZ, JAVIER | B3: 155
A4: RODRÍGUEZ DOMÍNGUEZ, FRANCISCO J. | B4: 155
A5: KOFOED, PER | B5: 146
A6: CAMACHO DÍAZ, JOSÉ LUIS | B6: 144
A7: AMATE PRIETO, ANDRÉS | B7: 142
A8: RAMÍREZ BARROSO, FRANCISCO J. | B8: 140
A9: MARÍN GUERRERO, FELICIANO | B9: 132
A10: GARCÍA ARIAS, FRANCISCO J. | B10: 131
A11: SÁNCHEZ FARACO, JAIME | B11: 130
A12: MIRA CANTILLO, BALDOMERO | B12: 129
... A75: MARISCAL CAMPOS, FRANCISCO ALBERTO | B75: 39

Sheet Hoja10
A1: Jugador | B1: Puntos
A2: DÍAZ RODRÍGUEZ, JAVIER | B2: 180
A3: FERNÁNDEZ MUÑOZ, GUILLERMO | B3: 165
A4: MUÑOZ DOBLAS, JOSÉ LUIS | B4: 155
A5: RODRÍGUEZ DOMÍNGUEZ, FRANCISCO J. | B5: 155
A6: CANO LÓPEZ, PABLO | B6: 146
A7: SÁNCHEZ FARACO, JAIME | B7: 144
A8: CAMACHO DÍAZ, JOSÉ LUIS | B8: 142
A9: SANCHO LÓPEZ, FRANCISCO | B9: 140
A10: GONZÁLEZ CASTRILLO, MANUEL JESÚS | B10: 132
A11: KOFOED, PER | B11: 131
A12: SOUSA LÓPEZ, MANUEL | B12: 130
A13: RAMOS BLÁZQUEZ, FERNANDO | B13: 129
... A73: BORJAS GUERRERO, LUIS | B73: 42
B74: 41
B75: 40
B76: 39
B77: 38
B78: 37
B79: 36
B80: 35
B81: 0
A82: MONTENEGRO, JUAN PEDRO | B82: 41
A83: ROJO GARCÍA, JOSÉ MANUEL | B83: 40
A84: VALERO ALARCÓN, ENRIQUE | B84: 39
A85: GARCÍA GARCÍA, PATXI | B85: 38
A86: GÁMEZ PÉREZ, ANTONIO | B86: 0

Sheet Hoja9
A1: Jugador | B1: Puntos
A2: NUÑEZ PÉREZ, GERMÁN | B2: 180
A3: DÍAZ RODRÍGUEZ, JAVIER | B3: 165
A4: SÁNCHEZ FARACO, JAIME | B4: 155
A5: RODRÍGUEZ DOMÍNGUEZ, FRANCISCO J. | B5: 155
A6: CANO LÓPEZ, PABLO | B6: 146
A7: SOUSA LÓPEZ, MANUEL | B7: 144
A8: MARTÍN SALAS, JOSÉ | B8: 142
A9: MARÍN GUERRERO, FELICIANO | B9: 140
A10: RAMOS BLÁZQUEZ, FERNANDO | B10: 132
A11: CASTAÑEDA ACEVEDO, JHONATHAN | B11: 131
A12: MUÑOZ MORENO, FRANCISCO | B12: 130
A13: KOFOED, PER | B13: 129
... A87: SILES MACHADO, JOSÉ | B87: 0

Sheet Hoja6

Sheet Hoja5
A1: DÍAZ RODRÍGUEZ, JAVIER | B1: 180
A2: MENCHÓN GARCÍA, JUAN ANTONIO | B2: 165
A3: GONZÁLEZ CASTRILLO, MANUEL JESÚS | B3: 155
A4: MORAL CASTRO, JAVIER | B4: 155
A5: GÓMEZ SÁNCHEZ, ALBERTO | B5: 146
A6: GONZÁLEZ CALLE, JOSÉ RAMÓN | B6: 144
A7: KOFOED, PER | B7: 142
A8: CANO LÓPEZ, PABLO | B8: 140
A9: DOMINGO CRESPO, JOSÉ MANUEL | B9: 132
A10: LAZO BLANCO, JOSÉ | B10: 131
A11: RODRÍGUEZ DOMÍNGUEZ, FRANCISCO J. | B11: 130
A12: CAMACHO ESPINA, JOSÉ ANTONIO | B12: 129
... A75: TOSSE RIAÑO, SANDRA PATRICIA | B75: 39

Sheet Hoja4
A1: 1 | B1: SÁNCHEZ FARACO, JAIME | C1: 180
A2: 2 | B2: MUÑOZ MUÑOZ, JOSÉ | C2: 165
A3: 3 | B3: MARTÍN SALAS, JOSÉ | C3: 155
A4: 4 | B4: MENCHÓN GARCÍA, JUAN ANTONIO | C4: 155
A5: 5 | B5: MIRA CANTILLO, BALDOMERO | C5: 146
A6: 6 | B6: GONZÁLEZ CALLE, JOSÉ RAMÓN | C6: 144
A7: 7 | B7: CAMACHO DÍAZ, JOSÉ LUIS | C7: 142
A8: 8 | B8: DÍAZ RODRÍGUEZ, JAVIER | C8: 140
A9: 9 | B9: CANO LÓPEZ, PABLO | C9: 132
A10: 10 | B10: KOFOED, PER | C10: 131
A11: 11 | B11: SOUSA LÓPEZ, MANUEL | C11: 130
A12: 12 | B12: RODRÍGUEZ DOMÍNGUEZ, FRANCISCO J. | C12: 129
... A86: 86 | B86: CALLE ALBARRÁN, FRANCISCO | C86: 0

Sheet Hoja1
A1: 5 | B1: =VLOOKUP(C1,'Rank 3 bandas'!C:C,2,FALSE) -> #REF! | C1: =UPPER(D1) -> DÍAZ RODRÍGUEZ, JAVIER | D1: Díaz Rodríguez, Javier | E1: 3 | F1: 2 | G1: 115 | H1: 112 | I1: 1.027 | J1: 1.333 | K1: 146
A2: 6 | B2: =VLOOKUP(C2,'Rank 3 bandas'!C:C,2,FALSE) -> #REF! | C2: =UPPER(D2) -> GOMÁRIZ PORTALES, FRANCISCO JAVIER | D2: Gomáriz Portales, Francisco Javier | E2: 3 | F2: 2 | G2: 114 | H2: 115 | I2: 0.991 | J2: 1.379 | K2: 144
A3: 7 | B3: =VLOOKUP(C3,'Rank 3 bandas'!C:C,2,FALSE) -> #REF! | C3: =UPPER(D3) -> SOUSA LÓPEZ, MANUEL | D3: Sousa López, Manuel | E3: 3 | F3: 2 | G3: 105 | H3: 111 | I3: 0.946 | J3: 1.143 | K3: 142
A4: 8 | B4: =VLOOKUP(C4,'Rank 3 bandas'!C:C,2,FALSE) -> #REF! | C4: =UPPER(D4) -> GONZÁLEZ CALLE, JOSÉ RAMÓN | D4: González Calle, José Ramón | E4: 3 | F4: 2 | G4: 99 | H4: 126 | I4: 0.786 | J4: 0.93 | K4: 140
A5: 9 | B5: =VLOOKUP(C5,'Rank 3 bandas'!C:C,2,FALSE) -> #REF! | C5: =UPPER(D5) -> CAMACHO ESPINA, JOSÉ ANTONIO | D5: Camacho Espina, José Antonio | E5: 2 | F5: 1 | G5: 80 | H5: 71 | I5: 1.127 | J5: 1.379 | K5: 132
A6: 10 | B6: =VLOOKUP(C6,'Rank 3 bandas'!C:C,2,FALSE) -> #REF! | C6: =UPPER(D6) -> KOFOED, PER | D6: Kofoed, Per | E6: 2 | F6: 1 | G6: 55 | H6: 73 | I6: 0.753 | J6: 0.957 | K6: 131
A7: 11 | B7: =VLOOKUP(C7,'Rank 3 bandas'!C:C,2,FALSE) -> #REF! | C7: =UPPER(D7) -> MORAL CASTRO, JAVIER | D7: Moral Castro, Javier | E7: 3 | F7: 2 | G7: 117 | H7: 129 | I7: 0.907 | J7: 1.053 | K7: 130
A8: 12 | B8: =VLOOKUP(C8,'Rank 3 bandas'!C:C,2,FALSE) -> #REF! | C8: =UPPER(D8) -> MIRA CANTILLO, BALDOMERO | D8: Mira Cantillo, Baldomero | E8: 2 | F8: 1 | G8: 66 | H8: 92 | I8: 0.717 | J8: 0.72 | K8: 129
A9: 13 | B9: =VLOOKUP(C9,'Rank 3 bandas'!C:C,2,FALSE) -> #REF! | C9: =UPPER(D9) -> RAMOS BLÁZQUEZ, FERNANDO | D9: Ramos Blázquez, Fernando | E9: 2 | F9: 1 | G9: 69 | H9: 89 | I9: 0.775 | J9: 0.889 | K9: 128
A10: 14 | B10: =VLOOKUP(C10,'Rank 3 bandas'!C:C,2,FALSE) -> #N/A | C10: =UPPER(D10) -> MENCHÓN GARCÍA, JUAN ANTONIO | D10: Menchón García, Juan Antonio | E10: 2 | F10: 1 | G10: 56 | H10: 90 | I10: 0.622 | J10: 0.65 | K10: 127
A11: 15 | B11: =VLOOKUP(C11,'Rank 3 bandas'!C:C,2,FALSE) -> #REF! | C11: =UPPER(D11) -> MUÑOZ MUÑOZ, JOSÉ | D11: Muñoz Muñoz, José | E11: 2 | F11: 1 | G11: 65 | H11: 84 | I11: 0.774 | J11: 0.889 | K11: 126
A12: 16 | B12: =VLOOKUP(C12,'Rank 3 bandas'!C:C,2,FALSE) -> #REF! | C12: =UPPER(D12) -> ANTONIO VERA, DOMINGO J. | D12: Antonio Vera, Domingo J. | E12: 4 | F12: 3 | G12: 139 | H12: 176 | I12: 0.79 | J12: 1.143 | K12: 125
A13: 17 | B13: =VLOOKUP(C13,'Rank 3 bandas'!C:C,2,FALSE) -> #REF! | C13: =UPPER(D13) -> MARTÍN INFANTES, ANTONIO JOSÉ | D13: Martín Infantes, Antonio José | E13: 2 | F13: 1 | G13: 70 | H13: 83 | I13: 0.843 | J13: 0.939 | K13: 118
A14: 18 | B14: =VLOOKUP(C14,'Rank 3 bandas'!C:C,2,FALSE) -> #REF! | C14: GÓMEZ SÁNCHEZ, ALBERTO | D14: Gómez Sánchez, Alberto | E14: 4 | F14: 3 | G14: 142 | H14: 144 | I14: 0.986 | J14: 1.212 | K14: 117
A15: 19 | B15: =VLOOKUP(C15,'Rank 3 bandas'!C:C,2,FALSE) -> #REF! | C15: =UPPER(D15) -> CANO LÓPEZ, PABLO | D15: Cano López, Pablo | E15: 2 | F15: 1 | G15: 72 | H15: 89 | I15: 0.809 | J15: 0.909 | K15: 116
A16: 20 | B16: =VLOOKUP(C16,'Rank 3 bandas'!C:C,2,FALSE) -> #REF! | C16: =UPPER(D16) -> GUTIÉRREZ SAMPEDRO, RAFAEL | D16: Gutiérrez Sampedro, Rafael | E16: 2 | F16: 1 | G16: 70 | H16: 87 | I16: 0.805 | J16: 0.952 | K16: 115
A17: 21 | B17: =VLOOKUP(C17,'Rank 3 bandas'!C:C,2,FALSE) -> #REF! | C17: =UPPER(D17) -> GONZÁLEZ RODRÍGUEZ, ALEJANDRO ANTONIO | D17: González Rodríguez, Alejandro Antonio | E17: 2 | F17: 1 | G17: 67 | H17: 94 | I17: 0.713 | J17: 0.76 | K17: 114
A18: 22 | B18: =VLOOKUP(C18,'Rank 3 bandas'!C:C,2,FALSE) -> #REF! | C18: =UPPER(D18) -> MARÍN GUERRERO, FELICIANO | D18: Marín Guerrero, Feliciano | E18: 1 | F18: 0 | G18: 27 | H18: 41 | I18: 0.659 | J18: 0.659 | K18: 113
A19: 23 | B19: =VLOOKUP(C19,'Rank 3 bandas'!C:C,2,FALSE) -> #REF! | C19: =UPPER(D19) -> GONZÁLEZ RODRÍGUEZ, DIEGO | D19: González Rodríguez, Diego | E19: 2 | F19: 1 | G19: 58 | H19: 93 | I19: 0.624 | J19: 0.651 | K19: 112
A20: 24 | B20: =VLOOKUP(C20,'Rank 3 bandas'!C:C,2,FALSE) -> #REF! | C20: =UPPER(D20) -> TORRES PULIDO, EMILIO JOSÉ | D20: Torres Pulido, Emilio José | E20: 3 | F20: 2 | G20: 101 | H20: 125 | I20: 0.808 | J20: 1.176 | K20: 111
A21: 25 | B21: =VLOOKUP(C21,'Rank 3 bandas'!C:C,2,FALSE) -> #REF! | C21: =UPPER(D21) -> MORENO LEO, ANTONIO | D21: Moreno Leo, Antonio | E21: 2 | F21: 1 | G21: 67 | H21: 100 | I21: 0.67 | J21: 0.78 | K21: 110
A22: 26 | B22: =VLOOKUP(C22,'Rank 3 bandas'!C:C,2,FALSE) -> #REF! | C22: =UPPER(D22) -> SÁNCHEZ GUARDIA, ISIDRO | D22: Sánchez Guardia, Isidro | E22: 2 | F22: 1 | G22: 54 | H22: 100 | I22: 0.54 | J22: 0.56 | K22: 109
A23: 27 | B23: =VLOOKUP(C23,'Rank 3 bandas'!C:C,2,FALSE) -> #REF! | C23: =UPPER(D23) -> DOMINGO CRESPO, JOSÉ MANUEL | D23: Domingo Crespo, José Manuel | E23: 1 | F23: 0 | G23: 22 | H23: 41 | I23: 0.537 | J23: 0.537 | K23: 108
A24: 28 | B24: =VLOOKUP(C24,'Rank 3 bandas'!C:C,2,FALSE) -> #REF! | C24: =UPPER(D24) -> SORIA MORENO, ANTONIO | D24: Soria Moreno, Antonio | E24: 2 | F24: 1 | G24: 48 | H24: 81 | I24: 0.593 | J24: 0.64 | K24: 107
A25: 29 | B25: =VLOOKUP(C25,'Rank 3 bandas'!C:C,2,FALSE) -> #REF! | C25: =UPPER(D25) -> PONCE RAMOS, DOMINGO | D25: Ponce Ramos, Domingo | E25: 3 | F25: 1 | G25: 79 | H25: 135 | I25: 0.585 | J25: 0.62 | K25: 106
A26: 30 | B26: =VLOOKUP(C26,'Rank 3 bandas'!C:C,2,FALSE) -> #REF! | C26: =UPPER(D26) -> DOMÍNGUEZ CANO, JUAN | D26: Domínguez Cano, Juan | E26: 4 | F26: 3 | G26: 115 | H26: 200 | I26: 0.575 | J26: 0.72 | K26: 105
... A75: 79 | B75: =VLOOKUP(C75,'Rank 3 bandas'!C:C,2,FALSE) -> #REF! | C75: =UPPER(D75) -> SÁNCHEZ GARCÍA, JUAN RAMÓN | D75: Sánchez García, Juan Ramón | E75: 1 | F75: 0 | G75: 26 | H75: 50 | I75: 0.52 | J75: 0.52 | K75: 35
A76: 80 | B76: =VLOOKUP(C76,'Rank 3 bandas'!C:C,2,FALSE) -> #REF! | C76: =UPPER(D76) -> MUÑOZ MORENO, FRANCISCO | D76: Muñoz Moreno, Francisco | E76: 0 | F76: 0 | G76: 0 | H76: 0 | J76: 0 | K76: 34
A77: 81 | B77: =VLOOKUP(C77,'Rank 3 bandas'!C:C,2,FALSE) -> #REF! | C77: =UPPER(D77) -> CASTRO CRESPO, JORGE | D77: Castro Crespo, Jorge | E77: 1 | F77: 0 | G77: 23 | H77: 50 | I77: 0.46 | J77: 0.46 | K77: 25
A78: 82 | B78: =VLOOKUP(C78,'Rank 3 bandas'!C:C,2,FALSE) -> #REF! | C78: =UPPER(D78) -> GONZÁLEZ MARÍN, MANUEL JULIO | D78: González Marín, Manuel Julio | E78: 1 | F78: 0 | G78: 21 | H78: 50 | I78: 0.42 | J78: 0.42 | K78: 25
A79: 83 | B79: =VLOOKUP(C79,'Rank 3 bandas'!C:C,2,FALSE) -> #REF! | C79: =UPPER(D79) -> JIMÉNEZ UTRERA, JOSÉ | D79: Jiménez Utrera, José | E79: 1 | F79: 0 | G79: 20 | H79: 50 | I79: 0.4 | J79: 0.4 | K79: 25
A80: 84 | B80: =VLOOKUP(C80,'Rank 3 bandas'!C:C,2,FALSE) -> #REF! | C80: =UPPER(D80) -> PALOMINO ROMERA, FRANCISCO | D80: Palomino Romera, Francisco | E80: 1 | F80: 0 | G80: 18 | H80: 50 | I80: 0.36 | J80: 0.36 | K80: 25
A81: 85 | B81: =VLOOKUP(C81,'Rank 3 bandas'!C:C,2,FALSE) -> #REF! | C81: =UPPER(D81) -> CABELLO SOUSA, JUAN JOSÉ | D81: Cabello Sousa, Juan José | E81: 1 | F81: 0 | G81: 18 | H81: 50 | I81: 0.36 | J81: 0.36 | K81: 25
A82: 86 | B82: =VLOOKUP(C82,'Rank 3 bandas'!C:C,2,FALSE) -> #REF! | C82: =UPPER(D82) -> RAMOS ROMÁN, ANTONIO | D82: Ramos Román, Antonio | E82: 1 | F82: 0 | G82: 9 | H82: 50 | I82: 0.18 | J82: 0.18 | K82: 25
A83: 87 | B83: =VLOOKUP(C83,'Rank 3 bandas'!C:C,2,FALSE) -> #REF! | C83: =UPPER(D83) -> MANZANO DOÑA, FRANCISCO DE ASÍS | D83: Manzano Doña, Francisco de Asís | E83: 1 | F83: 0 | G83: 7 | H83: 50 | I83: 0.14 | J83: 0.14 | K83: 25

Sheet Rank Banda
C2: RANKING ACUMULADO BANDA TEMP. 21/22
C4: CLASIFICACION
B5: DNI | C5: NOMBRE | D5: BURGUILLOS 21/22 | E5: MIJAS 21/22 | F5: HUMILLADERO 21/22 | G5: Bonus Asistencia | H5: TOTAL
A6: 1 | B6: 29735450S | C6: MORALES MARTÍNEZ, GREGORIO | D6: 72 | E6: 40 | F6: 40 | G6: =+COUNT(D6:F6)*5 -> 15 | H6: =+SUM(D6:G6) -> 167
A7: 2 | B7: 80128244Q | C7: MORAL CASTRO, JAVIER | D7: 56 | E7: 40 | F7: 56 | G7: =+COUNT(D7:F7)*5 -> 15 | H7: =+SUM(D7:G7) -> 167
A8: 3 | B8: 75340105V | C8: RODRÍGUEZ MARTÍN, FERNANDO | D8: 30 | E8: 32 | F8: 72 | G8: =+COUNT(D8:F8)*5 -> 15 | H8: =+SUM(D8:G8) -> 149
A9: 4 | B9: 22449098V | C9: MENCHÓN GARCÍA, JUAN ANTONIO | D9: 40 | E9: 56 | G9: =+COUNT(D9:F9)*5 -> 10 | H9: =+SUM(D9:G9) -> 106
A10: 5 | B10: 75366301Q | C10: LÓPEZ PEREJÓN, JUAN | D10: 16 | E10: 30 | F10: 32 | G10: =+COUNT(D10:F10)*5 -> 15 | H10: =+SUM(D10:G10) -> 93
A11: 6 | B11: 75642038Y | C11: BUJALANCE FERNÁNDEZ, JOAQUÍN | D11: 19 | E11: 18 | F11: 40 | G11: =+COUNT(D11:F11)*5 -> 15 | H11: =+SUM(D11:G11) -> 92
A12: 7 | B12: 28885555A | C12: SÁNCHEZ GUARDIA, ISIDRO | D12: 32 | E12: 15 | F12: 28 | G12: =+COUNT(D12:F12)*5 -> 15 | H12: =+SUM(D12:G12) -> 90
A13: 8 | B13: 48004772T | C13: CHACÓN LÓPEZ, CARLOS JAVIER | E13: 72 | G13: =+COUNT(D13:F13)*5 -> 5 | H13: =+SUM(D13:G13) -> 77
A14: 9 | B14: X7785753T | C14: DADDETTA, JOSÉ NESTOR | D14: 28 | F14: 30 | G14: =+COUNT(D14:F14)*5 -> 10 | H14: =+SUM(D14:G14) -> 68
A15: 10 | B15: 28665484D | C15: DÍAZ RODRÍGUEZ, JUAN MARÍA | D15: 5 | E15: 26 | F15: 16 | G15: =+COUNT(D15:F15)*5 -> 15 | H15: =+SUM(D15:G15) -> 62
A16: 11 | B16: 25302662C | C16: SORIA MORENO, ANTONIO | D16: 14 | E16: 17 | F16: 15 | G16: =+COUNT(D16:F16)*5 -> 15 | H16: =+SUM(D16:G16) -> 61
A17: 12 | B17: 29746898D | C17: MARÍN GUERRERO, FELICIANO | D17: 40 | G17: =+COUNT(D17:F17)*5 -> 5 | H17: =+SUM(D17:G17) -> 45
A18: 13 | B18: 28339040G | C18: VELA LARA, ANDRÉS | D18: 13 | F18: 20 | G18: =+COUNT(D18:F18)*5 -> 10 | H18: =+SUM(D18:G18) -> 43
A19: 14 | B19: 28811977S | C19: GUTIÉRREZ SAMPEDRO, RAFAEL | D19: 8 | F19: 17 | G19: =+COUNT(D19:F19)*5 -> 10 | H19: =+SUM(D19:G19) -> 35
A20: 15 | B20: 24280762F | C20: ALONSO SUÁREZ, ANTONIO | D20: 6 | E20: 0 | F20: 19 | G20: =+COUNT(D20:F20)*5-5 -> 10 | H20: =+SUM(D20:G20) -> 35
A21: 16 | B21: 27335549A | C21: VALERO ALARCÓN, ENRIQUE | E21: 28 | G21: =+COUNT(D21:F21)*5 -> 5 | H21: =+SUM(D21:G21) -> 33
A22: 17 | B22: 75363756R | C22: PÉREZ MUÑOZ, FRANCISCO | D22: 26 | G22: =+COUNT(D22:F22)*5 -> 5 | H22: =+SUM(D22:G22) -> 31
A23: 18 | B23: 25291978M | C23: SANCHO LÓPEZ, FRANCISCO | F23: 26 | G23: =+COUNT(D23:F23)*5 -> 5 | H23: =+SUM(D23:G23) -> 31
A24: 19 | B24: 25317537B | C24: SORIA MORENO, JOSÉ | D24: 4 | F24: 18 | G24: =+COUNT(D24:F24)*5-5 -> 5 | H24: =+SUM(D24:G24) -> 27
A25: 20 | B25: 28412353Q | C25: LOBILLO VILLALÓN, JOSÉ | D25: 20 | G25: =+COUNT(D25:F25)*5 -> 5 | H25: =+SUM(D25:G25) -> 25
A26: 21 | B26: 75528972P | C26: CANO LÓPEZ, PABLO | D26: 18 | G26: =+COUNT(D26:F26)*5 -> 5 | H26: =+SUM(D26:G26) -> 23
A27: 22 | B27: 29742675H | C27: FERNÁNDEZ LINEROS, JOSÉ ANTONIO | D27: 17 | G27: =+COUNT(D27:F27)*5 -> 5 | H27: =+SUM(D27:G27) -> 22
A28: 23 | B28: 31861913J | C28: TORREJÓN MOLINA, DIONISIO | E28: 16 | G28: =+COUNT(D28:F28)*5 -> 5 | H28: =+SUM(D28:G28) -> 21
A29: 24 | B29: 28668899C | C29: PINEDA POZO, RAFAEL | D29: 15 | G29: =+COUNT(D29:F29)*5 -> 5 | H29: =+SUM(D29:G29) -> 20
A30: 25 | B30: 24860582C | C30: GONZÁLEZ RODRÍGUEZ, DIEGO | E30: 15 | G30: =+COUNT(D30:F30)*5 -> 5 | H30: =+SUM(D30:G30) -> 20
A31: 26 | B31: 80046684Z | C31: BLANCA GARCÍA, JUAN ANTONIO | E31: 14 | G31: =+COUNT(D31:F31)*5 -> 5 | H31: =+SUM(D31:G31) -> 19
A32: 27 | B32: 52271032J | C32: MORENO LEO, ANTONIO | F32: 14 | G32: =+COUNT(D32:F32)*5 -> 5 | H32: =+SUM(D32:G32) -> 19
A33: 28 | B33: 24792531A | C33: PAVÓN CELADA, JOSÉ ANTONIO | E33: 13 | G33: =+COUNT(D33:F33)*5 -> 5 | H33: =+SUM(D33:G33) -> 18
A34: 29 | B34: 75407294T | C34: GÓMEZ PÉREZ, MANUEL | D34: 12 | G34: =+COUNT(D34:F34)*5 -> 5 | H34: =+SUM(D34:G34) -> 17
A35: 30 | B35: 79167173T | C35: HENAO GONZÁLEZ, JUVENAL | E35: 12 | G35: =+COUNT(D35:F35)*5 -> 5 | H35: =+SUM(D35:G35) -> 17
A36: 31 | B36: 75628542B | C36: JIMÉNEZ LÓPEZ, CLEMENTE | D36: 11 | G36: =+COUNT(D36:F36)*5 -> 5 | H36: =+SUM(D36:G36) -> 16
A37: 32 | B37: X99999999 | C37: STAND URIBE, JOSÉ ANTONIO | E37: 11 | G37: =+COUNT(D37:F37)*5 -> 5 | H37: =+SUM(D37:G37) -> 16
A38: 33 | B38: 28881046S | C38: SEVILLA BEJARANO, JUAN JOSÉ | D38: 10 | G38: =+COUNT(D38:F38)*5 -> 5 | H38: =+SUM(D38:G38) -> 15
A39: 34 | B39: 51961955X | C39: GEA BERMEJO, FERNANDO | E39: 10 | G39: =+COUNT(D39:F39)*5 -> 5 | H39: =+SUM(D39:G39) -> 15
A40: 35 | B40: 75357153E | C40: PERNÍA HERNÁNDEZ, ANTONIO | D40: 9 | G40: =+COUNT(D40:F40)*5 -> 5 | H40: =+SUM(D40:G40) -> 14
A41: 36 | B41: 75426952Q | C41: ROMÁN RUBIO, JOSÉ | D41: 7 | G41: =+COUNT(D41:F41)*5 -> 5 | H41: =+SUM(D41:G41) -> 12
A42: 37 | B42: 52750303X | C42: TRUEBA SÁNCHEZ, JUAN CARLOS | D42: 3 | G42: =+COUNT(D42:F42)*5 -> 5 | H42: =+SUM(D42:G42) -> 8
A43: 38 | B43: 28808935D | C43: LÓPEZ FERNÁNDEZ, JAVIER | D43: 2.25 | G43: =+COUNT(D43:F43)*5 -> 5 | H43: =+SUM(D43:G43) -> 7.25
A44: 39 | B44: 28745032T | C44: CABELLO SOUSA, JUAN JOSÉ | D44: 2.23 | G44: =+COUNT(D44:F44)*5 -> 5 | H44: =+SUM(D44:G44) -> 7.23
A45: 40 | B45: 28353489D | C45: MIRA CANTILLO, BALDOMERO | D45: 2.22 | G45: =+COUNT(D45:F45)*5 -> 5 | H45: =+SUM(D45:G45) -> 7.22
A46: 41 | B46: 28683407S | C46: VÁZQUEZ AGUILERA, JOSÉ ANTONIO | D46: 2.3 | G46: =+COUNT(D46:F46)*5-5 -> 0 | H46: =+SUM(D46:G46) -> 2.3
A47: 42 | B47: 28897101Q | C47: GONZÁLEZ RODRÍGUEZ, ALEJANDRO ANTONIO | D47: 2.29 | G47: =+COUNT(D47:F47)*5-5 -> 0 | H47: =+SUM(D47:G47) -> 2.29
A48: 43 | B48: 27886006R | C48: CAÑADA RAMÍREZ, MANUEL | D48: 2.21 | G48: =+COUNT(D48:F48)*5-5 -> 0 | H48: =+SUM(D48:G48) -> 2.21
A49: 44 | B49: 80136244N | C49: CANO POYATO, MANUEL | D49: 2.2 | G49: =+COUNT(D49:F49)*5-5 -> 0 | H49: =+SUM(D49:G49) -> 2.2
A50: 45 | B50: 28407447D | C50: GONZÁLEZ CALLE, JOSÉ RAMÓN | D50: 2.19 | G50: =+COUNT(D50:F50)*5-5 -> 0 | H50: =+SUM(D50:G50) -> 2.19
A51: 46 | B51: 30250891A | C51: PÉREZ FUENTES, ALEJANDRO | D51: 2.18 | G51: =+COUNT(D51:F51)*5-5 -> 0 | H51: =+SUM(D51:G51) -> 2.18
A52: 47 | B52: 28421185Q | C52: BOHÓRQUEZ VERA, JOSÉ Mª | D52: 2.17 | G52: =+COUNT(D52:F52)*5-5 -> 0 | H52: =+SUM(D52:G52) -> 2.17
A53: 48 | B53: 30403428G | C53: ALBA CABEZA, RAFAEL | E53: 0 | G53: =+COUNT(D53:F53)*5-5 -> 0 | H53: =+SUM(D53:G53) -> 0

Sheet Hoja2
A1: DÍAZ RODRÍGUEZ, JAVIER | B1: 180 | C1: =VLOOKUP(A1,'Rank 3 bandas'!C:X,7,FALSE) -> 165
A2: GONZÁLEZ CASTRILLO, MANUEL JESÚS | B2: 165 | C2: =VLOOKUP(A2,'Rank 3 bandas'!C:X,7,FALSE) -> 131
A3: SOUSA LÓPEZ, MANUEL | B3: 155 | C3: =VLOOKUP(A3,'Rank 3 bandas'!C:X,7,FALSE) -> 128
A4: SÁNCHEZ FARACO, JAIME | B4: 155 | C4: =VLOOKUP(A4,'Rank 3 bandas'!C:X,7,FALSE) -> 132
A5: KOFOED, PER | B5: 146 | C5: =VLOOKUP(A5,'Rank 3 bandas'!C:X,7,FALSE) -> 146
A6: MIRA CANTILLO, BALDOMERO | B6: 144 | C6: =VLOOKUP(A6,'Rank 3 bandas'!C:X,7,FALSE) -> 103
A7: GOMÁRIZ PORTALES, FRANCISCO JAVIER | B7: 142 | C7: =VLOOKUP(A7,'Rank 3 bandas'!C:X,7,FALSE) -> 0
A8: MUÑOZ MUÑOZ, JOSÉ | B8: 140 | C8: =VLOOKUP(A8,'Rank 3 bandas'!C:X,7,FALSE) -> 0
A9: CAMACHO DÍAZ, JOSÉ LUIS | B9: 132 | C9: =VLOOKUP(A9,'Rank 3 bandas'!C:X,7,FALSE) -> 117
A10: MENCHÓN GARCÍA, JUAN ANTONIO | B10: 131 | C10: =VLOOKUP(A10,'Rank 3 bandas'!C:X,7,FALSE) -> #N/A
A11: MARTÍN INFANTES, ANTONIO JOSÉ | B11: 130 | C11: =VLOOKUP(A11,'Rank 3 bandas'!C:X,7,FALSE) -> 91
A12: BRAVO MURILLO, ADOLFO | B12: 129 | C12: =VLOOKUP(A12,'Rank 3 bandas'!C:X,7,FALSE) -> 92
... A83: HERRERO DE LUCAS, FRANCISCO | B83: 25 | C83: =VLOOKUP(A83,'Rank 3 bandas'!C:X,7,FALSE) -> 0

Sheet Hoja3
A1: DÍAZ RODRÍGUEZ, JAVIER | B1: 180
A2: MENCHÓN GARCÍA, JUAN ANTONIO | B2: 165
A3: GONZÁLEZ CASTRILLO, MANUEL JESÚS | B3: 155
A4: MORAL CASTRO, JAVIER | B4: 155
A5: GÓMEZ SÁNCHEZ, ALBERTO | B5: 146
A6: GONZÁLEZ CALLE, JOSÉ RAMÓN | B6: 144
A7: KOFOED, PER | B7: 142
A8: CANO LÓPEZ, PABLO | B8: 140
A9: DOMINGO CRESPO, JOSÉ MANUEL | B9: 132
A10: LAZO BLANCO, JOSÉ | B10: 131
A11: RODRÍGUEZ DOMÍNGUEZ, FRANCISCO J. | B11: 130
A12: CAMACHO ESPINA, JOSÉ ANTONIO | B12: 129
... A75: TOSSE RIAÑO, SANDRA PATRICIA | B75: 39

Sheet Hoja7
B1: Jugador | C1: Puntos
A2: 1 | C2: 180
A3: 2 | C3: 165
A4: 3 | B4: GÓMEZ SÁNCHEZ, ALBERTO | C4: 155
A5: 4 | C5: 155
A6: 5 | B6: KOFOED, PER | C6: 146
A7: 6 | B7: ZOTOV GRIMA, ARTURO DANIEL | C7: 144
A8: 7 | B8: CAMACHO ESPINA, JOSÉ ANTONIO | C8: 142
A9: 8 | B9: MARTÍN SALAS, JOSÉ | C9: 140
A10: 9 | B10: SÁNCHEZ FARACO, JAIME | C10: 132
A11: 10 | B11: GONZÁLEZ CASTRILLO, MANUEL JESÚS | C11: 131
A12: 11 | B12: DOMINGO CRESPO, JOSÉ MANUEL | C12: 130
A13: 12 | B13: MENCHÓN GARCÍA, JUAN ANTONIO | C13: 129
A14: 13 | B14: SOUSA LÓPEZ, MANUEL | C14: 128
A15: 14 | B15: MARÍN GUERRERO, FELICIANO | C15: 127
A16: 15 | B16: TORRES PULIDO, EMILIO JOSÉ | C16: 126
A17: 16 | B17: MORAL CASTRO, JAVIER | C17: 125
... A77: 76 | B77: GUTIERREZ MORENO, RAFAEL | C77: 0

Sheet Hoja8
A1: Nombre | B1: Apellidos | C1: Apuntado | D1: Pagado
A2: FRANCISCO JAVIER | B2: COBO SORIANO | C2: SI | D2: SI
A3: ÁNGEL | B3: RUIZ AMEZCUA | C3: SI | D3: SI
A4: PER | B4: KOFOED | C4: SI | D4: SI
A5: FERNANDO | B5: RAMOS BLÁZQUEZ | C5: SI | D5: SI
A6: FRANCISCO | B6: TALLÓN TABOADA | C6: SI
A7: JOSÉ MANUEL | B7: DOMINGO CRESPO | C7: SI | D7: SI
A8: RICARDO | B8: FERNÁNDEZ MAIQUEZ | C8: SI
A9: JAVIER | B9: HERNÁNDEZ MARTÍNEZ | C9: SI
A10: MANUEL | B10: LINDE PRIETO | C10: SI
A11: ARTURO DANIEL | B11: ZOTOV GRIMA | C11: NO
A12: FRANCISCO JAVIER | B12: GOMÁRIZ PORTALES | C12: NO
A13: ANTONIO | B13: RUIZ LÓPEZ | C13: NO
A14: RAFAEL | B14: SÁNCHEZ ALBANCHEL | C14: NO
A15: ANTONIO | B15: ALONSO SUÁREZ | C15: NO
A16: ANTONIO | B16: GARCÍA HERNÁNDEZ | C16: NO
A17: CARLOS | B17: SAMANIEGO MELÉNDEZ-VALDÉS | C17: SI
A18: PEDRO | B18: JIMÉNEZ MÉNDEZ | C18: SI | D18: SI
A19: JOSÉ MANUEL | B19: RUIZ MURGUIA | C19: NO
A20: CARLOS | B20: MOLINA RAMÍREZ | C20: NO
A21: ALFONSO | B21: NAVIDAD MADRID | C21: NO
A22: JUAN ANTONIO | B22: MARTÍN VIVALDI | C22: SI
A23: JUAN ANTONIO | B23: MARTÍN LÓPEZ | C23: NO
A24: FRANCISCO | B24: MIRA CERVERA | C24: NO
A25: GERMÁN | B25: NUÑEZ | C25: SI

Sheet Rank 3 bandas (2)
C4: CLASIFICACION
B5: DNI | C5: NOMBRE | D5: ALMONTE 21/22 | E5: ALCALÁ 21/22 | F5: MIJAS 21/22 | G5: SEVILLA 21/22 | H5: BURGUILLOS 21/22 | I5: Bonus Asistencia | J5: TOTAL | K5: Máximo
A6: 1 | B6: 75526957V | C6: SÁNCHEZ FARACO, JAIME | D6: 180 | E6: 142 | F6: 180 | G6: 165 | H6: 130 | I6: =+COUNT(D6:H6)*15 -> 75 | J6: =+SUM(D6:I6) -> 872 | K6: =MAX(D6:G6) -> 180 | L6: =SUM(E6:I6) -> 692
A7: 2 | B7: 26745824K | C7: GOMÁRIZ PORTALES, FRANCISCO JAVIER | D7: 165 | E7: 94 | F7: 155 | G7: 180 | H7: 146 | I7: =+COUNT(D7:H7)*15 -> 75 | J7: =+SUM(D7:I7) -> 815 | K7: =MAX(D7:G7) -> 180 | L7: =SUM(E7:I7) -> 650
A8: 3 | B8: 29741092E | C8: MARTÍN SALAS, JOSÉ | D8: 130 | E8: 132 | F8: 106 | G8: 155 | H8: 180 | I8: =+COUNT(D8:H8)*15 -> 75 | J8: =+SUM(D8:I8) -> 778 | K8: =MAX(D8:G8) -> 155 | L8: =SUM(E8:I8) -> 648
A9: 4 | B9: 28353489D | C9: MIRA CANTILLO, BALDOMERO | D9: 142 | E9: 127 | F9: 144 | G9: 155 | H9: 126 | I9: =+COUNT(D9:H9)*15 -> 75 | J9: =+SUM(D9:I9) -> 769 | K9: =MAX(D9:G9) -> 155 | L9: =SUM(E9:I9) -> 627
A10: 5 | B10: 29492239Y | C10: DÍAZ RODRÍGUEZ, JAVIER | D10: 146 | E10: 180 | F10: 146 | G10: 103 | H10: 132 | I10: =+COUNT(D10:H10)*15-15 -> 60 | J10: =+SUM(D10:I10) -> 767 | K10: =MAX(D10:G10) -> 180 | L10: =SUM(E10:I10) -> 621
A11: 6 | B11: X5145438Q | C11: KOFOED, PER | D11: 114 | E11: 140 | F11: 155 | G11: 126 | H11: 155 | I11: =+COUNT(D11:H11)*15 -> 75 | J11: =+SUM(D11:I11) -> 765 | K11: =MAX(D11:G11) -> 155 | L11: =SUM(E11:I11) -> 651
A12: 7 | B12: 33371451S | C12: MUÑOZ MUÑOZ, JOSÉ | D12: 155 | E12: 116 | F12: 132 | G12: 142 | H12: 142 | I12: =+COUNT(D12:H12)*15 -> 75 | J12: =+SUM(D12:I12) -> 762 | K12: =MAX(D12:G12) -> 155 | L12: =SUM(E12:I12) -> 607
A13: 8 | B13: 48925054Y | C13: SOUSA LÓPEZ, MANUEL | D13: 129 | E13: 144 | F13: 115 | G13: 140 | H13: 144 | I13: =+COUNT(D13:H13)*15 -> 75 | J13: =+SUM(D13:I13) -> 747 | K13: =MAX(D13:G13) -> 144 | L13: =SUM(E13:I13) -> 618
A14: 9 | B14: 44235255E | C14: CAMACHO ESPINA, JOSÉ ANTONIO | D14: 111 | E14: 155 | F14: 105 | G14: 144 | H14: 155 | I14: =+COUNT(D14:H14)*15 -> 75 | J14: =+SUM(D14:I14) -> 745 | K14: =MAX(D14:G14) -> 155 | L14: =SUM(E14:I14) -> 634
A15: 10 | B15: 48916225D | C15: RODRÍGUEZ DOMÍNGUEZ, FRANCISCO J. | D15: 128 | E15: 128 | F15: 118 | G15: 146 | H15: 129 | I15: =+COUNT(D15:H15)*15 -> 75 | J15: =+SUM(D15:I15) -> 724 | K15: =MAX(D15:G15) -> 146 | L15: =SUM(E15:I15) -> 596
A16: 11 | B16: 22449098V | C16: MENCHÓN GARCÍA, JUAN ANTONIO | D16: 131 | E16: 126 | F16: 112 | G16: 109 | H16: 165 | I16: =+COUNT(D16:H16)*15 -> 75 | J16: =+SUM(D16:I16) -> 718 | K16: =MAX(D16:G16) -> 131 | L16: =SUM(E16:I16) -> 587
A17: 12 | B17: 29746898D | C17: MARÍN GUERRERO, FELICIANO | D17: 116 | E17: 165 | F17: 131 | G17: 117 | H17: 114 | I17: =+COUNT(D17:H17)*15 -> 75 | J17: =+SUM(D17:I17) -> 718 | K17: =MAX(D17:G17) -> 165 | L17: =SUM(E17:I17) -> 602
A18: 13 | B18: 29736242W | C18: CAMACHO DÍAZ, JOSÉ LUIS | D18: 155 | E18: 130 | F18: 114 | G18: 125 | H18: 118 | I18: =+COUNT(D18:H18)*15 -> 75 | J18: =+SUM(D18:I18) -> 717 | K18: =MAX(D18:G18) -> 155 | L18: =SUM(E18:I18) -> 562
A19: 14 | B19: 29784957A | C19: GONZÁLEZ CASTRILLO, MANUEL JESÚS | D19: 132 | E19: 155 | F19: 107 | G19: 130 | H19: 115 | I19: =+COUNT(D19:H19)*15 -> 75 | J19: =+SUM(D19:I19) -> 714 | K19: =MAX(D19:G19) -> 155 | L19: =SUM(E19:I19) -> 582
A20: 15 | B20: 28407447D | C20: GONZÁLEZ CALLE, JOSÉ RAMÓN | D20: 112 | E20: 146 | F20: 116 | G20: 131 | H20: 128 | I20: =+COUNT(D20:H20)*15 -> 75 | J20: =+SUM(D20:I20) -> 708 | K20: =MAX(D20:G20) -> 146 | L20: =SUM(E20:I20) -> 596
A21: 16 | B21: 26207855E | C21: RAMOS BLÁZQUEZ, FERNANDO | D21: 118 | E21: 112 | F21: 130 | G21: 127 | H21: 140 | I21: =+COUNT(D21:H21)*15 -> 75 | J21: =+SUM(D21:I21) -> 702 | K21: =MAX(D21:G21) -> 130 | L21: =SUM(E21:I21) -> 584
A22: 17 | B22: 04577085Q | C22: DOMINGO CRESPO, JOSÉ MANUEL | D22: 113 | E22: 129 | F22: 127 | G22: 118 | H22: 131 | I22: =+COUNT(D22:H22)*15 -> 75 | J22: =+SUM(D22:I22) -> 693 | K22: =MAX(D22:G22) -> 129 | L22: =SUM(E22:I22) -> 580
... A40: 35 | B40: X7785753T | C40: DADDETTA, JOSÉ NESTOR | D40: 67 | E40: 68 | F40: 129 | G40: 93 | H40: 86 | I40: =+COUNT(D40:H40)*15 -> 75 | J40: =+SUM(D40:I40) -> 518 | K40: =MAX(D40:G40) -> 129 | L40: =SUM(E40:I40) -> 451
A41: 36 | B41: 80046684Z | C41: BLANCA GARCÍA, JUAN ANTONIO | D41: 61 | E41: 107 | F41: 103 | G41: 90 | H41: 80 | I41: =+COUNT(D41:H41)*15-15 -> 60 | J41: =+SUM(D41:I41) -> 501 | K41: =MAX(D41:G41) -> 107 | L41: =SUM(E41:I41) -> 440
A42: 37 | B42: 28580078W | C42: GARCÍA ARIAS, FRANCISCO J. | D42: 69 | E42: 72 | F42: 94 | G42: 65 | H42: 108 | I42: =+COUNT(D42:H42)*15 -> 75 | J42: =+SUM(D42:I42) -> 483 | K42: =MAX(D42:G42) -> 94 | L42: =SUM(E42:I42) -> 414
A43: 38 | B43: 25960122E | C43: TORRES PULIDO, EMILIO JOSÉ | D43: 60 | E43: 69 | F43: 64 | G43: 95 | H43: 112 | I43: =+COUNT(D43:H43)*15 -> 75 | J43: =+SUM(D43:I43) -> 475 | K43: =MAX(D43:G43) -> 95 | L43: =SUM(E43:I43) -> 415
A44: 39 | B44: 28412353Q | C44: LOBILLO VILLALÓN, JOSÉ | D44: 83 | E44: 84 | F44: 66 | G44: 85 | H44: 70 | I44: =+COUNT(D44:H44)*15 -> 75 | J44: =+SUM(D44:I44) -> 463 | K44: =MAX(D44:G44) -> 85 | L44: =SUM(E44:I44) -> 380
A45: 40 | B45: 28665484D | C45: DÍAZ RODRÍGUEZ, JUAN MARÍA | D45: 62 | E45: 86 | F45: 65 | G45: 88 | H45: 63 | I45: =+COUNT(D45:H45)*15 -> 75 | J45: =+SUM(D45:I45) -> 439 | K45: =MAX(D45:G45) -> 88 | L45: =SUM(E45:I45) -> 377
A46: 41 | B46: 75569065N | C46: SEQUERA BARRERA, SEVERINO | D46: 68 | E46: 64 | F46: 62 | G46: 104 | H46: 64 | I46: =+COUNT(D46:H46)*15 -> 75 | J46: =+SUM(D46:I46) -> 437 | K46: =MAX(D46:G46) -> 104 | L46: =SUM(E46:I46) -> 369
A47: 42 | B47: 75518363W | C47: CONTRERAS ROMERO, JUAN | D47: 95 | E47: 93 | F47: 72 | G47: 114 | I47: =+COUNT(D47:H47)*15 -> 60 | J47: =+SUM(D47:I47) -> 434 | K47: =MAX(D47:G47) -> 114 | L47: =SUM(E47:I47) -> 339
A48: 43 | B48: 31861913J | C48: TORREJÓN MOLINA, DIONISIO | D48: 40 | E48: 67 | F48: 86 | G48: 83 | H48: 62 | I48: =+COUNT(D48:H48)*15 -> 75 | J48: =+SUM(D48:I48) -> 413 | K48: =MAX(D48:G48) -> 86 | L48: =SUM(E48:I48) -> 373
A49: 44 | B49: 29473376A | C49: PONCE RAMOS, DOMINGO | D49: 57 | E49: 63 | F49: 60 | G49: 62 | H49: 83 | I49: =+COUNT(D49:H49)*15 -> 75 | J49: =+SUM(D49:I49) -> 400 | K49: =MAX(D49:G49) -> 63 | L49: =SUM(E49:I49) -> 343
A50: 45 | B50: 28561760S | C50: RAMÍREZ DEL VALLE, MANUEL | D50: 25.07 | E50: 46 | F50: 85 | G50: 84 | H50: 84 | I50: =+COUNT(D50:H50)*15 -> 75 | J50: =+SUM(D50:I50) -> 399.07 | K50: =MAX(D50:G50) -> 85 | L50: =SUM(E50:I50) -> 374
A51: 46 | B51: 26108603S | C51: MORENO GUZMÁN, JUAN | D51: 59 | E51: 61 | F51: 57 | G51: 80 | H51: 66 | I51: =+COUNT(D51:H51)*15 -> 75 | J51: =+SUM(D51:I51) -> 398 | K51: =MAX(D51:G51) -> 80 | L51: =SUM(E51:I51) -> 339
A52: 47 | B52: 29481994L | C52: ANTONIO VERA, DOMINGO J. | D52: 125 | E52: 62 | F52: 68 | H52: 72 | I52: =+COUNT(D52:H52)*15 -> 60 | J52: =+SUM(D52:I52) -> 387 | K52: =MAX(D52:G52) -> 125 | L52: =SUM(E52:I52) -> 262
A53: 48 | B53: 24203427K | C53: HERNÁNDEZ MARTÍNEZ, JAVIER | E53: 83 | F53: 88 | G53: 89 | H53: 65 | I53: =+COUNT(D53:H53)*15 -> 60 | J53: =+SUM(D53:I53) -> 385 | K53: =MAX(D53:G53) -> 89 | L53: =SUM(E53:I53) -> 385
A54: 49 | B54: 28565575N | C54: MARTÍN VARGAS, MANUEL | D54: 38 | E54: 88 | F54: 40 | G54: 66 | H54: 67 | I54: =+COUNT(D54:H54)*15 -> 75 | J54: =+SUM(D54:I54) -> 374 | K54: =MAX(D54:G54) -> 88 | L54: =SUM(E54:I54) -> 336
A55: 50 | B55: X99999999 | C55: STAND URIBE, JOSÉ ANTONIO | D55: 48 | E55: 60 | F55: 36 | G55: 63 | H55: 88 | I55: =+COUNT(D55:H55)*15 -> 75 | J55: =+SUM(D55:I55) -> 370 | K55: =MAX(D55:G55) -> 63 | L55: =SUM(E55:I55) -> 322
A56: 51 | B56: 75411021R | C56: CARAVER PRADOS, JOSÉ MIGUEL | D56: 58 | E56: 59 | F56: 59 | G56: 58 | H56: 58 | I56: =+COUNT(D56:H56)*15 -> 75 | J56: =+SUM(D56:I56) -> 367 | K56: =MAX(D56:G56) -> 59 | L56: =SUM(E56:I56) -> 309
A57: 52 | B57: 28728907K | C57: VEGA ALONSO, ERNESTO | D57: 81 | E57: 81 | F57: =IFERROR(VLOOKUP(#REF!,Mijas!B:C,2,FALSE),"") | G57: 70 | H57: 103 | I57: =+COUNT(D57:H57)*15-30 -> 30 | J57: =+SUM(D57:I57) -> 365 | K57: =MAX(D57:G57) -> 81 | L57: =SUM(E57:I57) -> 284
A58: 53 | B58: 30403428G | C58: ALBA CABEZA, RAFAEL | D58: 25.14 | E58: 49 | F58: 45 | G58: 108.01 | H58: 61 | I58: =+COUNT(D58:H58)*15 -> 75 | J58: =+SUM(D58:I58) -> 363.15 | K58: =MAX(D58:G58) -> 108.01 | L58: =SUM(E58:I58) -> 338.01
A59: 54 | B59: 80136244N | C59: CANO POYATO, MANUEL | D59: 41 | E59: 44 | F59: 95 | G59: 69 | H59: 39 | I59: =+COUNT(D59:H59)*15 -> 75 | J59: =+SUM(D59:I59) -> 363 | K59: =MAX(D59:G59) -> 95 | L59: =SUM(E59:I59) -> 322
A60: 55 | B60: 52750303X | C60: TRUEBA SÁNCHEZ, JUAN CARLOS | D60: 25.12 | E60: 25.15 | F60: 89 | G60: 67 | H60: 81 | I60: =+COUNT(D60:H60)*15 -> 75 | J60: =+SUM(D60:I60) -> 362.27 | K60: =MAX(D60:G60) -> 89 | L60: =SUM(E60:I60) -> 337.15
A61: 56 | B61: 28421185Q | C61: BOHÓRQUEZ VERA, JOSÉ Mª | D61: 117 | E61: 38 | F61: =IFERROR(VLOOKUP(#REF!,Mijas!B:C,2,FALSE),"") | G61: 94 | H61: 44 | I61: =+COUNT(D61:H61)*15 -> 60 | J61: =+SUM(D61:I61) -> 353 | K61: =MAX(D61:G61) -> 117 | L61: =SUM(E61:I61) -> 236
A62: 57 | B62: 34079418L | C62: RAMÍREZ DEL VALLE, JOSÉ LUIS | D62: 34 | E62: 35 | F62: 93 | G62: 41 | H62: 59.01 | I62: =+COUNT(D62:H62)*15 -> 75 | J62: =+SUM(D62:I62) -> 337.01 | K62: =MAX(D62:G62) -> 93 | L62: =SUM(E62:I62) -> 303.01
A63: 58 | B63: 30002348K | C63: VENTURA JIMÉNEZ, FRANCISCO | D63: 45 | E63: 48 | F63: 63 | G63: 64 | H63: 57 | I63: =+COUNT(D63:H63)*15-15 -> 60 | J63: =+SUM(D63:I63) -> 337 | K63: =MAX(D63:G63) -> 64 | L63: =SUM(E63:I63) -> 292
A64: 59 | B64: 75407294T | C64: GÓMEZ PÉREZ, MANUEL | D64: 91 | E64: 65 | F64: =IFERROR(VLOOKUP(#REF!,Mijas!B:C,2,FALSE),"") | G64: 38 | H64: 69 | I64: =+COUNT(D64:H64)*15 -> 60 | J64: =+SUM(D64:I64) -> 323 | K64: =MAX(D64:G64) -> 91 | L64: =SUM(E64:I64) -> 232
A65: 60 | B65: 09797767C | C65: DE LA HUERGA MENÉNDEZ, SERGIO | D65: 88.01 | E65: 66 | F65: =IFERROR(VLOOKUP(#REF!,Mijas!B:C,2,FALSE),"") | G65: 49 | H65: 47 | I65: =+COUNT(D65:H65)*15 -> 60 | J65: =+SUM(D65:I65) -> 310.01 | K65: =MAX(D65:G65) -> 88.01 | L65: =SUM(E65:I65) -> 222
A66: 61 | B66: 34030115M | C66: GONZÁLEZ ÁLVAREZ, JOSÉ MANUEL | D66: 36 | E66: 57 | F66: 44 | G66: 61 | H66: 37 | I66: =+COUNT(D66:H66)*15 -> 75 | J66: =+SUM(D66:I66) -> 310 | K66: =MAX(D66:G66) -> 61 | L66: =SUM(E66:I66) -> 274
A67: 62 | B67: 75366301Q | C67: LÓPEZ PEREJÓN, JUAN | D67: 25.08 | E67: 25.13 | F67: 38 | G67: 59 | H67: 87 | I67: =+COUNT(D67:H67)*15 -> 75 | J67: =+SUM(D67:I67) -> 309.21 | K67: =MAX(D67:G67) -> 59 | L67: =SUM(E67:I67) -> 284.13
A68: 63 | B68: 26143221H | C68: SÁNCHEZ GARCÍA, JUAN RAMÓN | E68: 45 | F68: 82 | G68: 45 | H68: 45 | I68: =+COUNT(D68:H68)*15 -> 60 | J68: =+SUM(D68:I68) -> 277 | K68: =MAX(D68:G68) -> 82 | L68: =SUM(E68:I68) -> 277
A69: 64 | B69: X06800190X | C69: CASTAÑO OCHOA, SEBASTIÁN | D69: 108 | E69: 131 | F69: =IFERROR(VLOOKUP(#REF!,Mijas!B:C,2,FALSE),"") | I69: =+COUNT(D69:H69)*15 -> 30 | J69: =+SUM(D69:I69) -> 269 | K69: =MAX(D69:G69) -> 131 | L69: =SUM(E69:I69) -> 161
A70: 65 | B70: 24778323D | C70: GÁMEZ PÉREZ, ANTONIO | D70: 82 | E70: 80 | F70: 61 | I70: =+COUNT(D70:H70)*15 -> 45 | J70: =+SUM(D70:I70) -> 268 | K70: =MAX(D70:G70) -> 82 | L70: =SUM(E70:I70) -> 186
A71: 66 | B71: 28881046S | C71: SEVILLA BEJARANO, JUAN JOSÉ | D71: 25.09 | E71: 47 | F71: =IFERROR(VLOOKUP(#REF!,Mijas!B:C,2,FALSE),"") | G71: 82 | H71: 49 | I71: =+COUNT(D71:H71)*15 -> 60 | J71: =+SUM(D71:I71) -> 263.09 | K71: =MAX(D71:G71) -> 82 | L71: =SUM(E71:I71) -> 238
A72: 67 | B72: 32019418Z | C72: GÓMEZ SÁNCHEZ, ALBERTO | E72: 114 | F72: =IFERROR(VLOOKUP(#REF!,Mijas!B:C,2,FALSE),"") | H72: 113 | I72: =+COUNT(D72:H72)*15 -> 30 | J72: =+SUM(D72:I72) -> 257 | K72: =MAX(D72:G72) -> 114 | L72: =SUM(E72:I72) -> 257
A73: 68 | B73: 29789041Q | C73: CALLE ALBARRÁN, FRANCISCO | D73: 42 | E73: 90 | F73: =IFERROR(VLOOKUP(#REF!,Mijas!B:C,2,FALSE),"") | G73: 68 | I73: =+COUNT(D73:H73)*15 -> 45 | J73: =+SUM(D73:I73) -> 245 | K73: =MAX(D73:G73) -> 90 | L73: =SUM(E73:I73) -> 203
A74: 69 | B74: 29729171S | C74: DOMÍNGUEZ CANO, JUAN | D74: 47 | E74: 105.01 | F74: =IFERROR(VLOOKUP(#REF!,Mijas!B:C,2,FALSE),"") | G74: 37 | I74: =+COUNT(D74:H74)*15 -> 45 | J74: =+SUM(D74:I74) -> 234.01 | K74: =MAX(D74:G74) -> 105.01 | L74: =SUM(E74:I74) -> 187.01
A75: 70 | B75: 29742675H | C75: FERNÁNDEZ LINEROS, JOSÉ ANTONIO | D75: 46 | E75: 34 | F75: =IFERROR(VLOOKUP(#REF!,Mijas!B:C,2,FALSE),"") | G75: 46 | H75: 48 | I75: =+COUNT(D75:H75)*15 -> 60 | J75: =+SUM(D75:I75) -> 234 | K75: =MAX(D75:G75) -> 46 | L75: =SUM(E75:I75) -> 188
A76: 71 | B76: 29786946Z | C76: VEGA SUÁREZ, CAYETANO | D76: 92 | F76: =IFERROR(VLOOKUP(#REF!,Mijas!B:C,2,FALSE),"") | H76: 110 | I76: =+COUNT(D76:H76)*15 -> 30 | J76: =+SUM(D76:I76) -> 232 | K76: =MAX(D76:G76) -> 92 | L76: =SUM(E76:I76) -> 140
A77: 72 | B77: 75350753Q | C77: CORDERO MORENO, ALFONSO ANTONIO | D77: 64 | E77: 40 | F77: =IFERROR(VLOOKUP(#REF!,Mijas!B:C,2,FALSE),"") | G77: 40 | H77: 34 | I77: =+COUNT(D77:H77)*15-15 -> 45 | J77: =+SUM(D77:I77) -> 223 | K77: =MAX(D77:G77) -> 64 | L77: =SUM(E77:I77) -> 159
A78: 73 | B78: 28523172K | C78: CARMONA MARTÍN, AGUSTÍN | G78: 81 | H78: 91 | I78: =+COUNT(D78:H78)*15 -> 30 | J78: =+SUM(D78:I78) -> 202 | K78: =MAX(D78:G78) -> 81 | L78: =SUM(E78:I78) -> 202
A79: 74 | B79: 28683407S | C79: VÁZQUEZ AGUILERA, JOSÉ ANTONIO | D79: 25.06 | E79: 36 | F79: =IFERROR(VLOOKUP(#REF!,Mijas!B:C,2,FALSE),"") | G79: 39 | H79: 40 | I79: =+COUNT(D79:H79)*15 -> 60 | J79: =+SUM(D79:I79) -> 200.06 | K79: =MAX(D79:G79) -> 39 | L79: =SUM(E79:I79) -> 175
A80: 75 | B80: 75357153E | C80: PERNÍA HERNÁNDEZ, ANTONIO | D80: 18.04 | E80: 42 | F80: =IFERROR(VLOOKUP(#REF!,Mijas!B:C,2,FALSE),"") | G80: 47 | H80: 25.08 | I80: =+COUNT(D80:H80)*15 -> 60 | J80: =+SUM(D80:I80) -> 192.12 | K80: =MAX(D80:G80) -> 47 | L80: =SUM(E80:I80) -> 174.08
A81: 76 | B81: 48905647B | C81: MARTÍN PÉREZ, VICENTE | D81: 87 | F81: =IFERROR(VLOOKUP(#REF!,Mijas!B:C,2,FALSE),"") | H81: 71 | I81: =+COUNT(D81:H81)*15 -> 30 | J81: =+SUM(D81:I81) -> 188 | K81: =MAX(D81:G81) -> 87 | L81: =SUM(E81:I81) -> 101
A82: 77 | B82: 48004772T | C82: CHACÓN LÓPEZ, CARLOS JAVIER | F82: 165 | I82: =+COUNT(D82:H82)*15 -> 15 | J82: =+SUM(D82:I82) -> 180 | K82: =MAX(D82:G82) -> 165 | L82: =SUM(E82:I82) -> 180
A83: 78 | B83: 24173371A | C83: COBO SORIANO, FRANCISCO JAVIER | F83: 83 | G83: 25.09 | H83: 25.11 | I83: =+COUNT(D83:H83)*15 -> 45 | J83: =+SUM(D83:I83) -> 178.2 | K83: =MAX(D83:G83) -> 83 | L83: =SUM(E83:I83) -> 178.2
A84: 79 | B84: 29727218V | C84: CANO ACOSTA, SANTIAGO | D84: 126 | F84: =IFERROR(VLOOKUP(#REF!,Mijas!B:C,2,FALSE),"") | G84: 34 | I84: =+COUNT(D84:H84)*15-15 -> 15 | J84: =+SUM(D84:I84) -> 175 | K84: =MAX(D84:G84) -> 126 | L84: =SUM(E84:I84) -> 49
A85: 80 | B85: 31294783V | C85: ACOSTA GARCÍA-QUINTANA, ANTONIO V. | D85: 25.02 | E85: 37 | F85: =IFERROR(VLOOKUP(#REF!,Mijas!B:C,2,FALSE),"") | G85: 60 | I85: =+COUNT(D85:H85)*15 -> 45 | J85: =+SUM(D85:I85) -> 167.02 | K85: =MAX(D85:G85) -> 60 | L85: =SUM(E85:I85) -> 142
A86: 81 | B86: 29443800M | C86: AMATE PRIETO, ANDRÉS | D86: 18.06 | E86: 18.09 | F86: =IFERROR(VLOOKUP(#REF!,Mijas!B:C,2,FALSE),"") | G86: 44 | H86: 25.15 | I86: =+COUNT(D86:H86)*15 -> 60 | J86: =+SUM(D86:I86) -> 165.3 | K86: =MAX(D86:G86) -> 44 | L86: =SUM(E86:I86) -> 147.24
A87: 82 | B87: 28560944G | C87: CAÑAL GALBARRO, BLAS | E87: 25.11 | F87: =IFERROR(VLOOKUP(#REF!,Mijas!B:C,2,FALSE),"") | G87: 48 | H87: 46 | I87: =+COUNT(D87:H87)*15 -> 45 | J87: =+SUM(D87:I87) -> 164.11 | K87: =MAX(D87:G87) -> 48 | L87: =SUM(E87:I87) -> 164.11
A88: 83 | B88: 25317537B | C88: SORIA MORENO, JOSÉ | E88: 25.16 | F88: 34 | G88: 57 | I88: =+COUNT(D88:H88)*15 -> 45 | J88: =+SUM(D88:I88) -> 161.16 | K88: =MAX(D88:G88) -> 57 | L88: =SUM(E88:I88) -> 161.16
A89: 84 | B89: 75536337J | C89: MARTÍN RAMOS, MANUEL JESÚS | D89: 63 | F89: =IFERROR(VLOOKUP(#REF!,Mijas!B:C,2,FALSE),"") | H89: 68 | I89: =+COUNT(D89:H89)*15 -> 30 | J89: =+SUM(D89:I89) -> 161 | K89: =MAX(D89:G89) -> 63 | L89: =SUM(E89:I89) -> 98
A90: 85 | B90: 48916766K | C90: LOZANO EXPÓSITO, ALBERTO JOSÉ | D90: 35 | E90: 39 | F90: =IFERROR(VLOOKUP(#REF!,Mijas!B:C,2,FALSE),"") | H90: 41 | I90: =+COUNT(D90:H90)*15 -> 45 | J90: =+SUM(D90:I90) -> 160 | K90: =MAX(D90:G90) -> 39 | L90: =SUM(E90:I90) -> 125
A91: 86 | B91: 28740644M | C91: MONROY MORENO, JUAN CARLOS | D91: 18.02 | E91: 18.01 | F91: =IFERROR(VLOOKUP(#REF!,Mijas!B:C,2,FALSE),"") | G91: 25.02 | H91: 35 | I91: =+COUNT(D91:H91)*15 -> 60 | J91: =+SUM(D91:I91) -> 156.05 | K91: =MAX(D91:G91) -> 25.02 | L91: =SUM(E91:I91) -> 138.03
A92: 87 | B92: 29747788W | C92: OLIVA DELGADO, PEDRO | D92: 25.04 | F92: =IFERROR(VLOOKUP(#REF!,Mijas!B:C,2,FALSE),"") | G92: 43 | H92: 36 | I92: =+COUNT(D92:H92)*15 -> 45 | J92: =+SUM(D92:I92) -> 149.04 | K92: =MAX(D92:G92) -> 43 | L92: =SUM(E92:I92) -> 124
A93: 88 | B93: 28668899C | C93: PINEDA POZO, RAFAEL | E93: 43 | F93: =IFERROR(VLOOKUP(#REF!,Mijas!B:C,2,FALSE),"") | G93: 25.1 | H93: 25.12 | I93: =+COUNT(D93:H93)*15 -> 45 | J93: =+SUM(D93:I93) -> 138.22 | K93: =MAX(D93:G93) -> 43 | L93: =SUM(E93:I93) -> 138.22
A94: 89 | B94: 31559062A | C94: TRUJILLO VEGA, JUAN VICENTE | E94: 25.06 | F94: =IFERROR(VLOOKUP(#REF!,Mijas!B:C,2,FALSE),"") | G94: 42 | H94: 25.09 | I94: =+COUNT(D94:H94)*15 -> 45 | J94: =+SUM(D94:I94) -> 137.15 | K94: =MAX(D94:G94) -> 42 | L94: =SUM(E94:I94) -> 137.15
A95: 90 | B95: 52245376W | C95: ÁLVAREZ AGUILAR, MANUEL | E95: 118 | F95: =IFERROR(VLOOKUP(#REF!,Mijas!B:C,2,FALSE),"") | I95: =+COUNT(D95:H95)*15 -> 15 | J95: =+SUM(D95:I95) -> 133 | K95: =MAX(D95:G95) -> 118 | L95: =SUM(E95:I95) -> 133
A96: 91 | B96: 24861657Z | C96: MENA JIMÉNEZ, JOSÉ | F96: 92 | H96: 25.01 | I96: =+COUNT(D96:H96)*15-15 -> 15 | J96: =+SUM(D96:I96) -> 132.01 | K96: =MAX(D96:G96) -> 92 | L96: =SUM(E96:I96) -> 132.01
A97: 92 | B97: 79167173T | C97: HENAO GONZÁLEZ, JUVENAL | F97: 117.01 | I97: =+COUNT(D97:H97)*15 -> 15 | J97: =+SUM(D97:I97) -> 132.01 | K97: =MAX(D97:G97) -> 117.01 | L97: =SUM(E97:I97) -> 132.01
A98: 93 | B98: 29790645X | C98: CASTELLANO DOMÍNGUEZ, FÉLIX PABLO | D98: 115 | F98: =IFERROR(VLOOKUP(#REF!,Mijas!B:C,2,FALSE),"") | I98: =+COUNT(D98:H98)*15 -> 15 | J98: =+SUM(D98:I98) -> 130 | K98: =MAX(D98:G98) -> 115 | L98: =SUM(E98:I98) -> 15
A99: 94 | B99: 14318585G | C99: DE LOS REYES JIMÉNEZ, JUAN ANTONIO | E99: 113 | F99: =IFERROR(VLOOKUP(#REF!,Mijas!B:C,2,FALSE),"") | I99: =+COUNT(D99:H99)*15 -> 15 | J99: =+SUM(D99:I99) -> 128 | K99: =MAX(D99:G99) -> 113 | L99: =SUM(E99:I99) -> 128
A100: 95 | B100: 29765004Z | C100: GARCÍA DOMÍNGUEZ, JUAN | D100: 25.16 | E100: 70 | F100: =IFERROR(VLOOKUP(#REF!,Mijas!B:C,2,FALSE),"") | I100: =+COUNT(D100:H100)*15 -> 30 | J100: =+SUM(D100:I100) -> 125.16 | K100: =MAX(D100:G100) -> 70 | L100: =SUM(E100:I100) -> 100
A101: 96 | B101: 28851604J | C101: GARCÍA ALBERDI, ANTONIO | E101: 18.05 | F101: =IFERROR(VLOOKUP(#REF!,Mijas!B:C,2,FALSE),"") | G101: 35 | H101: 25.1 | I101: =+COUNT(D101:H101)*15 -> 45 | J101: =+SUM(D101:I101) -> 123.15 | K101: =MAX(D101:G101) -> 35 | L101: =SUM(E101:I101) -> 123.15
A102: 97 | B102: 75628542B | C102: JIMÉNEZ LÓPEZ, CLEMENTE | E102: 25.12 | F102: =IFERROR(VLOOKUP(#REF!,Mijas!B:C,2,FALSE),"") | G102: 25.08 | H102: 25.03 | I102: =+COUNT(D102:H102)*15 -> 45 | J102: =+SUM(D102:I102) -> 120.23 | K102: =MAX(D102:G102) -> 25.12 | L102: =SUM(E102:I102) -> 120.23
A103: 98 | B103: 28354660F | C103: HOLGUIN MUÑOZ, PEDRO | E103: 25.09 | F103: =IFERROR(VLOOKUP(#REF!,Mijas!B:C,2,FALSE),"") | G103: 25.03 | H103: 25.04 | I103: =+COUNT(D103:H103)*15 -> 45 | J103: =+SUM(D103:I103) -> 120.16 | K103: =MAX(D103:G103) -> 25.09 | L103: =SUM(E103:I103) -> 120.16
A104: 99 | B104: 52571213K | C104: AMAYA FORTES, SALVADOR | F104: =IFERROR(VLOOKUP(#REF!,Mijas!B:C,2,FALSE),"") | G104: 105 | I104: =+COUNT(D104:H104)*15 -> 15 | J104: =+SUM(D104:I104) -> 120 | K104: =MAX(D104:G104) -> 105 | L104: =SUM(E104:I104) -> 120
A105: 100 | B105: 30428966N | C105: MUÑOZ MORENO, FRANCISCO | F105: 47 | H105: 42 | I105: =+COUNT(D105:H105)*15 -> 30 | J105: =+SUM(D105:I105) -> 119 | K105: =MAX(D105:G105) -> 47 | L105: =SUM(E105:I105) -> 119
A106: 101 | B106: 27903918L | C106: MUÑOZ RODRÍGUEZ, JOSÉ LUIS | E106: 25.02 | F106: =IFERROR(VLOOKUP(#REF!,Mijas!B:C,2,FALSE),"") | G106: 36 | H106: 25.02 | I106: =+COUNT(D106:H106)*15-15 -> 30 | J106: =+SUM(D106:I106) -> 116.04 | K106: =MAX(D106:G106) -> 36 | L106: =SUM(E106:I106) -> 116.04
A107: 102 | B107: 28424538B | C107: PLATA BARRERA, PEDRO | E107: 18.04 | F107: =IFERROR(VLOOKUP(#REF!,Mijas!B:C,2,FALSE),"") | G107: 25.04 | H107: 25.13 | I107: =+COUNT(D107:H107)*15 -> 45 | J107: =+SUM(D107:I107) -> 113.21 | K107: =MAX(D107:G107) -> 25.04 | L107: =SUM(E107:I107) -> 113.21
A108: 103 | B108: 29726636X | C108: SÁNCHEZ GÓMEZ, MANUEL | F108: =IFERROR(VLOOKUP(#REF!,Mijas!B:C,2,FALSE),"") | H108: 90 | I108: =+COUNT(D108:H108)*15 -> 15 | J108: =+SUM(D108:I108) -> 105 | K108: =MAX(D108:G108) -> 0 | L108: =SUM(E108:I108) -> 105
A109: 104 | B109: 29720181H | C109: LAGARES CANO, JOSÉ | D109: 49 | E109: 25.05 | F109: =IFERROR(VLOOKUP(#REF!,Mijas!B:C,2,FALSE),"") | I109: =+COUNT(D109:H109)*15 -> 30 | J109: =+SUM(D109:I109) -> 104.05 | K109: =MAX(D109:G109) -> 49 | L109: =SUM(E109:I109) -> 55.05
A110: 105 | B110: 77151733G | C110: LÓPEZ VELANDIA, MORIS ANDRÉS | F110: 43 | H110: 25.16 | I110: =+COUNT(D110:H110)*15 -> 30 | J110: =+SUM(D110:I110) -> 98.16 | K110: =MAX(D110:G110) -> 43 | L110: =SUM(E110:I110) -> 98.16
A111: 106 | B111: 28453999D | C111: ACUÑA CARMONA, PEDRO | E111: 41 | F111: =IFERROR(VLOOKUP(#REF!,Mijas!B:C,2,FALSE),"") | G111: 25.05 | I111: =+COUNT(D111:H111)*15 -> 30 | J111: =+SUM(D111:I111) -> 96.05 | K111: =MAX(D111:G111) -> 41 | L111: =SUM(E111:I111) -> 96.05
A112: 107 | B112: 28339040G | C112: VELA LARA, ANDRÉS | G112: 25.07 | H112: 38 | I112: =+COUNT(D112:H112)*15 -> 30 | J112: =+SUM(D112:I112) -> 93.07 | K112: =MAX(D112:G112) -> 25.07 | L112: =SUM(E112:I112) -> 93.07
A113: 108 | B113: 30198522M | C113: MORENO EXPÓSITO, FRANCISCO | F113: 37 | H113: 25.14 | I113: =+COUNT(D113:H113)*15 -> 30 | J113: =+SUM(D113:I113) -> 92.14 | K113: =MAX(D113:G113) -> 37 | L113: =SUM(E113:I113) -> 92.14
A114: 109 | B114: 26162873M | C114: SÁNCHEZ GARCÍA, TOMÁS | D114: 72 | F114: =IFERROR(VLOOKUP(#REF!,Mijas!B:C,2,FALSE),"") | I114: =+COUNT(D114:H114)*15 -> 15 | J114: =+SUM(D114:I114) -> 87 | K114: =MAX(D114:G114) -> 72 | L114: =SUM(E114:I114) -> 15
A115: 110 | B115: 24290369T | C115: RIVERO ARIAS, FERNANDO | F115: 71 | I115: =+COUNT(D115:H115)*15 -> 15 | J115: =+SUM(D115:I115) -> 86 | K115: =MAX(D115:G115) -> 71 | L115: =SUM(E115:I115) -> 86
A116: 111 | B116: 28665639A | C116: RODRÍGUEZ ACOSTA, JOSÉ ANTONIO | D116: 71 | F116: =IFERROR(VLOOKUP(#REF!,Mijas!B:C,2,FALSE),"") | I116: =+COUNT(D116:H116)*15 -> 15 | J116: =+SUM(D116:I116) -> 86 | K116: =MAX(D116:G116) -> 71 | L116: =SUM(E116:I116) -> 15
A117: 112 | B117: 75412420C | C117: JURADO GÓMEZ, FRANCISCO PEDRO | E117: 71 | F117: =IFERROR(VLOOKUP(#REF!,Mijas!B:C,2,FALSE),"") | I117: =+COUNT(D117:H117)*15 -> 15 | J117: =+SUM(D117:I117) -> 86 | K117: =MAX(D117:G117) -> 71 | L117: =SUM(E117:I117) -> 86
A118: 113 | B118: X3528777W | C118: ESTRELLA GONZÁLES, JORGE A. | F118: 70 | I118: =+COUNT(D118:H118)*15 -> 15 | J118: =+SUM(D118:I118) -> 85 | K118: =MAX(D118:G118) -> 70 | L118: =SUM(E118:I118) -> 85
A119: 114 | B119: 29724358D | C119: SAAVEDRA DOMÍNGUEZ, FRANCISCO | D119: 70 | F119: =IFERROR(VLOOKUP(#REF!,Mijas!B:C,2,FALSE),"") | I119: =+COUNT(D119:H119)*15 -> 15 | J119: =+SUM(D119:I119) -> 85 | K119: =MAX(D119:G119) -> 70 | L119: =SUM(E119:I119) -> 15
A120: 115 | B120: 32009587G | C120: BORJAS GUERRERO, LUIS | F120: 69 | I120: =+COUNT(D120:H120)*15 -> 15 | J120: =+SUM(D120:I120) -> 84 | K120: =MAX(D120:G120) -> 69 | L120: =SUM(E120:I120) -> 84
...

Sheet Burguillos 21-22
A1: Gomariz Portales, Francisco
A2: Muñoz Muñoz, Jose
A3: Per Kofoed | B3: 155
A4: Camacho Espina, Jose A. | B4: 155
A5: Gomariz Portales, Francisco | B5: 146
A6: Sousa López, Manuel | B6: 144
A7: Muñoz Muñoz, Jose | B7: 142
A8: Ramos Blázquez, Fernando | B8: 140
A9: Diaz Rodriguez, Javier | B9: 132
A10: Domingo Crespo, Jose M. | B10: 131
A11: Sánchez Faraco, Jaime | B11: 130
A12: Rodríguez Domínguez, Francisco J. | B12: 129
A13: González Calle, Jose R. | B13: 128
A14: Moral Castro, Javier | B14: 127
... A101: García López, José Antonio | B101: 18.12

Sheet Sevilla 21-22
A1: Gomariz Portales, Francisco | B1: 180
A2: Sánchez Faraco, Jaime | B2: 165
A3: Martín Salas, Jose | B3: 155
A4: Mira Cantillo, Baldomero | B4: 155
A5: Rodríguez Domínguez, Francisco J. | B5: 146
A6: Camacho Espina, Jose A. | B6: 144
A7: Muñoz Muñoz, Jose | B7: 142
A8: Sousa López, Manuel | B8: 140
A9: Cano López, Pablo | B9: 132
A10: González Calle, Jose R. | B10: 131
A11: González Castrillo, Manuel J. | B11: 130
A12: Martín Infante, Antonio J. | B12: 129
... A90: Márquez Pernía, Jerónimo | B90: 25

Sheet Almonte 21-22
A1: Sánchez Faraco, Jaime | B1: 180
A2: Gomariz Portales, Francisco | B2: 165
A3: Camacho Díaz, Jose L. | B3: 155
A4: Muñoz Muñoz, Jose | B4: 155
A5: Diaz Rodriguez, Javier | B5: 146
A6: Rodríguez Martín, Fernando | B6: 144
A7: Mira Cantillo, Baldomero | B7: 142
A8: Moral Castro, Javier | B8: 140
A9: Menchón García, Juan A. | B9: 132
A10: González Castrillo, Manuel J. | B10: 131
A11: Martín Salas, Jose | B11: 130
A12: Sousa López, Manuel | B12: 129
... A103: Cañada Ramírez, Manuel | B103: 0

Sheet Mijas
A1: 1 | C1: 180
A2: 2 | C2: 165
A3: 3 | C3: 155
A4: 4 | C4: 155
A5: 5 | B5: Diaz Rodriguez, Javier | C5: 146
A6: 6 | B6: Mira Cantillo, Baldomero | C6: 144
A7: 7 | B7: Cano López, Pablo | C7: 142
A8: 8 | B8: González Rodríguez, Diego | C8: 140
A9: 9 | B9: Muñoz Muñoz, Jose | C9: 132 | D9: =VLOOKUP(B9,'Rank 3 bandas'!D:Y,2,FALSE) -> #N/A
A10: 10 | B10: Marín Guerrero, Feliciano | C10: 131 | D10: =VLOOKUP(B10,'Rank 3 bandas'!D:Y,2,FALSE) -> #N/A
A11: 11 | B11: Ramos Blázquez, Fernando | C11: 130 | D11: =VLOOKUP(B11,'Rank 3 bandas'!D:Y,2,FALSE) -> #N/A
A12: 12 | B12: Dadetta, Jose Nestor | C12: 129 | D12: =VLOOKUP(B12,'Rank 3 bandas'!D:Y,2,FALSE) -> #N/A
A13: 13 | B13: García Martinez, Cristobal | C13: 128 | D13: =VLOOKUP(B13,'Rank 3 bandas'!D:Y,2,FALSE) -> #N/A
A14: 14 | B14: Domingo Crespo, Jose M. | C14: 127 | D14: =VLOOKUP(B14,'Rank 3 bandas'!D:Y,2,FALSE) -> #N/A
A15: 15 | B15: Martín Infante, Antonio J. | C15: 126 | D15: =VLOOKUP(B15,'Rank 3 bandas'!D:Y,2,FALSE) -> #N/A
A16: 16 | B16: Gutierrez Sampedro, Rafael | C16: 125 | D16: =VLOOKUP(B16,'Rank 3 bandas'!D:Y,2,FALSE) -> #N/A
A17: 17 | B17: Rodríguez Domínguez, Francisco J. | C17: 118 | D17: =VLOOKUP(B17,'Rank 3 bandas'!D:Y,2,FALSE) -> #N/A
A18: 18 | B18: Henao González, Juvenal | C18: 117 | D18: La Venus
A19: 19 | B19: González Calle, Jose R. | C19: 116 | D19: =VLOOKUP(B19,'Rank 3 bandas'!D:Y,2,FALSE) -> #N/A
A20: 20 | B20: Sousa López, Manuel | C20: 115 | D20: =VLOOKUP(B20,'Rank 3 bandas'!D:Y,2,FALSE) -> #N/A
A21: 21 | B21: Camacho Díaz, Jose L. | C21: 114 | D21: =VLOOKUP(B21,'Rank 3 bandas'!D:Y,2,FALSE) -> #N/A
A22: 22 | B22: Rodríguez Martín, Fernando | C22: 113 | D22: =VLOOKUP(B22,'Rank 3 bandas'!D:Y,2,FALSE) -> #N/A
A23: 23 | B23: Menchón García, Juan A. | C23: 112 | D23: =VLOOKUP(B23,'Rank 3 bandas'!D:Y,2,FALSE) -> #N/A
A24: 24 | B24: Moral Castro, Javier | C24: 111 | D24: =VLOOKUP(B24,'Rank 3 bandas'!D:Y,2,FALSE) -> #N/A
A25: 25 | B25: Sánchez Guardía, Isidro | C25: 110 | D25: =VLOOKUP(B25,'Rank 3 bandas'!D:Y,2,FALSE) -> #N/A
A26: 26 | B26: Serrano García, Jose | C26: 109 | D26: =VLOOKUP(B26,'Rank 3 bandas'!D:Y,2,FALSE) -> #N/A
A27: 27 | B27: Rosado Díaz, Antonio | C27: 108 | D27: =VLOOKUP(B27,'Rank 3 bandas'!D:Y,2,FALSE) -> #N/A
A28: 28 | B28: González Castrillo, Manuel J. | C28: 107 | D28: =VLOOKUP(B28,'Rank 3 bandas'!D:Y,2,FALSE) -> #N/A
A29: 29 | B29: Martín Salas, Jose | C29: 106 | D29: =VLOOKUP(B29,'Rank 3 bandas'!D:Y,2,FALSE) -> #N/A
A30: 30 | B30: Camacho Espina, Jose A. | C30: 105 | D30: =VLOOKUP(B30,'Rank 3 bandas'!D:Y,2,FALSE) -> #N/A
... A35: 35 | B35: Ramírez del Valle, Jose Luis | C35: 93 | D35: =VLOOKUP(B35,'Rank 3 bandas'!D:Y,2,FALSE) -> #N/A
A36: 36 | B36: Mena Jiménez, José | C36: 92 | D36: La Venus
A37: 37 | B37: Gómez Riballo, Antonio | C37: 91 | D37: =VLOOKUP(B37,'Rank 3 bandas'!D:Y,2,FALSE) -> #N/A
A38: 38 | B38: Gonzalez Rodriguez, Alejandro | C38: 90 | D38: =VLOOKUP(B38,'Rank 3 bandas'!D:Y,2,FALSE) -> #N/A
A39: 39 | B39: Trueba Sánchez, Juan Carlos | C39: 89 | D39: =VLOOKUP(B39,'Rank 3 bandas'!D:Y,2,FALSE) -> #N/A
A40: 40 | B40: Hernández Martínez, Javier | C40: 88 | D40: =VLOOKUP(B40,'Rank 3 bandas'!D:Y,2,FALSE) -> #N/A
A41: 41 | B41: Guillén Berraquero, Antonio | C41: 87 | D41: =VLOOKUP(B41,'Rank 3 bandas'!D:Y,2,FALSE) -> #N/A
A42: 42 | B42: Torrejón Molina, Dionisio | C42: 86 | D42: =VLOOKUP(B42,'Rank 3 bandas'!D:Y,2,FALSE) -> #N/A
A43: 43 | B43: Ramírez del Valle, Manuel | C43: 85 | D43: =VLOOKUP(B43,'Rank 3 bandas'!D:Y,2,FALSE) -> #N/A
A44: 44 | B44: Moreno Leo, Antonio | C44: 84 | D44: =VLOOKUP(B44,'Rank 3 bandas'!D:Y,2,FALSE) -> #N/A
A45: 45 | B45: Cobo Soriano, Javier | C45: 83 | D45: Maracena GR
A46: 46 | B46: Sánchez Garcia, Juan R | C46: 82 | D46: =VLOOKUP(B46,'Rank 3 bandas'!D:Y,2,FALSE) -> #N/A
A47: 47 | B47: Planelles Monerris, Antonio | C47: 81 | D47: =VLOOKUP(B47,'Rank 3 bandas'!D:Y,2,FALSE) -> #N/A
A48: 48 | B48: Soria Moreno, Antonio | C48: 80 | D48: =VLOOKUP(B48,'Rank 3 bandas'!D:Y,2,FALSE) -> #N/A
A49: 49 | B49: Contreras Romero, Juan | C49: 72 | D49: =VLOOKUP(B49,'Rank 3 bandas'!D:Y,2,FALSE) -> #N/A
A50: 50 | B50: Rivero Arias, Fernando | C50: 71 | D50: =VLOOKUP(B50,'Rank 3 bandas'!D:Y,2,FALSE) -> #N/A
A51: 51 | B51: Estrella González, Jorge | C51: 70 | D51: =VLOOKUP(B51,'Rank 3 bandas'!D:Y,2,FALSE) -> #N/A
A52: 52 | B52: Borjas Guerrero, Luis | C52: 69 | D52: =VLOOKUP(B52,'Rank 3 bandas'!D:Y,2,FALSE) -> #N/A
A53: 53 | B53: Antonio Vera, Domingo | C53: 68 | D53: =VLOOKUP(B53,'Rank 3 bandas'!D:Y,2,FALSE) -> #N/A
A54: 54 | B54: Fernández Muñoz, Guillermo | C54: 67 | D54: =VLOOKUP(B54,'Rank 3 bandas'!D:Y,2,FALSE) -> #N/A
A55: 55 | B55: Lobillo Villalon, Jose | C55: 66 | D55: =VLOOKUP(B55,'Rank 3 bandas'!D:Y,2,FALSE) -> #N/A
A56: 56 | B56: Díaz Rodríguez, Juan M. | C56: 65 | D56: =VLOOKUP(B56,'Rank 3 bandas'!D:Y,2,FALSE) -> #N/A
A57: 57 | B57: Torres Pulido, Emilio J. | C57: 64 | D57: =VLOOKUP(B57,'Rank 3 bandas'!D:Y,2,FALSE) -> #N/A
... A62: 62 | B62: Caraver Prados, Jose M | C62: 59 | D62: =VLOOKUP(B62,'Rank 3 bandas'!D:Y,2,FALSE) -> #N/A
A63: 63 | B63: Ruiz Jiménez, Andrés | C63: 58 | D63: Sombrero
A64: 64 | B64: Moreno Guzmán, Juan | C64: 57 | D64: =VLOOKUP(B64,'Rank 3 bandas'!D:Y,2,FALSE) -> #N/A
A65: 65 | B65: Tallón Taboaba, Francisco | C65: 49 | D65: =VLOOKUP(B65,'Rank 3 bandas'!D:Y,2,FALSE) -> #N/A
A66: 66 | B66: Romero Pareja, Manuel | C66: 48 | D66: =VLOOKUP(B66,'Rank 3 bandas'!D:Y,2,FALSE) -> #N/A
A67: 67 | B67: Muñoz Moreno, Francisco | C67: 47 | D67: Villaviciosa
A68: 68 | B68: Marín Bueno, Antonio | C68: 46 | D68: Sombrero
A69: 69 | B69: Alba Cabezas, Rafael | C69: 45 | D69: =VLOOKUP(B69,'Rank 3 bandas'!D:Y,2,FALSE) -> #N/A
A70: 70 | B70: González Alvarez, Jose M | C70: 44 | D70: =VLOOKUP(B70,'Rank 3 bandas'!D:Y,2,FALSE) -> #N/A
A71: 71 | B71: López Velandia, Moris Andrés | C71: 43 | D71: =VLOOKUP(B71,'Rank 3 bandas'!D:Y,2,FALSE) -> #N/A
A72: 72 | B72: Moreno Ruiz, Gregorio | C72: 42 | D72: =VLOOKUP(B72,'Rank 3 bandas'!D:Y,2,FALSE) -> #N/A
A73: 73 | B73: Ferro Carmo, Carlos Gregorio | C73: 41 | D73: Ayamonte
A74: 74 | B74: Martín Vargas, Manuel | C74: 40 | D74: =VLOOKUP(B74,'Rank 3 bandas'!D:Y,2,FALSE) -> #N/A
A75: 75 | B75: Pavón Celada, Jose Antonio | C75: 39 | D75: Mijas
A76: 76 | B76: López Perejón, Juan | C76: 38 | D76: =VLOOKUP(B76,'Rank 3 bandas'!D:Y,2,FALSE) -> #N/A
A77: 77 | B77: Moreno Expósito, Francisco | C77: 37 | D77: =VLOOKUP(B77,'Rank 3 bandas'!D:Y,2,FALSE) -> #N/A
A78: 78 | B78: Stand Uribe, Jose Antonio | C78: 36 | D78: =VLOOKUP(B78,'Rank 3 bandas'!D:Y,2,FALSE) -> #N/A
A79: 79 | B79: Alonso Suarez, Antonio | C79: 35 | D79: =VLOOKUP(B79,'Rank 3 bandas'!D:Y,2,FALSE) -> #N/A
A80: 80 | B80: Soria Moreno, Jose | C80: 34 | D80: =VLOOKUP(B80,'Rank 3 bandas'!D:Y,2,FALSE) -> #N/A
A81: 81 | B81: Valero Alarcón, Enrique | C81: 25 | D81: La Venus
A82: 82 | B82: González Calvillo, Rafael | C82: 25 | D82: =VLOOKUP(B82,'Rank 3 bandas'!D:Y,2,FALSE) -> #N/A
A83: 83 | B83: García Medina, Francisco | C83: 25 | D83: La Venus
A84: 84 | B84: Gutierrez Sánchez, Francisco | C84: 25 | D84: Sombrero
A85: 85 | B85: Montejano Bódalo, Ángel | C85: 25 | D85: =VLOOKUP(B85,'Rank 3 bandas'!D:Y,2,FALSE) -> #N/A
A86: 86 | B86: Hernández Castillo, Julio | C86: 25 | D86: La Venus
A87: 87 | B87: Fonseca Ávila, Cristian S. | C87: 25 | D87: Mijas
A88: 88 | B88: García Rodríguez Diego | C88: 25 | D88: La Venus
A89: 89 | B89: Herrero De Lucas, Francisco | C89: 25 | D89: Sombrero

Sheet Alcalá
B1: 180
B2: 165
B3: 155
B4: 155
A5: González Calle, Jose R. | B5: 146
A6: Sousa López, Manuel | B6: 144
A7: Sánchez Faraco, Jaime | B7: 142
A8: Per Kofoed | B8: 140
A9: Martín Salas, Jose | B9: 132
A10: Castaño Ochoa, Sebastián | B10: 131
A11: Camacho Díaz, Jose L. | B11: 130
A12: Domingo Crespo, Jose M. | B12: 129
A13: Rodríguez Domínguez, Francisco J. | B13: 128
A14: Mira Cantillo, Baldomero | B14: 127
A15: Menchón García, Juan A. | B15: 126
A16: Cano López, Pablo | B16: 125
... A105: Pérez Domínguez, Dionisio | B105: 18.02

Sheet Mijas banda
A1: 1 | C1: 0 | D1: 0 | E1: 0 | F1: 0 | H1: 0 | I1: 36
A2: 2 | C2: 0 | D2: 0 | E2: 0 | F2: 0 | H2: 0 | I2: 28
A3: 3 | C3: 0 | D3: 0 | E3: 0 | F3: 0 | H3: 0 | I3: 20
A4: 4 | C4: 0 | D4: 0 | E4: 0 | F4: 0 | H4: 0 | I4: 20
A5: 5 | B5: Rodríguez Martín, Fernando | C5: 2 | D5: 1 | E5: 130 | F5: 60 | G5: 2.167 | H5: 2.2 | I5: 14
A6: 6 | B6: López Perejón, Juan | C6: 1 | D6: 0 | E6: 47 | F6: 29 | G6: 1.621 | H6: 1.621 | I6: 12
A7: 7 | B7: Valero Alarcón, Enrique | C7: 2 | D7: 1 | E7: 64 | F7: 60 | G7: 1.067 | H7: 1.067 | I7: 10
A8: 8 | B8: Díaz Rodríguez, Juan M. | C8: 2 | D8: 1 | E8: 50 | F8: 60 | G8: 0.833 | H8: 1.067 | I8: 8
A9: 9 | B9: Torrejón Molina, Dionisio | C9: 1 | D9: 0 | E9: 50 | F9: 30 | G9: 1.667 | H9: 1.667 | I9: 4.08
A10: 10 | B10: González Rodríguez, Diego | C10: 1 | D10: 0 | E10: 48 | F10: 30 | G10: 1.6 | H10: 1.6 | I10: 4.07
A11: 11 | B11: Sánchez Guardía, Isidro | C11: 1 | D11: 0 | E11: 29 | F11: 21 | G11: 1.381 | H11: 1.381 | I11: 4.06
A12: 12 | B12: Blanca García, Juan A. | C12: 2 | D12: 1 | E12: 87 | F12: 60 | G12: 1.45 | H12: 1.6 | I12: 4.05
A13: 13 | B13: Pavón Celada, Jose Antonio | C13: 2 | D13: 1 | E13: 70 | F13: 56 | G13: 1.25 | H13: 1.567 | I13: 4.04
A14: 14 | B14: Bujalance, Joaquín | C14: 1 | D14: 0 | E14: 26 | F14: 30 | G14: 0.867 | H14: 0.867 | I14: 4.03
A15: 15 | B15: Soria Moreno, Antonio | C15: 1 | D15: 0 | E15: 22 | F15: 30 | G15: 0.733 | H15: 0.733 | I15: 4.02
A16: 16 | B16: Alonso Suarez, Antonio | C16: 0 | D16: 0 | E16: 0 | F16: 0 | H16: 0 | I16: 4.01
A17: 17 | B17: Henao González, Juvenal | C17: 1 | D17: 0 | E17: 50 | F17: 30 | G17: 1.667 | H17: 1.667 | I17: 2.03
A18: 18 | B18: Stand Uribe, Jose Antonio | C18: 1 | D18: 0 | E18: 45 | F18: 30 | G18: 1.5 | H18: 1.5 | I18: 2.02
A19: 19 | B19: Gea, Fernando | C19: 1 | D19: 0 | E19: 42 | F19: 30 | G19: 1.4 | H19: 1.4 | I19: 2.01
A20: 20 | B20: Alba Cabezas, Rafael | C20: 0 | D20: 0 | E20: 0 | F20: 0 | H20: 0 | I20: 2
