Workbook

Sheet Rank 3 bandas
C2: RANKING ACUMULADO 3 BANDAS TEMP. 26/27
C4: CLASIFICACION
B5: DNI | C5: NOMBRE | D5: ALCALÁ 22/23 | E5: MIJAS 22/23 | F5: BOLLULLOS 22/23 | G5: BURGUILLOS 22/23 | H5: ALCALÁ 23/24 | I5: BURGUILLOS 23/24 | J5: MARACENA 23/24 | K5: MIJAS 23/24 | L5: ALCALÁ 24/25 | M5: BAEZA 24/25 | N5: SEVILLA 24/25 | O5: HUMILLADERO 24/25 | P5: BURGUILLOS 24/25 | Q5: Córdoba 25/26 | R5: Bollullos 25/26 | S5: Burguillos 25/26 | T5: Sevilla 25/26 | U5: Humilladero 25/26 | V5: Almonte 26/27 | W5: Alcalá 26/27 | X5: Bonus Asistencia | Y5: TOTAL | AA5: Máximo | AB5: suma
A6: 1 | B6: 24280762F | C6: DÍAZ RODRÍGUEZ, JAVIER | D6: 146 | E6: 180 | F6: 180 | G6: =VLOOKUP(C6,Hoja4!B:C,2,FALSE) -> 140 | H6: =VLOOKUP(C6,Hoja3!A:B,2,FALSE) -> 180 | I6: 165 | J6: 165 | K6: =VLOOKUP(C6,Hoja10!A:B,2,FALSE) -> 180 | L6: =VLOOKUP(C6,Hoja11!A:B,2,FALSE) -> 180 | M6: =VLOOKUP(C6,Hoja12!A:B,2,FALSE) -> 165 | N6: 142 | O6: 180 | P6: =VLOOKUP(C6,Hoja15!A:B,2,FALSE) -> 146 | Q6: 155 | R6: 129 | S6: 144 | T6: 146 | U6: 180 | V6: 180 | W6: =IFERROR(VLOOKUP(C6,Hoja23!A:H,8,FALSE),"") -> 180 | X6: =+COUNT(S6:W6)*15+Z6 -> 75 | Y6: =+SUM(S6:X6) -> 905 | AA6: =MAX(S6:W6) -> 180 | AB6: =SUM(D6:W6) -> 3263
A7: 2 | B7: 29770104P | C7: MIRA CANTILLO, BALDOMERO | D7: 129 | E7: 144 | F7: 129 | G7: 146 | H7: 126 | I7: 103 | L7: =VLOOKUP(C7,Hoja11!A:B,2,FALSE) -> 117 | M7: =VLOOKUP(C7,Hoja12!A:B,2,FALSE) -> 95 | N7: =VLOOKUP(C7,Hoja13!A:B,2,FALSE) -> 117 | O7: 90 | P7: =VLOOKUP(C7,Hoja15!A:B,2,FALSE) -> 132 | Q7: 129 | R7: 165 | S7: 165 | T7: 180 | U7: 126 | V7: 131 | W7: =IFERROR(VLOOKUP(C7,Hoja23!A:H,8,FALSE),"") -> 146 | X7: =+COUNT(S7:W7)*15+Z7 -> 75 | Y7: =+SUM(S7:X7) -> 823 | AA7: =MAX(S7:W7) -> 180 | AB7: =SUM(D7:W7) -> 2370
A8: 3 | B8: 29736242W | C8: SÁNCHEZ FARACO, JAIME | D8: 180 | E8: 155 | F8: 117 | G8: =VLOOKUP(C8,Hoja4!B:C,2,FALSE) -> 180 | H8: =VLOOKUP(C8,Hoja3!A:B,2,FALSE) -> 114 | I8: 132 | J8: 155 | K8: =VLOOKUP(C8,Hoja10!A:B,2,FALSE) -> 144 | L8: =VLOOKUP(C8,Hoja11!A:B,2,FALSE) -> 165 | M8: =VLOOKUP(C8,Hoja12!A:B,2,FALSE) -> 180 | N8: =VLOOKUP(C8,Hoja13!A:B,2,FALSE) -> 165 | O8: 155 | P8: =VLOOKUP(C8,Hoja15!A:B,2,FALSE) -> 155 | Q8: 130 | R8: 146 | S8: 180 | T8: 129 | U8: 144 | V8: 109 | W8: =IFERROR(VLOOKUP(C8,Hoja23!A:H,8,FALSE),"") -> 155 | X8: =+COUNT(S8:W8)*15+Z8 -> 75 | Y8: =+SUM(S8:X8) -> 792 | AA8: =MAX(S8:W8) -> 180 | AB8: =SUM(D8:W8) -> 2990
A9: 4 | B9: 28668899C | C9: GONZÁLEZ CASTRILLO, MANUEL JESÚS | D9: 165 | E9: 165 | F9: 105 | G9: =VLOOKUP(C9,Hoja4!B:C,2,FALSE) -> 127 | H9: =VLOOKUP(C9,Hoja3!A:B,2,FALSE) -> 155 | I9: 131 | J9: 114 | K9: =VLOOKUP(C9,Hoja10!A:B,2,FALSE) -> 132 | L9: =VLOOKUP(C9,Hoja11!A:B,2,FALSE) -> 109 | M9: =VLOOKUP(C9,Hoja12!A:B,2,FALSE) -> 129 | N9: =VLOOKUP(C9,Hoja13!A:B,2,FALSE) -> 132 | O9: 155 | P9: =VLOOKUP(C9,Hoja15!A:B,2,FALSE) -> 140 | Q9: 165 | R9: 155 | S9: 113 | T9: 131 | U9: 142 | V9: 165 | W9: =IFERROR(VLOOKUP(C9,Hoja23!A:H,8,FALSE),"") -> 165 | X9: =+COUNT(S9:W9)*15+Z9 -> 75 | Y9: =+SUM(S9:X9) -> 791 | AA9: =MAX(S9:W9) -> 165 | AB9: =SUM(D9:W9) -> 2795
A10: 5 | C10: SOUSA LÓPEZ, MANUEL | D10: 144 | E10: 155 | F10: 130 | G10: =VLOOKUP(C10,Hoja4!B:C,2,FALSE) -> 130 | H10: =VLOOKUP(C10,Hoja3!A:B,2,FALSE) -> 112 | I10: 128 | J10: 144 | K10: =VLOOKUP(C10,Hoja10!A:B,2,FALSE) -> 130 | L10: =VLOOKUP(C10,Hoja11!A:B,2,FALSE) -> 118 | M10: =VLOOKUP(C10,Hoja12!A:B,2,FALSE) -> 132 | N10: =VLOOKUP(C10,Hoja13!A:B,2,FALSE) -> 155 | O10: 130 | P10: =VLOOKUP(C10,Hoja15!A:B,2,FALSE) -> 129 | Q10: 180 | R10: 142 | S10: 155 | T10: 165 | U10: 127 | V10: 118 | W10: =IFERROR(VLOOKUP(C10,Hoja23!A:H,8,FALSE),"") -> 144 | X10: =+COUNT(S10:W10)*15+Z10 -> 75 | Y10: =+SUM(S10:X10) -> 784 | AA10: =MAX(S10:W10) -> 165 | AB10: =SUM(D10:W10) -> 2768
A11: 6 | C11: MARTÍN SALAS, JOSÉ | D11: 155 | E11: 117 | F11: 127 | G11: =VLOOKUP(C11,Hoja4!B:C,2,FALSE) -> 155 | H11: =VLOOKUP(C11,Hoja3!A:B,2,FALSE) -> 116 | I11: 140 | J11: 142 | L11: =VLOOKUP(C11,Hoja11!A:B,2,FALSE) -> 132 | N11: =VLOOKUP(C11,Hoja13!A:B,2,FALSE) -> 92 | O11: 128 | P11: =VLOOKUP(C11,Hoja15!A:B,2,FALSE) -> 131 | R11: 144 | S11: 142 | T11: 144 | U11: 165 | V11: 106 | W11: =IFERROR(VLOOKUP(C11,Hoja23!A:H,8,FALSE),"") -> 130 | X11: =+COUNT(S11:W11)*15+Z11 -> 75 | Y11: =+SUM(S11:X11) -> 762 | AA11: =MAX(S11:W11) -> 165 | AB11: =SUM(D11:W11) -> 2266
A12: 7 | B12: 29492239Y | C12: CAMACHO ESPINA, JOSÉ ANTONIO | D12: 132 | E12: 112 | F12: 146 | G12: =VLOOKUP(C12,Hoja4!B:C,2,FALSE) -> 114 | H12: =VLOOKUP(C12,Hoja3!A:B,2,FALSE) -> 129 | I12: 142 | J12: 116 | K12: =VLOOKUP(C12,Hoja10!A:B,2,FALSE) -> 118 | L12: =VLOOKUP(C12,Hoja11!A:B,2,FALSE) -> 146 | M12: =VLOOKUP(C12,Hoja12!A:B,2,FALSE) -> 131 | N12: 146 | O12: 165 | P12: =VLOOKUP(C12,Hoja15!A:B,2,FALSE) -> 144 | Q12: 127 | R12: 132 | S12: 131 | T12: 155 | U12: 115 | V12: 146 | W12: =IFERROR(VLOOKUP(C12,Hoja23!A:H,8,FALSE),"") -> 140 | X12: =+COUNT(S12:W12)*15+Z12 -> 75 | Y12: =+SUM(S12:X12) -> 762 | AA12: =MAX(S12:W12) -> 155 | AB12: =SUM(D12:W12) -> 2687
A13: 8 | B13: 75536381B | C13: RODRÍGUEZ DOMÍNGUEZ, FRANCISCO J. | E13: 108 | F13: 116 | G13: =VLOOKUP(C13,Hoja4!B:C,2,FALSE) -> 129 | H13: =VLOOKUP(C13,Hoja3!A:B,2,FALSE) -> 130 | I13: 114 | J13: 155 | K13: =VLOOKUP(C13,Hoja10!A:B,2,FALSE) -> 155 | L13: =VLOOKUP(C13,Hoja11!A:B,2,FALSE) -> 127 | M13: =VLOOKUP(C13,Hoja12!A:B,2,FALSE) -> 155 | N13: =VLOOKUP(C13,Hoja13!A:B,2,FALSE) -> 180 | O13: 144 | P13: =VLOOKUP(C13,Hoja15!A:B,2,FALSE) -> 180 | Q13: 155 | R13: 127 | S13: 155 | T13: 132 | U13: 146 | V13: 113 | W13: =IFERROR(VLOOKUP(C13,Hoja23!A:H,8,FALSE),"") -> 132 | X13: =+COUNT(S13:W13)*15+Z13 -> 75 | Y13: =+SUM(S13:X13) -> 753 | AA13: =MAX(S13:W13) -> 155 | AB13: =SUM(D13:W13) -> 2653
A14: 9 | B14: 29746898D | C14: KOFOED, PER | D14: 131 | E14: 146 | F14: 131 | G14: =VLOOKUP(C14,Hoja4!B:C,2,FALSE) -> 131 | H14: =VLOOKUP(C14,Hoja3!A:B,2,FALSE) -> 142 | I14: 146 | J14: 129 | K14: =VLOOKUP(C14,Hoja10!A:B,2,FALSE) -> 131 | L14: =VLOOKUP(C14,Hoja11!A:B,2,FALSE) -> 140 | M14: =VLOOKUP(C14,Hoja12!A:B,2,FALSE) -> 125 | N14: =VLOOKUP(C14,Hoja13!A:B,2,FALSE) -> 127 | O14: 142 | P14: =VLOOKUP(C14,Hoja15!A:B,2,FALSE) -> 165 | Q14: 146 | R14: 126 | S14: 140 | T14: 130 | U14: 140 | V14: 155 | W14: =IFERROR(VLOOKUP(C14,Hoja23!A:H,8,FALSE),"") -> 113 | X14: =+COUNT(S14:W14)*15+Z14 -> 75 | Y14: =+SUM(S14:X14) -> 753 | AA14: =MAX(S14:W14) -> 155 | AB14: =SUM(D14:W14) -> 2736
A15: 10 | B15: 75528972P | C15: MARÍN GUERRERO, FELICIANO | D15: 113 | F15: 165 | G15: =VLOOKUP(C15,Hoja4!B:C,2,FALSE) -> 116 | H15: =VLOOKUP(C15,Hoja3!A:B,2,FALSE) -> 125 | I15: 127 | J15: 140 | K15: =VLOOKUP(C15,Hoja10!A:B,2,FALSE) -> 115 | L15: =VLOOKUP(C15,Hoja11!A:B,2,FALSE) -> 155 | M15: =VLOOKUP(C15,Hoja12!A:B,2,FALSE) -> 114 | N15: =VLOOKUP(C15,Hoja13!A:B,2,FALSE) -> 130 | O15: 146 | P15: =VLOOKUP(C15,Hoja15!A:B,2,FALSE) -> 142 | Q15: 132 | R15: 180 | S15: 111 | T15: 140 | U15: 155 | V15: 117 | W15: =IFERROR(VLOOKUP(C15,Hoja23!A:H,8,FALSE),"") -> 142 | X15: =+COUNT(S15:W15)*15+Z15 -> 75 | Y15: =+SUM(S15:X15) -> 740 | AA15: =MAX(S15:W15) -> 155 | AB15: =SUM(D15:W15) -> 2565
A16: 11 | C16: CANO LÓPEZ, PABLO | D16: 116 | E16: 127 | F16: 115 | G16: =VLOOKUP(C16,Hoja4!B:C,2,FALSE) -> 132 | H16: =VLOOKUP(C16,Hoja3!A:B,2,FALSE) -> 140 | I16: 155 | J16: 146 | K16: =VLOOKUP(C16,Hoja10!A:B,2,FALSE) -> 146 | L16: =VLOOKUP(C16,Hoja11!A:B,2,FALSE) -> 155 | M16: =VLOOKUP(C16,Hoja12!A:B,2,FALSE) -> 118 | N16: =VLOOKUP(C16,Hoja13!A:B,2,FALSE) -> 126 | O16: 140 | P16: =VLOOKUP(C16,Hoja15!A:B,2,FALSE) -> 116 | Q16: 106 | R16: 140 | S16: 117 | T16: 155 | U16: 128 | V16: 129 | W16: =IFERROR(VLOOKUP(C16,Hoja23!A:H,8,FALSE),"") -> 125 | X16: =+COUNT(S16:W16)*15+Z16 -> 75 | Y16: =+SUM(S16:X16) -> 729 | AA16: =MAX(S16:W16) -> 155 | AB16: =SUM(D16:W16) -> 2632
A17: 12 | B17: 29784957A | C17: GONZÁLEZ CALLE, JOSÉ RAMÓN | D17: 140 | E17: 114 | F17: 118 | G17: =VLOOKUP(C17,Hoja4!B:C,2,FALSE) -> 144 | H17: =VLOOKUP(C17,Hoja3!A:B,2,FALSE) -> 144 | I17: 118 | J17: 128 | K17: =VLOOKUP(C17,Hoja10!A:B,2,FALSE) -> 128 | L17: =VLOOKUP(C17,Hoja11!A:B,2,FALSE) -> 129 | M17: =VLOOKUP(C17,Hoja12!A:B,2,FALSE) -> 146 | N17: 140 | O17: 125 | P17: =VLOOKUP(C17,Hoja15!A:B,2,FALSE) -> 127 | Q17: 118 | R17: 118 | S17: 132 | T17: 125 | U17: 117 | V17: 130 | W17: =IFERROR(VLOOKUP(C17,Hoja23!A:H,8,FALSE),"") -> 126 | X17: =+COUNT(S17:W17)*15+Z17 -> 75 | Y17: =+SUM(S17:X17) -> 705 | AA17: =MAX(S17:W17) -> 132 | AB17: =SUM(D17:W17) -> 2567
A18: 13 | C18: DOMINGO CRESPO, JOSÉ MANUEL | D18: 108 | E18: 95 | F18: 128 | G18: =VLOOKUP(C18,Hoja4!B:C,2,FALSE) -> 128 | H18: =VLOOKUP(C18,Hoja3!A:B,2,FALSE) -> 132 | I18: 130 | J18: 109 | K18: =VLOOKUP(C18,Hoja10!A:B,2,FALSE) -> 111 | L18: =VLOOKUP(C18,Hoja11!A:B,2,FALSE) -> 126 | M18: =VLOOKUP(C18,Hoja12!A:B,2,FALSE) -> 109 | N18: =VLOOKUP(C18,Hoja13!A:B,2,FALSE) -> 114 | O18: 129 | P18: =VLOOKUP(C18,Hoja15!A:B,2,FALSE) -> 155 | Q18: 112 | R18: 130 | S18: 127 | T18: 126 | U18: 104 | V18: 155 | W18: =IFERROR(VLOOKUP(C18,Hoja23!A:H,8,FALSE),"") -> 112 | X18: =+COUNT(S18:W18)*15+Z18 -> 75 | Y18: =+SUM(S18:X18) -> 699 | AA18: =MAX(S18:W18) -> 155 | AB18: =SUM(D18:W18) -> 2440
A19: 14 | C19: MORALES MARTÍNEZ, GREGORIO | F19: 140 | H19: =VLOOKUP(C19,Hoja3!A:B,2,FALSE) -> 92 | I19: 95 | L19: =VLOOKUP(C19,Hoja11!A:B,2,FALSE) -> 125 | M19: =VLOOKUP(C19,Hoja12!A:B,2,FALSE) -> 142 | N19: =VLOOKUP(C19,Hoja13!A:B,2,FALSE) -> 129 | O19: 57 | P19: =VLOOKUP(C19,Hoja15!A:B,2,FALSE) -> 112 | Q19: 89 | R19: 116 | S19: 146 | T19: 90 | U19: 118 | V19: 144 | W19: =IFERROR(VLOOKUP(C19,Hoja23!A:H,8,FALSE),"") -> 118 | X19: =+COUNT(S19:W19)*15+Z19 -> 75 | Y19: =+SUM(S19:X19) -> 691 | AA19: =MAX(S19:W19) -> 146 | AB19: =SUM(D19:W19) -> 1713
A20: 15 | B20: 75399370B | C20: RAMÍREZ BARROSO, FRANCISCO J. | M20: =VLOOKUP(C20,Hoja12!A:B,2,FALSE) -> 115 | N20: =VLOOKUP(C20,Hoja13!A:B,2,FALSE) -> 128 | O20: 72 | P20: =VLOOKUP(C20,Hoja15!A:B,2,FALSE) -> 118 | Q20: 140 | R20: 155 | S20: 109 | T20: 127 | U20: 129 | V20: 115 | W20: =IFERROR(VLOOKUP(C20,Hoja23!A:H,8,FALSE),"") -> 128 | X20: =+COUNT(S20:W20)*15+Z20 -> 75 | Y20: =+SUM(S20:X20) -> 683 | AA20: =MAX(S20:W20) -> 129 | AB20: =SUM(D20:W20) -> 1336
A21: 16 | B21: 75412420C | C21: CAMACHO DÍAZ, JOSÉ LUIS | D21: 155 | E21: 132 | F21: 142 | G21: =VLOOKUP(C21,Hoja4!B:C,2,FALSE) -> 142 | H21: =VLOOKUP(C21,Hoja3!A:B,2,FALSE) -> 111 | I21: 117 | J21: 125 | K21: =VLOOKUP(C21,Hoja10!A:B,2,FALSE) -> 142 | L21: =VLOOKUP(C21,Hoja11!A:B,2,FALSE) -> 130 | M21: =VLOOKUP(C21,Hoja12!A:B,2,FALSE) -> 144 | N21: =VLOOKUP(C21,Hoja13!A:B,2,FALSE) -> 155 | O21: 132 | P21: =VLOOKUP(C21,Hoja15!A:B,2,FALSE) -> 126 | Q21: 144 | R21: 131 | S21: 115 | T21: 116 | U21: 131 | V21: 114 | W21: =IFERROR(VLOOKUP(C21,Hoja23!A:H,8,FALSE),"") -> 117 | X21: =+COUNT(S21:W21)*15+Z21 -> 75 | Y21: =+SUM(S21:X21) -> 668 | AA21: =MAX(S21:W21) -> 131 | AB21: =SUM(D21:W21) -> 2621
A22: 17 | B22: 52298597R | C22: ANTONIO VERA, DOMINGO J. | D22: 125 | F22: 49 | G22: =VLOOKUP(C22,Hoja4!B:C,2,FALSE) -> 93 | H22: =VLOOKUP(C22,Hoja3!A:B,2,FALSE) -> 65 | I22: 111 | L22: =VLOOKUP(C22,Hoja11!A:B,2,FALSE) -> 94 | N22: 144 | O22: 70 | P22: =VLOOKUP(C22,Hoja15!A:B,2,FALSE) -> 71 | Q22: 125 | R22: 117 | S22: 129 | T22: 85 | U22: 108 | V22: 111 | W22: =IFERROR(VLOOKUP(C22,Hoja23!A:H,8,FALSE),"") -> 155 | X22: =+COUNT(S22:W22)*15+Z22 -> 75 | Y22: =+SUM(S22:X22) -> 663 | AA22: =MAX(S22:W22) -> 155 | AB22: =SUM(D22:W22) -> 1652
A23: 18 | C23: DADDETTA, JOSÉ NESTOR | D23: 103 | E23: 118 | F23: 104 | G23: =VLOOKUP(C23,Hoja4!B:C,2,FALSE) -> 110 | H23: =VLOOKUP(C23,Hoja3!A:B,2,FALSE) -> 105 | I23: 107 | J23: 93 | K23: =VLOOKUP(C23,Hoja10!A:B,2,FALSE) -> 110 | L23: =VLOOKUP(C23,Hoja11!A:B,2,FALSE) -> 80 | M23: =VLOOKUP(C23,Hoja12!A:B,2,FALSE) -> 80 | N23: =VLOOKUP(C23,Hoja13!A:B,2,FALSE) -> 87 | O23: 127 | P23: =VLOOKUP(C23,Hoja15!A:B,2,FALSE) -> 110 | Q23: 113 | R23: 89 | S23: 114 | T23: 108 | U23: 110 | V23: 127 | W23: =IFERROR(VLOOKUP(C23,Hoja23!A:H,8,FALSE),"") -> 127 | X23: =+COUNT(S23:W23)*15+Z23 -> 75 | Y23: =+SUM(S23:X23) -> 661 | AA23: =MAX(S23:W23) -> 127 | AB23: =SUM(D23:W23) -> 2122
A24: 19 | B24: 29473376A | C24: LAZO BLANCO, JOSÉ | F24: 109 | G24: =VLOOKUP(C24,Hoja4!B:C,2,FALSE) -> 95 | H24: =VLOOKUP(C24,Hoja3!A:B,2,FALSE) -> 131 | I24: 109 | L24: =VLOOKUP(C24,Hoja11!A:B,2,FALSE) -> 110 | M24: =VLOOKUP(C24,Hoja12!A:B,2,FALSE) -> 94 | N24: =VLOOKUP(C24,Hoja13!A:B,2,FALSE) -> 131 | O24: 67 | P24: =VLOOKUP(C24,Hoja15!A:B,2,FALSE) -> 117 | R24: 112 | S24: 130 | T24: 117 | U24: 130 | V24: 90 | W24: =IFERROR(VLOOKUP(C24,Hoja23!A:H,8,FALSE),"") -> 115 | X24: =+COUNT(S24:W24)*15+Z24 -> 75 | Y24: =+SUM(S24:X24) -> 657 | AA24: =MAX(S24:W24) -> 130 | AB24: =SUM(D24:W24) -> 1657
A25: 20 | B25: 75526957V | C25: FERNÁNDEZ MORALES, RICHARD | Q25: 128 | R25: 93 | S25: 87 | T25: 128 | U25: 125 | V25: 110 | W25: =IFERROR(VLOOKUP(C25,Hoja23!A:H,8,FALSE),"") -> 129 | X25: =+COUNT(S25:W25)*15+Z25 -> 75 | Y25: =+SUM(S25:X25) -> 654 | AA25: =MAX(S25:W25) -> 129 | AB25: =SUM(D25:W25) -> 800
A26: 21 | B26: 29765004Z | C26: GONZÁLEZ RODRÍGUEZ, DIEGO | D26: 112 | E26: 109 | F26: 84 | G26: =VLOOKUP(C26,Hoja4!B:C,2,FALSE) -> 91 | H26: =VLOOKUP(C26,Hoja3!A:B,2,FALSE) -> 108 | I26: 106 | J26: 118 | K26: =VLOOKUP(C26,Hoja10!A:B,2,FALSE) -> 112 | L26: =VLOOKUP(C26,Hoja11!A:B,2,FALSE) -> 142 | M26: =VLOOKUP(C26,Hoja12!A:B,2,FALSE) -> 108 | N26: =VLOOKUP(C26,Hoja13!A:B,2,FALSE) -> 107 | O26: 131 | P26: =VLOOKUP(C26,Hoja15!A:B,2,FALSE) -> 114 | Q26: 108 | R26: 108 | S26: 125 | T26: 111 | U26: 113 | V26: 140 | W26: =IFERROR(VLOOKUP(C26,Hoja23!A:H,8,FALSE),"") -> 80 | X26: =+COUNT(S26:W26)*15+Z26 -> 60 | Y26: =+SUM(S26:X26) -> 629 | Z26: -15 | AA26: =MAX(S26:W26) -> 140 | AB26: =SUM(D26:W26) -> 2227
A27: 22 | B27: 24792531A | C27: CONTRERAS ROMERO, JUAN | D27: 69 | E27: 68 | F27: 71 | G27: =VLOOKUP(C27,Hoja4!B:C,2,FALSE) -> 86 | H27: =VLOOKUP(C27,Hoja3!A:B,2,FALSE) -> 85 | I27: 108 | L27: =VLOOKUP(C27,Hoja11!A:B,2,FALSE) -> 66 | N27: =VLOOKUP(C27,Hoja13!A:B,2,FALSE) -> 112 | O27: 42 | P27: =VLOOKUP(C27,Hoja15!A:B,2,FALSE) -> 130 | Q27: 57 | R27: 105 | S27: 103 | T27: 114 | U27: 112 | V27: 128 | W27: =IFERROR(VLOOKUP(C27,Hoja23!A:H,8,FALSE),"") -> 89 | X27: =+COUNT(S27:W27)*15+Z27 -> 75 | Y27: =+SUM(S27:X27) -> 621 | AA27: =MAX(S27:W27) -> 128 | AB27: =SUM(D27:W27) -> 1545
A28: 23 | C28: GARCÍA MARTÍNEZ, CRISTÓBAL | D28: 95 | E28: 113 | F28: 87 | G28: =VLOOKUP(C28,Hoja4!B:C,2,FALSE) -> 108 | H28: =VLOOKUP(C28,Hoja3!A:B,2,FALSE) -> 95 | I28: 104 | J28: 95 | K28: =VLOOKUP(C28,Hoja10!A:B,2,FALSE) -> 113 | L28: =VLOOKUP(C28,Hoja11!A:B,2,FALSE) -> 115 | M28: =VLOOKUP(C28,Hoja12!A:B,2,FALSE) -> 126 | N28: =VLOOKUP(C28,Hoja13!A:B,2,FALSE) -> 110 | O28: 106 | P28: =VLOOKUP(C28,Hoja15!A:B,2,FALSE) -> 113 | Q28: 105 | R28: 115 | S28: 84 | T28: 104 | U28: 132 | V28: 103 | W28: =IFERROR(VLOOKUP(C28,Hoja23!A:H,8,FALSE),"") -> 106 | X28: =+COUNT(S28:W28)*15+Z28 -> 75 | Y28: =+SUM(S28:X28) -> 604 | AA28: =MAX(S28:W28) -> 132 | AB28: =SUM(D28:W28) -> 2129
A29: 24 | B29: 22449098V | C29: STAND URIBE, JOSÉ ANTONIO | D29: 88 | E29: 71 | F29: 110 | G29: =VLOOKUP(C29,Hoja4!B:C,2,FALSE) -> 92 | H29: =VLOOKUP(C29,Hoja3!A:B,2,FALSE) -> 109 | I29: 116 | J29: 90 | K29: =VLOOKUP(C29,Hoja10!A:B,2,FALSE) -> 125 | L29: =VLOOKUP(C29,Hoja11!A:B,2,FALSE) -> 112 | M29: =VLOOKUP(C29,Hoja12!A:B,2,FALSE) -> 103 | P29: =VLOOKUP(C29,Hoja15!A:B,2,FALSE) -> 109 | Q29: 67 | R29: 63 | S29: 116 | T29: 105 | U29: 114 | V29: 83 | W29: =IFERROR(VLOOKUP(C29,Hoja23!A:H,8,FALSE),"") -> 108 | X29: =+COUNT(S29:W29)*15+Z29 -> 75 | Y29: =+SUM(S29:X29) -> 601 | AA29: =MAX(S29:W29) -> 116 | AB29: =SUM(D29:W29) -> 1781
A30: 25 | B30: 75569065N | C30: RODRÍGUEZ MARTÍN, FERNANDO | D30: 87 | E30: 93 | G30: =VLOOKUP(C30,Hoja4!B:C,2,FALSE) -> 111 | H30: =VLOOKUP(C30,Hoja3!A:B,2,FALSE) -> 86 | I30: 58 | K30: 104 | L30: =VLOOKUP(C30,Hoja11!A:B,2,FALSE) -> 116 | M30: =VLOOKUP(C30,Hoja12!A:B,2,FALSE) -> 103 | N30: =VLOOKUP(C30,Hoja13!A:B,2,FALSE) -> 95 | O30: 86 | P30: =VLOOKUP(C30,Hoja15!A:B,2,FALSE) -> 104 | Q30: 90 | R30: 90 | S30: 126 | T30: 103 | U30: 109 | V30: 92 | W30: =IFERROR(VLOOKUP(C30,Hoja23!A:H,8,FALSE),"") -> 92 | X30: =+COUNT(S30:W30)*15+Z30 -> 75 | Y30: =+SUM(S30:X30) -> 597 | AA30: =MAX(S30:W30) -> 126 | AB30: =SUM(D30:W30) -> 1745
A31: 26 | B31: 77153101S | C31: GARCÍA ARIAS, FRANCISCO J. | D31: 93 | E31: 126 | F31: 107 | G31: =VLOOKUP(C31,Hoja4!B:C,2,FALSE) -> 83 | H31: =VLOOKUP(C31,Hoja3!A:B,2,FALSE) -> 117 | I31: 105 | J31: 80 | K31: =VLOOKUP(C31,Hoja10!A:B,2,FALSE) -> 94 | L31: =VLOOKUP(C31,Hoja11!A:B,2,FALSE) -> 95 | M31: =VLOOKUP(C31,Hoja12!A:B,2,FALSE) -> 112 | N31: =VLOOKUP(C31,Hoja13!A:B,2,FALSE) -> 104 | O31: 117 | P31: =VLOOKUP(C31,Hoja15!A:B,2,FALSE) -> 125 | Q31: 131 | R31: 125 | S31: 118 | T31: 115 | U31: 107 | V31: 108 | W31: =IFERROR(VLOOKUP(C31,Hoja23!A:H,8,FALSE),"") -> 80 | X31: =+COUNT(S31:W31)*15+Z31 -> 60 | Y31: =+SUM(S31:X31) -> 588 | Z31: -15 | AA31: =MAX(S31:W31) -> 118 | AB31: =SUM(D31:W31) -> 2142
A32: 27 | B32: 28851604J | C32: DÍAZ RODRÍGUEZ, JUAN MARÍA | D32: 64 | E32: 65 | F32: 68 | G32: =VLOOKUP(C32,Hoja4!B:C,2,FALSE) -> 90 | H32: =VLOOKUP(C32,Hoja3!A:B,2,FALSE) -> 107 | I32: 63 | J32: 91 | K32: =VLOOKUP(C32,Hoja10!A:B,2,FALSE) -> 88 | L32: =VLOOKUP(C32,Hoja11!A:B,2,FALSE) -> 91 | N32: =VLOOKUP(C32,Hoja13!A:B,2,FALSE) -> 118 | O32: 87 | P32: =VLOOKUP(C32,Hoja15!A:B,2,FALSE) -> 111 | Q32: 63 | R32: 104 | S32: 106 | T32: 92 | U32: 81 | V32: 87 | W32: =IFERROR(VLOOKUP(C32,Hoja23!A:H,8,FALSE),"") -> 114 | X32: =+COUNT(S32:W32)*15+Z32 -> 75 | Y32: =+SUM(S32:X32) -> 555 | AA32: =MAX(S32:W32) -> 114 | AB32: =SUM(D32:W32) -> 1690
A33: 28 | C33: TORRES PULIDO, EMILIO JOSÉ | D33: 111 | E33: 104 | F33: 94 | G33: =VLOOKUP(C33,Hoja4!B:C,2,FALSE) -> 82 | H33: =VLOOKUP(C33,Hoja3!A:B,2,FALSE) -> 104 | I33: 126 | J33: 89 | K33: =VLOOKUP(C33,Hoja10!A:B,2,FALSE) -> 105 | L33: =VLOOKUP(C33,Hoja11!A:B,2,FALSE) -> 111 | M33: =VLOOKUP(C33,Hoja12!A:B,2,FALSE) -> 128 | N33: =VLOOKUP(C33,Hoja13!A:B,2,FALSE) -> 109 | O33: 118 | P33: =VLOOKUP(C33,Hoja15!A:B,2,FALSE) -> 115 | Q33: 115 | R33: 128 | S33: 105 | T33: 80 | U33: 91 | V33: 107 | W33: =IFERROR(VLOOKUP(C33,Hoja23!A:H,8,FALSE),"") -> 111 | X33: =+COUNT(S33:W33)*15+Z33 -> 60 | Y33: =+SUM(S33:X33) -> 554 | Z33: -15 | AA33: =MAX(S33:W33) -> 111 | AB33: =SUM(D33:W33) -> 2133
A34: 29 | B34: 32009587G | C34: MARTÍN INFANTES, ANTONIO JOSÉ | D34: 118 | E34: 130 | F34: 113 | G34: =VLOOKUP(C34,Hoja4!B:C,2,FALSE) -> 113 | H34: =VLOOKUP(C34,Hoja3!A:B,2,FALSE) -> 113 | I34: 91 | J34: 106 | K34: =VLOOKUP(C34,Hoja10!A:B,2,FALSE) -> 127 | L34: =VLOOKUP(C34,Hoja11!A:B,2,FALSE) -> 106 | N34: =VLOOKUP(C34,Hoja13!A:B,2,FALSE) -> 85 | O34: 91 | P34: =VLOOKUP(C34,Hoja15!A:B,2,FALSE) -> 86 | Q34: 70 | R34: 106 | S34: 108 | T34: 87 | U34: 93 | V34: 88 | W34: =IFERROR(VLOOKUP(C34,Hoja23!A:H,8,FALSE),"") -> 90 | X34: =+COUNT(S34:W34)*15+Z34 -> 75 | Y34: =+SUM(S34:X34) -> 541 | AA34: =MAX(S34:W34) -> 108 | AB34: =SUM(D34:W34) -> 1921
A35: 30 | B35: 48925054Y | C35: PLANELLES MONERRIS, ANTONIO DE LOS REYES | D35: 91 | E35: 91 | F35: 106 | G35: =VLOOKUP(C35,Hoja4!B:C,2,FALSE) -> 104 | H35: =VLOOKUP(C35,Hoja3!A:B,2,FALSE) -> 127 | I35: 113 | J35: 94 | K35: 103 | L35: =VLOOKUP(C35,Hoja11!A:B,2,FALSE) -> 85 | M35: =VLOOKUP(C35,Hoja12!A:B,2,FALSE) -> 90 | N35: =VLOOKUP(C35,Hoja13!A:B,2,FALSE) -> 91 | O35: 108 | P35: =VLOOKUP(C35,Hoja15!A:B,2,FALSE) -> 95 | Q35: 104 | R35: 80 | S35: 107 | T35: 84 | U35: 83 | V35: 104 | W35: =IFERROR(VLOOKUP(C35,Hoja23!A:H,8,FALSE),"") -> 86 | X35: =+COUNT(S35:W35)*15+Z35 -> 75 | Y35: =+SUM(S35:X35) -> 539 | AA35: =MAX(S35:W35) -> 107 | AB35: =SUM(D35:W35) -> 1946
A36: 31 | B36: 75518363W | C36: TRUEBA SÁNCHEZ, JUAN CARLOS | D36: 65 | E36: 64 | F36: 62 | G36: =VLOOKUP(C36,Hoja4!B:C,2,FALSE) -> 117 | H36: =VLOOKUP(C36,Hoja3!A:B,2,FALSE) -> 88 | I36: 112 | J36: 113 | K36: =VLOOKUP(C36,Hoja10!A:B,2,FALSE) -> 106 | L36: =VLOOKUP(C36,Hoja11!A:B,2,FALSE) -> 105 | M36: =VLOOKUP(C36,Hoja12!A:B,2,FALSE) -> 89 | N36: =VLOOKUP(C36,Hoja13!A:B,2,FALSE) -> 86 | O36: 110 | P36: =VLOOKUP(C36,Hoja15!A:B,2,FALSE) -> 105 | Q36: 87 | R36: 92 | S36: 89 | T36: 93 | U36: 103 | V36: 82 | W36: =IFERROR(VLOOKUP(C36,Hoja23!A:H,8,FALSE),"") -> 94 | X36: =+COUNT(S36:W36)*15+Z36 -> 75 | Y36: =+SUM(S36:X36) -> 536 | AA36: =MAX(S36:W36) -> 103 | AB36: =SUM(D36:W36) -> 1862
A37: 32 | C37: GUTIÉRREZ SAMPEDRO, RAFAEL | D37: 115 | E37: 128 | G37: =VLOOKUP(C37,Hoja4!B:C,2,FALSE) -> 118 | H37: =VLOOKUP(C37,Hoja3!A:B,2,FALSE) -> 128 | I37: 115 | J37: 88 | K37: =VLOOKUP(C37,Hoja10!A:B,2,FALSE) -> 95 | M37: =VLOOKUP(C37,Hoja12!A:B,2,FALSE) -> 80 | O37: 71 | P37: 81 | Q37: 91 | R37: 94 | S37: 62 | T37: 94 | U37: 68 | V37: 126 | W37: =IFERROR(VLOOKUP(C37,Hoja23!A:H,8,FALSE),"") -> 110 | X37: =+COUNT(S37:W37)*15+Z37 -> 75 | Y37: =+SUM(S37:X37) -> 535 | AA37: =MAX(S37:W37) -> 126 | AB37: =SUM(D37:W37) -> 1664
A38: 33 | C38: DE LOS REYES JIMÉNEZ, JUAN ANTONIO | Q38: 49 | R38: 84 | T38: 142 | U38: 116 | V38: 116 | W38: =IFERROR(VLOOKUP(C38,Hoja23!A:H,8,FALSE),"") -> 93 | X38: =+COUNT(S38:W38)*15+Z38 -> 60 | Y38: =+SUM(S38:X38) -> 527 | AA38: =MAX(S38:W38) -> 142 | AB38: =SUM(D38:W38) -> 600
A39: 34 | C39: LOBILLO VILLALÓN, JOSÉ | D39: 68 | E39: 67 | F39: 85 | G39: =VLOOKUP(C39,Hoja4!B:C,2,FALSE) -> 85 | H39: =VLOOKUP(C39,Hoja3!A:B,2,FALSE) -> 103 | I39: 84 | J39: 110 | L39: =VLOOKUP(C39,Hoja11!A:B,2,FALSE) -> 113 | M39: =VLOOKUP(C39,Hoja12!A:B,2,FALSE) -> 88 | N39: =VLOOKUP(C39,Hoja13!A:B,2,FALSE) -> 82 | O39: 89 | P39: =VLOOKUP(C39,Hoja15!A:B,2,FALSE) -> 57 | Q39: 110 | R39: 83 | S39: 110 | T39: 91 | U39: 64 | V39: 67 | W39: =IFERROR(VLOOKUP(C39,Hoja23!A:H,8,FALSE),"") -> 91 | X39: =+COUNT(S39:W39)*15+Z39 -> 75 | Y39: =+SUM(S39:X39) -> 498 | AA39: =MAX(S39:W39) -> 110 | AB39: =SUM(D39:W39) -> 1647
A40: 35 | B40: 75363756R | C40: DOMÍNGUEZ CANO, JUAN | D40: 105 | F40: 48 | G40: =VLOOKUP(C40,Hoja4!B:C,2,FALSE) -> 63 | H40: =VLOOKUP(C40,Hoja3!A:B,2,FALSE) -> 90 | I40: 71 | J40: 117 | L40: =VLOOKUP(C40,Hoja11!A:B,2,FALSE) -> 103 | N40: =VLOOKUP(C40,Hoja13!A:B,2,FALSE) -> 113 | O40: 113 | P40: =VLOOKUP(C40,Hoja15!A:B,2,FALSE) -> 69 | R40: 86 | S40: 94 | T40: 112 | U40: 69 | V40: 57 | W40: =IFERROR(VLOOKUP(C40,Hoja23!A:H,8,FALSE),"") -> 105 | X40: =+COUNT(S40:W40)*15+Z40 -> 60 | Y40: =+SUM(S40:X40) -> 497 | Z40: -15 | AA40: =MAX(S40:W40) -> 112 | AB40: =SUM(D40:W40) -> 1415
A41: 36 | B41: 30002348K | C41: AMAYA FORTES, SALVADOR | E41: 48 | F41: 47 | K41: =VLOOKUP(C41,Hoja10!A:B,2,FALSE) -> 46 | L41: =VLOOKUP(C41,Hoja11!A:B,2,FALSE) -> 48 | M41: =VLOOKUP(C41,Hoja12!A:B,2,FALSE) -> 67 | N41: =VLOOKUP(C41,Hoja13!A:B,2,FALSE) -> 111 | O41: 69 | Q41: 88 | R41: 107 | S41: 90 | T41: 88 | U41: 90 | V41: 80 | W41: =IFERROR(VLOOKUP(C41,Hoja23!A:H,8,FALSE),"") -> 88 | X41: =+COUNT(S41:W41)*15+Z41 -> 60 | Y41: =+SUM(S41:X41) -> 496 | Z41: -15 | AA41: =MAX(S41:W41) -> 90 | AB41: =SUM(D41:W41) -> 1067
A42: 37 | B42: 06187184T | C42: GONZÁLEZ RODRÍGUEZ, ALEJANDRO ANTONIO | D42: 114 | E42: 116 | F42: 82 | G42: =VLOOKUP(C42,Hoja4!B:C,2,FALSE) -> 84 | H42: =VLOOKUP(C42,Hoja3!A:B,2,FALSE) -> 93 | I42: 80 | J42: 80 | L42: =VLOOKUP(C42,Hoja11!A:B,2,FALSE) -> 92 | M42: =VLOOKUP(C42,Hoja12!A:B,2,FALSE) -> 111 | N42: =VLOOKUP(C42,Hoja13!A:B,2,FALSE) -> 93 | P42: =VLOOKUP(C42,Hoja15!A:B,2,FALSE) -> 94 | Q42: 71 | R42: 62 | S42: 85 | T42: 71 | U42: 57 | V42: 71 | W42: =IFERROR(VLOOKUP(C42,Hoja23!A:H,8,FALSE),"") -> 116 | X42: =+COUNT(S42:W42)*15+Z42 -> 60 | Y42: =+SUM(S42:X42) -> 460 | Z42: -15 | AA42: =MAX(S42:W42) -> 116 | AB42: =SUM(D42:W42) -> 1572
...

Sheet Hoja23
A1: DÍAZ RODRÍGUEZ, JAVIER | B1: 5 | C1: 5 | D1: 160 | E1: 147 | F1: 1.088 | G1: 1.25 | H1: 180
A2: GONZÁLEZ CASTRILLO, MANUEL JESÚS | B2: 5 | C2: 4 | D2: 179 | E2: 200 | F2: 0.895 | G2: 1.143 | H2: 165
A3: SÁNCHEZ FARACO, JAIME | B3: 4 | C3: 3 | D3: 158 | E3: 131 | F3: 1.206 | G3: 1.667 | H3: 155
A4: ANTONIO VERA, DOMINGO J. | B4: 5 | C4: 4 | D4: 138 | E4: 165 | F4: 0.836 | G4: 1.25 | H4: 155
A5: MIRA CANTILLO, BALDOMERO | B5: 3 | C5: 2 | D5: 116 | E5: 129 | F5: 0.899 | G5: 1.057 | H5: 146
A6: SOUSA LÓPEZ, MANUEL | B6: 3 | C6: 2 | D6: 104 | E6: 109 | F6: 0.954 | G6: 1.143 | H6: 144
A7: MARÍN GUERRERO, FELICIANO | B7: 3 | C7: 2 | D7: 104 | E7: 130 | F7: 0.8 | G7: 0.889 | H7: 142
A8: CAMACHO ESPINA, JOSÉ ANTONIO | B8: 3 | C8: 2 | D8: 96 | E8: 113 | F8: 0.85 | G8: 1 | H8: 140
A9: RODRÍGUEZ DOMÍNGUEZ, FRANCISCO J. | B9: 2 | C9: 1 | D9: 71 | E9: 89 | F9: 0.798 | G9: 0.949 | H9: 132
A10: GÓMEZ SÁNCHEZ, ALBERTO | B10: 7 | C10: 6 | D10: 198 | E10: 226 | F10: 0.876 | G10: 1.026 | H10: 131
A11: MARTÍN SALAS, JOSÉ | B11: 2 | C11: 1 | D11: 36 | E11: 44 | F11: 0.818 | G11: 0.818 | H11: 130
A12: FERNÁNDEZ MORALES, RICHARD | B12: 3 | C12: 2 | D12: 119 | E12: 136 | F12: 0.875 | G12: 0.93 | H12: 129
... A46: COBRERO VALDERRAMA, MANUEL | B46: 3 | C46: 2 | D46: 46 | E46: 100 | F46: 0.46 | G46: 0.48 | H46: 82
A47: GONZÁLEZ RODRÍGUEZ, DIEGO | B47: 1 | C47: 0 | D47: 0 | E47: 0 | G47: 0 | H47: 80
A48: GARCÍA ARIAS, FRANCISCO J. | B48: 1 | C48: 0 | D48: 0 | E48: 0 | G48: 0 | H48: 80
A49: MUÑOZ MORENO, FRANCISCO | B49: 1 | C49: 0 | D49: 28 | E49: 50 | F49: 0.56 | G49: 0.56 | H49: 72
A50: MELERO MELERO, JUAN | B50: 1 | C50: 0 | D50: 27 | E50: 50 | F50: 0.54 | G50: 0.54 | H50: 71
A51: ZARZA CALVO, JOSÉ LUIS | B51: 2 | C51: 1 | D51: 44 | E51: 100 | F51: 0.44 | G51: 0.52 | H51: 70
A52: CARMONA MARTÍN, AGUSTÍN | B52: 2 | C52: 1 | D52: 44 | E52: 100 | F52: 0.44 | G52: 0.48 | H52: 69
A53: SÁNCHEZ GUARDIA, ISIDRO | B53: 1 | C53: 0 | D53: 24 | E53: 50 | F53: 0.48 | G53: 0.48 | H53: 68
A54: GARCÍA GARCÍA, PATXI | B54: 1 | C54: 0 | D54: 22 | E54: 50 | F54: 0.44 | G54: 0.44 | H54: 67
A55: SEQUERA BARRERA, SEVERINO | B55: 1 | C55: 0 | D55: 20 | E55: 50 | F55: 0.4 | G55: 0.4 | H55: 66
A56: MARTÍN VARGAS, MANUEL | B56: 3 | C56: 2 | D56: 75 | E56: 150 | F56: 0.5 | G56: 0.58 | H56: 65
A57: MORENO GUZMÁN, JUAN | B57: 1 | C57: 0 | D57: 15 | E57: 40 | F57: 0.375 | G57: 0.375 | H57: 64
A58: VÁZQUEZ AGUILERA, JOSÉ ANTONIO | B58: 1 | C58: 0 | D58: 18 | E58: 50 | F58: 0.36 | G58: 0.36 | H58: 63
A59: TOVAR JIMÉNEZ, YESID | B59: 3 | C59: 2 | D59: 64 | E59: 150 | F59: 0.427 | G59: 0.54 | H59: 62
A60: CARAVER PRADOS, JOSÉ MIGUEL | B60: 3 | C60: 2 | D60: 39 | E60: 100 | F60: 0.39 | G60: 0.5 | H60: 61
... A62: ORTIZ FERNÁNDEZ, JOSE LUIS | B62: 1 | C62: 0 | D62: 11 | E62: 50 | F62: 0.22 | G62: 0.22 | H62: 59
A63: SÁNCHEZ GARCÍA, JUAN RAMÓN | B63: 1 | C63: 0 | D63: 0 | E63: 0 | G63: 0 | H63: 57
A64: COBO SORIANO, FRANCISCO JAVIER | B64: 1 | C64: 0 | D64: 0 | E64: 0 | G64: 0 | H64: 57
A65: LÓPEZ CORREA, CARLOS EDUARDO | B65: 1 | C65: 0 | D65: 24 | E65: 50 | F65: 0.48 | G65: 0.48 | H65: 49
A66: RODRÍGUEZ LÓPEZ, FRANCISCO M. | B66: 1 | C66: 0 | D66: 19 | E66: 50 | F66: 0.38 | G66: 0.38 | H66: 48
A67: LOZANO EXPÓSITO, ALBERTO JOSÉ | B67: 3 | C67: 2 | D67: 62 | E67: 150 | F67: 0.413 | G67: 0.54 | H67: 47
A68: RAMÍREZ DEL VALLE, JOSÉ LUIS | B68: 1 | C68: 0 | D68: 19 | E68: 50 | F68: 0.38 | G68: 0.38 | H68: 46
A69: JUAN DEL VALLE, ADRIÁN | B69: 2 | C69: 1 | D69: 37 | E69: 100 | F69: 0.37 | G69: 0.38 | H69: 45
A70: JIMÉNEZ UTRERA, JOSÉ | B70: 1 | C70: 0 | D70: 18 | E70: 50 | F70: 0.36 | G70: 0.36 | H70: 44
A71: JIMÉNEZ TORRES, ANDRÉS | B71: 2 | C71: 1 | D71: 42 | E71: 100 | F71: 0.42 | G71: 0.48 | H71: 43
A72: BOGALLO JIMÉNEZ, RAFAEL | B72: 2 | C72: 1 | D72: 36 | E72: 100 | F72: 0.36 | G72: 0.38 | H72: 42
A73: GONZÁLEZ ÁLVAREZ, JOSÉ MANUEL | B73: 2 | C73: 1 | D73: 34 | E73: 100 | F73: 0.34 | G73: 0.38 | H73: 41
A74: CAÑAL GALBARRO, BLAS | B74: 1 | C74: 0 | D74: 15 | E74: 50 | F74: 0.3 | G74: 0.3 | H74: 40
...

Sheet Hoja22
B1: Jugador | C1: Partidos Jugados | D1: Partidos Ganados | E1: Carambolas | F1: Entradas | G1: Promedio General | H1: Promedio Particular | I1: Puntos
A2: 1 | B2: DÍAZ RODRÍGUEZ, JAVIER | C2: 4 | D2: 4 | E2: 160 | F2: 141 | G2: 1.135 | H2: 1.333 | I2: 180
A3: 2 | B3: GONZÁLEZ CASTRILLO, MANUEL JESÚS | C3: 5 | D3: 4 | E3: 187 | F3: 176 | G3: 1.063 | H3: 1.6 | I3: 165
A4: 3 | B4: KOFOED, PER | C4: 4 | D4: 3 | E4: 153 | F4: 165 | G4: 0.927 | H4: 1.143 | I4: 155
A5: 4 | B5: DOMINGO CRESPO, JOSÉ MANUEL | C5: 3 | D5: 3 | E5: 96 | F5: 113 | G5: 0.85 | H5: 1.111 | I5: 155
A6: 5 | B6: CAMACHO ESPINA, JOSÉ ANTONIO | C6: 3 | D6: 2 | E6: 119 | F6: 126 | G6: 0.944 | H6: 1.114 | I6: 146
A7: 6 | B7: MORALES MARTÍNEZ, GREGORIO | C7: 4 | D7: 3 | E7: 149 | F7: 180 | G7: 0.828 | H7: 0.974 | I7: 144
A8: 7 | B8: CALLE ALBARRÁN, FRANCISCO | C8: 7 | D8: 6 | E8: 247 | F8: 328 | G8: 0.753 | H8: 1.111 | I8: 142
A9: 8 | B9: GONZÁLEZ RODRÍGUEZ, DIEGO | C9: 4 | D9: 3 | E9: 135 | F9: 200 | G9: 0.675 | H9: 0.76 | I9: 140
A10: 9 | B10: CORONEL CORONEL, PEDRO | C10: 4 | D10: 4 | E10: 137 | F10: 188 | G10: 0.729 | H10: 0.842 | I10: 132
A11: 10 | B11: MIRA CANTILLO, BALDOMERO | C11: 2 | D11: 1 | E11: 73 | F11: 86 | G11: 0.849 | H11: 1 | I11: 131
A12: 11 | B12: GONZÁLEZ CALLE, JOSÉ RAMÓN | C12: 2 | D12: 1 | E12: 52 | F12: 86 | G12: 0.605 | H12: 0.694 | I12: 130
A13: 12 | B13: CANO LÓPEZ, PABLO | C13: 2 | D13: 1 | E13: 69 | F13: 76 | G13: 0.908 | H13: 1.29 | I13: 129
... A48: 47 | B48: CASTRO CRESPO, JORGE | C48: 3 | D48: 2 | E48: 72 | F48: 150 | G48: 0.48 | H48: 0.56 | I48: 81
A49: 48 | B49: AMAYA FORTES, SALVADOR | C49: 0 | D49: 0 | E49: 0 | F49: 0 | H49: 0 | I49: 80
A50: 49 | B50: DE LA HUERGA MENÉNDEZ, SERGIO | C50: 1 | D50: 0 | E50: 33 | F50: 49 | G50: 0.673 | H50: 0.673 | I50: 72
A51: 50 | B51: GONZÁLEZ RODRÍGUEZ, ALEJANDRO ANTONIO | C51: 1 | D51: 0 | E51: 27 | F51: 50 | G51: 0.54 | H51: 0.54 | I51: 71
A52: 51 | B52: MUÑOZ MORENO, FRANCISCO | C52: 1 | D52: 0 | E52: 25 | F52: 50 | G52: 0.5 | H52: 0.5 | I52: 70
A53: 52 | B53: SEQUERA BARRERA, SEVERINO | C53: 1 | D53: 0 | E53: 24 | F53: 50 | G53: 0.48 | H53: 0.48 | I53: 69
A54: 53 | B54: SÁNCHEZ GUARDIA, ISIDRO | C54: 1 | D54: 0 | E54: 22 | F54: 50 | G54: 0.44 | H54: 0.44 | I54: 68
A55: 54 | B55: LOBILLO VILLALÓN, JOSÉ | C55: 1 | D55: 0 | E55: 21 | F55: 50 | G55: 0.42 | H55: 0.42 | I55: 67
A56: 55 | B56: GÓMEZ PÉREZ, MANUEL | C56: 1 | D56: 0 | E56: 18 | F56: 50 | G56: 0.36 | H56: 0.36 | I56: 66
A57: 56 | B57: LAGARES CANO, JOSÉ | C57: 2 | D57: 2 | E57: 41 | F57: 100 | G57: 0.41 | H57: 0.54 | I57: 65
A58: 57 | B58: VÁZQUEZ AGUILERA, JOSÉ ANTONIO | C58: 1 | D58: 0 | E58: 13 | F58: 50 | G58: 0.26 | H58: 0.26 | I58: 64
A59: 58 | B59: MORENO GUZMÁN, JUAN | C59: 1 | D59: 0 | E59: 11 | F59: 50 | G59: 0.22 | H59: 0.22 | I59: 63
A60: 59 | B60: SÁNCHEZ JUAN, ÁNGEL | C60: 3 | D60: 2 | E60: 65 | F60: 147 | G60: 0.442 | H60: 0.56 | I60: 62
A61: 60 | B61: SÁNCHEZ GARCÍA, JUAN RAMÓN | C61: 0 | D61: 0 | E61: 0 | F61: 0 | H61: 0 | I61: 57
A62: 61 | B62: MUÑOZ DOBLAS, JOSÉ LUIS | C62: 0 | D62: 0 | E62: 0 | F62: 0 | H62: 0 | I62: 57
A63: 62 | B63: MELERO MELERO, JUAN | C63: 0 | D63: 0 | E63: 0 | F63: 0 | H63: 0 | I63: 57
A64: 63 | B64: GÓMEZ RIBAYO, ANTONIO | C64: 0 | D64: 0 | E64: 0 | F64: 0 | H64: 0 | I64: 57
A65: 64 | B65: DOMÍNGUEZ CANO, JUAN | C65: 0 | D65: 0 | E65: 0 | F65: 0 | H65: 0 | I65: 57
A66: 65 | B66: MARÍN GUERRERO, DIEGO | C66: 1 | D66: 0 | E66: 30 | F66: 50 | G66: 0.6 | H66: 0.6 | I66: 49
A67: 66 | B67: VEGA SUÁREZ, CAYETANO | C67: 1 | D67: 0 | E67: 30 | F67: 50 | G67: 0.6 | H67: 0.6 | I67: 48
A68: 67 | B68: BOHÓRQUEZ VERA, JOSÉ Mª | C68: 1 | D68: 0 | E68: 30 | F68: 50 | G68: 0.6 | H68: 0.6 | I68: 47
A69: 68 | B69: LÓPEZ CORREA, CARLOS EDUARDO | C69: 1 | D69: 0 | E69: 28 | F69: 50 | G69: 0.56 | H69: 0.56 | I69: 46
A70: 69 | B70: JIMÉNEZ UTRERA, JOSÉ | C70: 1 | D70: 0 | E70: 27 | F70: 50 | G70: 0.54 | H70: 0.54 | I70: 45
A71: 70 | B71: IRISARRI CRUZ, FERNANDO | C71: 1 | D71: 0 | E71: 24 | F71: 50 | G71: 0.48 | H71: 0.48 | I71: 44
A72: 71 | B72: NAVARRO GUILLÉN, JUAN ANTONIO | C72: 2 | D72: 1 | E72: 54 | F72: 100 | G72: 0.54 | H72: 0.6 | I72: 43
A73: 72 | B73: MANZANO DOÑA, FRANCISCO DE ASÍS | C73: 1 | D73: 0 | E73: 21 | F73: 50 | G73: 0.42 | H73: 0.42 | I73: 42
A74: 73 | B74: SÁNCHEZ GARCÍA, TOMÁS | C74: 1 | D74: 0 | E74: 21 | F74: 50 | G74: 0.42 | H74: 0.42 | I74: 41
...

Sheet Hoja21
A1: Jugador | B1: Puntos
A2: DÍAZ RODRÍGUEZ, JAVIER | B2: 180
A3: MARTÍN SALAS, JOSÉ | B3: 165
A4: NUÑEZ PÉREZ, GERMÁN | B4: 155
A5: MARÍN GUERRERO, FELICIANO | B5: 155
A6: RODRÍGUEZ DOMÍNGUEZ, FRANCISCO J. | B6: 146
A7: SÁNCHEZ FARACO, JAIME | B7: 144
A8: GONZÁLEZ CASTRILLO, MANUEL JESÚS | B8: 142
A9: KOFOED, PER | B9: 140
A10: GARCÍA MARTÍNEZ, CRISTÓBAL | B10: 132
A11: CAMACHO DÍAZ, JOSÉ LUIS | B11: 131
A12: LAZO BLANCO, JOSÉ | B12: 130
A13: RAMÍREZ BARROSO, FRANCISCO J. | B13: 129
... A96: MARTÍN REYES, ENRIQUE | B96: 0

Sheet Hoja20
A1: MIRA CANTILLO, BALDOMERO | B1: 180
A2: SOUSA LÓPEZ, MANUEL | B2: 165
A3: CANO LÓPEZ, PABLO | B3: 155
A4: CAMACHO ESPINA, JOSÉ ANTONIO | B4: 155
A5: DÍAZ RODRÍGUEZ, JAVIER | B5: 146
A6: MARTÍN SALAS, JOSÉ | B6: 144
A7: DE LOS REYES JIMÉNEZ, JUAN ANTONIO | B7: 142
A8: MARÍN GUERRERO, FELICIANO | B8: 140
A9: RODRÍGUEZ DOMÍNGUEZ, FRANCISCO J. | B9: 132
A10: GONZÁLEZ CASTRILLO, MANUEL JESÚS | B10: 131
A11: KOFOED, PER | B11: 130
A12: SÁNCHEZ FARACO, JAIME | B12: 129
... A97: NUÑEZ BLANCO, DAVID | B97: 18

Sheet Hoja19
A1: SÁNCHEZ FARACO, JAIME | B1: 180
A2: RODRÍGUEZ DOMÍNGUEZ, FRANCISCO J. | B2: 155
A3: DÍAZ RODRÍGUEZ, JAVIER | B3: 144
A4: SOUSA LÓPEZ, MANUEL | B4: 155
A5: GONZÁLEZ CASTRILLO, MANUEL JESÚS | B5: 113
A6: KOFOED, PER | B6: 140
A7: MARÍN GUERRERO, FELICIANO | B7: 111
A8: CAMACHO ESPINA, JOSÉ ANTONIO | B8: 131
A9: MIRA CANTILLO, BALDOMERO | B9: 165
A10: DOMINGO CRESPO, JOSÉ MANUEL | B10: 127
A11: CAMACHO DÍAZ, JOSÉ LUIS | B11: 115
A12: GONZÁLEZ CALLE, JOSÉ RAMÓN | B12: 132
... A49: MUÑOZ MORENO, FRANCISCO | B49: 95
A50: RAMOS BLÁZQUEZ, FERNANDO
A51: GONZÁLEZ RODRÍGUEZ, ALEJANDRO ANTONIO | B51: 85
A52: MORENO RUIZ, GREGORIO
A53: FERNÁNDEZ MORALES, RICHARD | B53: 87
A54: GÓMEZ RIBAYO, ANTONIO | B54: 65
A55: MARTÍN VARGAS, MANUEL | B55: 69
A56: MELERO MELERO, JUAN | B56: 93
A57: CAÑAL GALBARRO, BLAS | B57: 80
A58: ORTIZ FERNÁNDEZ, JOSE LUIS | B58: 63
A59: COBRERO VALDERRAMA, MANUEL | B59: 67
A60: RAMÍREZ DEL VALLE, JOSÉ LUIS | B60: 64
A61: SERRANO JURADO, VICTOR MANUEL
A62: MARÍN BERNABEU, ANTONIO MANUEL
A63: CANO POYATO, MANUEL | B63: 41
A64: FUENTES VARGAS, ANTONIO
A65: IRISARRI CRUZ, FERNANDO | B65: 44
A66: BERMEO MARTINEZ, JUSTIN RODRIGO
A67: BOHÓRQUEZ VERA, JOSÉ Mª | B67: 43
A68: DOMÍNGUEZ CRUZ, FRANCISCO | B68: 72
A69: TOVAR JIMÉNEZ, YESID | B69: 25
A70: RODRÍGUEZ LÓPEZ, FRANCISCO M. | B70: 48
A71: ROSADO DÍAZ, ANTONIO | B71: 42
A72: CARAVER PRADOS, JOSÉ MIGUEL | B72: 46
A73: VEGA SUÁREZ, CAYETANO | B73: 36
A74: BLANCA GARCÍA, JUAN ANTONIO | B74: 25
A75: MANZANO DOÑA, FRANCISCO DE ASÍS | B75: 25
A76: DE LOS REYES JIMÉNEZ, JUAN ANTONIO
...

Sheet Hoja18
A1: GONZÁLEZ CALLE, JOSÉ RAMÓN | B1: =VLOOKUP(A1,Hoja19!A:B,2,FALSE) -> 132 | C1: 132
A2: CAMACHO ESPINA, JOSÉ ANTONIO | B2: =VLOOKUP(A2,Hoja19!A:B,2,FALSE) -> 131 | C2: 131
A3: LAZO BLANCO, JOSÉ | B3: =VLOOKUP(A3,Hoja19!A:B,2,FALSE) -> 130 | C3: 130
A4: ANTONIO VERA, DOMINGO J. | B4: =VLOOKUP(A4,Hoja19!A:B,2,FALSE) -> 129 | C4: 129
A5: AMATE PRIETO, ANDRÉS | B5: =VLOOKUP(A5,Hoja19!A:B,2,FALSE) -> 128 | C5: 128
A6: DOMINGO CRESPO, JOSÉ MANUEL | B6: =VLOOKUP(A6,Hoja19!A:B,2,FALSE) -> 127 | C6: 127
A7: RODRÍGUEZ MARTÍN, FERNANDO | B7: =VLOOKUP(A7,Hoja19!A:B,2,FALSE) -> 126 | C7: 126
A8: GONZÁLEZ RODRÍGUEZ, DIEGO | B8: =VLOOKUP(A8,Hoja19!A:B,2,FALSE) -> 125 | C8: 125
A9: GARCÍA ARIAS, FRANCISCO J. | B9: =VLOOKUP(A9,Hoja19!A:B,2,FALSE) -> 118 | C9: 118
A10: CANO LÓPEZ, PABLO | B10: =VLOOKUP(A10,Hoja19!A:B,2,FALSE) -> 117 | C10: 117
A11: STAND URIBE, JOSÉ ANTONIO | B11: =VLOOKUP(A11,Hoja19!A:B,2,FALSE) -> 116 | C11: 116
A12: CAMACHO DÍAZ, JOSÉ LUIS | B12: =VLOOKUP(A12,Hoja19!A:B,2,FALSE) -> 115 | C12: 115
... A92: GONZÁLEZ VEGA, JUAN ANTONIO | B92: =VLOOKUP(A92,Hoja19!A:B,2,FALSE) -> 18 | C92: 18

Sheet Hoja17
A3: GONZÁLEZ CASTRILLO, MANUEL JESÚS | B3: 155
A4: RAMÍREZ BARROSO, FRANCISCO J. | B4: 155
A5: SÁNCHEZ FARACO, JAIME | B5: 146
A6: MARTÍN SALAS, JOSÉ | B6: 144
A7: SOUSA LÓPEZ, MANUEL | B7: 142
A8: CANO LÓPEZ, PABLO | B8: 140
A9: CAMACHO ESPINA, JOSÉ ANTONIO | B9: 132
A10: CAMACHO DÍAZ, JOSÉ LUIS | B10: 131
A11: DOMINGO CRESPO, JOSÉ MANUEL | B11: 130
A12: DÍAZ RODRÍGUEZ, JAVIER | B12: 129
A13: TORRES PULIDO, EMILIO JOSÉ | B13: 128
A14: RODRÍGUEZ DOMÍNGUEZ, FRANCISCO J. | B14: 127
... A94: LÓPEZ CORREA, CARLOS EDUARDO | B94: 0

Sheet Hoja15
A1: RODRÍGUEZ DOMÍNGUEZ, FRANCISCO J. | B1: 180
A2: KOFOED, PER | B2: 165
A3: SÁNCHEZ FARACO, JAIME | B3: 155
A4: DOMINGO CRESPO, JOSÉ MANUEL | B4: 155
A5: DÍAZ RODRÍGUEZ, JAVIER | B5: 146
A6: CAMACHO ESPINA, JOSÉ ANTONIO | B6: 144
A7: MARÍN GUERRERO, FELICIANO | B7: 142
A8: GONZÁLEZ CASTRILLO, MANUEL JESÚS | B8: 140
A9: MIRA CANTILLO, BALDOMERO | B9: 132
A10: MARTÍN SALAS, JOSÉ | B10: 131
A11: CONTRERAS ROMERO, JUAN | B11: 130
A12: SOUSA LÓPEZ, MANUEL | B12: 129
... A84: JIMÉNEZ LÓPEZ, CLEMENTE | B84: 25

Sheet Hoja14
A1: DÍAZ RODRÍGUEZ, JAVIER | B1: 180
A2: CAMACHO ESPINA, JOSÉ ANTONIO | B2: 165
A3: SÁNCHEZ FARACO, JAIME | B3: 155
A4: GONZÁLEZ CASTRILLO, MANUEL JESÚS | B4: 155
A5: MARÍN GUERRERO, FELICIANO | B5: 146
A6: RODRÍGUEZ DOMÍNGUEZ, FRANCISCO J. | B6: 144
A7: KOFOED, PER | B7: 142
A8: CANO LÓPEZ, PABLO | B8: 140
A9: CAMACHO DÍAZ, JOSÉ LUIS | B9: 132
A10: GONZÁLEZ RODRÍGUEZ, DIEGO | B10: 131
A11: SOUSA LÓPEZ, MANUEL | B11: 130
A12: DOMINGO CRESPO, JOSÉ MANUEL | B12: 129
... A86: ALARCÓN CALLE, JUAN | B86: 0

Sheet Hoja11
A1: DÍAZ RODRÍGUEZ, JAVIER | B1: 180
A2: SÁNCHEZ FARACO, JAIME | B2: 165
A3: MARÍN GUERRERO, FELICIANO | B3: 155
A4: CANO LÓPEZ, PABLO | B4: 155
A5: CAMACHO ESPINA, JOSÉ ANTONIO | B5: 146
A6: RAMOS BLÁZQUEZ, FERNANDO | B6: 144
A7: GONZÁLEZ RODRÍGUEZ, DIEGO | B7: 142
A8: KOFOED, PER | B8: 140
A9: MARTÍN SALAS, JOSÉ | B9: 132
A10: MORAL CASTRO, JAVIER | B10: 131
A11: CAMACHO DÍAZ, JOSÉ LUIS | B11: 130
A12: GONZÁLEZ CALLE, JOSÉ RAMÓN | B12: 129
... A92: CAMAS ROSADO, CHRISTIAN | B92: 0

Sheet Hoja12
A1: SÁNCHEZ FARACO, JAIME | B1: 180
A2: DÍAZ RODRÍGUEZ, JAVIER | B2: 165
A3: RODRÍGUEZ DOMÍNGUEZ, FRANCISCO J. | B3: 155
A4: RAMOS BLÁZQUEZ, FERNANDO | B4: 155
A5: GONZÁLEZ CALLE, JOSÉ RAMÓN | B5: 146
A6: CAMACHO DÍAZ, JOSÉ LUIS | B6: 144
A7: MORALES MARTÍNEZ, GREGORIO | B7: 142
A8: COBO SORIANO, FRANCISCO JAVIER | B8: 140
A9: SOUSA LÓPEZ, MANUEL | B9: 132
A10: CAMACHO ESPINA, JOSÉ ANTONIO | B10: 131
A11: ORCERA MURO, PEDRO JOSÉ | B11: 130
A12: GONZÁLEZ CASTRILLO, MANUEL JESÚS | B12: 129
... A54: AMAYA FORTES, SALVADOR | B54: 67

Sheet Hoja13
A1: RODRÍGUEZ DOMÍNGUEZ, FRANCISCO J. | B1: 180
A2: SÁNCHEZ FARACO, JAIME | B2: 165
A3: SOUSA LÓPEZ, MANUEL | B3: 155
A4: CAMACHO DÍAZ, JOSÉ LUIS | B4: 155
A5: ANTONIO VERA, DOMINGO J. | B5: 146
A6: DÍAZ RODRÍGUEZ, JAVIER | B6: 144
A7: GONZÁLEZ CALLE, JOSÉ RAMÓN | B7: 142
A8: CAMACHO ESPINA, JOSÉ ANTONIO | B8: 140
A9: GONZÁLEZ CASTRILLO, MANUEL JESÚS | B9: 132
A10: LAZO BLANCO, JOSÉ | B10: 131
A11: MARÍN GUERRERO, FELICIANO | B11: 130
A12: MORALES MARTÍNEZ, GREGORIO | B12: 129
... A94: CASTRO CRESPO, JORGE | B94: 0

Sheet Hoja16
A1: SOUSA LÓPEZ, MANUEL | B1: 180
A2: GONZÁLEZ CASTRILLO, MANUEL JESÚS | B2: 165
A3: DÍAZ RODRÍGUEZ, JAVIER | B3: 155
A4: RODRÍGUEZ DOMÍNGUEZ, FRANCISCO J. | B4: 155
A5: KOFOED, PER | B5: 146
A6: CAMACHO DÍAZ, JOSÉ LUIS | B6: 144
A7: AMATE PRIETO, ANDRÉS | B7: 142
A8: RAMÍREZ BARROSO, FRANCISCO J. | B8: 140
A9: MARÍN GUERRERO, FELICIANO | B9: 132
A10: GARCÍA ARIAS, FRANCISCO J. | B10: 131
A11: SÁNCHEZ FARACO, JAIME | B11: 130
A12: MIRA CANTILLO, BALDOMERO | B12: 129
... A75: MARISCAL CAMPOS, FRANCISCO ALBERTO | B75: 39

Sheet Hoja10
A1: Jugador | B1: Puntos
A2: DÍAZ RODRÍGUEZ, JAVIER | B2: 180
A3: FERNÁNDEZ MUÑOZ, GUILLERMO | B3: 165
A4: MUÑOZ DOBLAS, JOSÉ LUIS | B4: 155
A5: RODRÍGUEZ DOMÍNGUEZ, FRANCISCO J. | B5: 155
A6: CANO LÓPEZ, PABLO | B6: 146
A7: SÁNCHEZ FARACO, JAIME | B7: 144
A8: CAMACHO DÍAZ, JOSÉ LUIS | B8: 142
A9: SANCHO LÓPEZ, FRANCISCO | B9: 140
A10: GONZÁLEZ CASTRILLO, MANUEL JESÚS | B10: 132
A11: KOFOED, PER | B11: 131
A12: SOUSA LÓPEZ, MANUEL | B12: 130
A13: RAMOS BLÁZQUEZ, FERNANDO | B13: 129
... A73: BORJAS GUERRERO, LUIS | B73: 42
B74: 41
B75: 40
B76: 39
B77: 38
B78: 37
B79: 36
B80: 35
B81: 0
A82: MONTENEGRO, JUAN PEDRO | B82: 41
A83: ROJO GARCÍA, JOSÉ MANUEL | B83: 40
A84: VALERO ALARCÓN, ENRIQUE | B84: 39
A85: GARCÍA GARCÍA, PATXI | B85: 38
A86: GÁMEZ PÉREZ, ANTONIO | B86: 0

Sheet Hoja9
A1: Jugador | B1: Puntos
A2: NUÑEZ PÉREZ, GERMÁN | B2: 180
A3: DÍAZ RODRÍGUEZ, JAVIER | B3: 165
A4: SÁNCHEZ FARACO, JAIME | B4: 155
A5: RODRÍGUEZ DOMÍNGUEZ, FRANCISCO J. | B5: 155
A6: CANO LÓPEZ, PABLO | B6: 146
A7: SOUSA LÓPEZ, MANUEL | B7: 144
A8: MARTÍN SALAS, JOSÉ | B8: 142
A9: MARÍN GUERRERO, FELICIANO | B9: 140
A10: RAMOS BLÁZQUEZ, FERNANDO | B10: 132
A11: CASTAÑEDA ACEVEDO, JHONATHAN | B11: 131
A12: MUÑOZ MORENO, FRANCISCO | B12: 130
A13: KOFOED, PER | B13: 129
... A87: SILES MACHADO, JOSÉ | B87: 0

Sheet Hoja6

Sheet Hoja5
A1: DÍAZ RODRÍGUEZ, JAVIER | B1: 180
A2: MENCHÓN GARCÍA, JUAN ANTONIO | B2: 165
A3: GONZÁLEZ CASTRILLO, MANUEL JESÚS | B3: 155
A4: MORAL CASTRO, JAVIER | B4: 155
A5: GÓMEZ SÁNCHEZ, ALBERTO | B5: 146
A6: GONZÁLEZ CALLE, JOSÉ RAMÓN | B6: 144
A7: KOFOED, PER | B7: 142
A8: CANO LÓPEZ, PABLO | B8: 140
A9: DOMINGO CRESPO, JOSÉ MANUEL | B9: 132
A10: LAZO BLANCO, JOSÉ | B10: 131
A11: RODRÍGUEZ DOMÍNGUEZ, FRANCISCO J. | B11: 130
A12: CAMACHO ESPINA, JOSÉ ANTONIO | B12: 129
... A75: TOSSE RIAÑO, SANDRA PATRICIA | B75: 39

Sheet Hoja4
A1: 1 | B1: SÁNCHEZ FARACO, JAIME | C1: 180
A2: 2 | B2: MUÑOZ MUÑOZ, JOSÉ | C2: 165
A3: 3 | B3: MARTÍN SALAS, JOSÉ | C3: 155
A4: 4 | B4: MENCHÓN GARCÍA, JUAN ANTONIO | C4: 155
A5: 5 | B5: MIRA CANTILLO, BALDOMERO | C5: 146
A6: 6 | B6: GONZÁLEZ CALLE, JOSÉ RAMÓN | C6: 144
A7: 7 | B7: CAMACHO DÍAZ, JOSÉ LUIS | C7: 142
A8: 8 | B8: DÍAZ RODRÍGUEZ, JAVIER | C8: 140
A9: 9 | B9: CANO LÓPEZ, PABLO | C9: 132
A10: 10 | B10: KOFOED, PER | C10: 131
A11: 11 | B11: SOUSA LÓPEZ, MANUEL | C11: 130
A12: 12 | B12: RODRÍGUEZ DOMÍNGUEZ, FRANCISCO J. | C12: 129
... A86: 86 | B86: CALLE ALBARRÁN, FRANCISCO | C86: 0

Sheet Hoja1
A1: 5 | B1: =VLOOKUP(C1,'Rank 3 bandas'!C:C,2,FALSE) -> #REF! | C1: =UPPER(D1) -> DÍAZ RODRÍGUEZ, JAVIER | D1: Díaz Rodríguez, Javier | E1: 3 | F1: 2 | G1: 115 | H1: 112 | I1: 1.027 | J1: 1.333 | K1: 146
A2: 6 | B2: =VLOOKUP(C2,'Rank 3 bandas'!C:C,2,FALSE) -> #REF! | C2: =UPPER(D2) -> GOMÁRIZ PORTALES, FRANCISCO JAVIER | D2: Gomáriz Portales, Francisco Javier | E2: 3 | F2: 2 | G2: 114 | H2: 115 | I2: 0.991 | J2: 1.379 | K2: 144
A3: 7 | B3: =VLOOKUP(C3,'Rank 3 bandas'!C:C,2,FALSE) -> #REF! | C3: =UPPER(D3) -> SOUSA LÓPEZ, MANUEL | D3: Sousa López, Manuel | E3: 3 | F3: 2 | G3: 105 | H3: 111 | I3: 0.946 | J3: 1.143 | K3: 142
A4: 8 | B4: =VLOOKUP(C4,'Rank 3 bandas'!C:C,2,FALSE) -> #REF! | C4: =UPPER(D4) -> GONZÁLEZ CALLE, JOSÉ RAMÓN | D4: González Calle, José Ramón | E4: 3 | F4: 2 | G4: 99 | H4: 126 | I4: 0.786 | J4: 0.93 | K4: 140
A5: 9 | B5: =VLOOKUP(C5,'Rank 3 bandas'!C:C,2,FALSE) -> #REF! | C5: =UPPER(D5) -> CAMACHO ESPINA, JOSÉ ANTONIO | D5: Camacho Espina, José Antonio | E5: 2 | F5: 1 | G5: 80 | H5: 71 | I5: 1.127 | J5: 1.379 | K5: 132
A6: 10 | B6: =VLOOKUP(C6,'Rank 3 bandas'!C:C,2,FALSE) -> #REF! | C6: =UPPER(D6) -> KOFOED, PER | D6: Kofoed, Per | E6: 2 | F6: 1 | G6: 55 | H6: 73 | I6: 0.753 | J6: 0.957 | K6: 131
A7: 11 | B7: =VLOOKUP(C7,'Rank 3 bandas'!C:C,2,FALSE) -> #REF! | C7: =UPPER(D7) -> MORAL CASTRO, JAVIER | D7: Moral Castro, Javier | E7: 3 | F7: 2 | G7: 117 | H7: 129 | I7: 0.907 | J7: 1.053 | K7: 130
A8: 12 | B8: =VLOOKUP(C8,'Rank 3 bandas'!C:C,2,FALSE) -> #REF! | C8: =UPPER(D8) -> MIRA CANTILLO, BALDOMERO | D8: Mira Cantillo, Baldomero | E8: 2 | F8: 1 | G8: 66 | H8: 92 | I8: 0.717 | J8: 0.72 | K8: 129
A9: 13 | B9: =VLOOKUP(C9,'Rank 3 bandas'!C:C,2,FALSE) -> #REF! | C9: =UPPER(D9) -> RAMOS BLÁZQUEZ, FERNANDO | D9: Ramos Blázquez, Fernando | E9: 2 | F9: 1 | G9: 69 | H9: 89 | I9: 0.775 | J9: 0.889 | K9: 128
A10: 14 | B10: =VLOOKUP(C10,'Rank 3 bandas'!C:C,2,FALSE) -> #N/A | C10: =UPPER(D10) -> MENCHÓN GARCÍA, JUAN ANTONIO | D10: Menchón García, Juan Antonio | E10: 2 | F10: 1 | G10: 56 | H10: 90 | I10: 0.622 | J10: 0.65 | K10: 127
A11: 15 | B11: =VLOOKUP(C11,'Rank 3 bandas'!C:C,2,FALSE) -> #REF! | C11: =UPPER(D11) -> MUÑOZ MUÑOZ, JOSÉ | D11: Muñoz Muñoz, José | E11: 2 | F11: 1 | G11: 65 | H11: 84 | I11: 0.774 | J11: 0.889 | K11: 126
A12: 16 | B12: =VLOOKUP(C12,'Rank 3 bandas'!C:C,2,FALSE) -> #REF! | C12: =UPPER(D12) -> ANTONIO VERA, DOMINGO J. | D12: Antonio Vera, Domingo J. | E12: 4 | F12: 3 | G12: 139 | H12: 176 | I12: 0.79 | J12: 1.143 | K12: 125
A13: 17 | B13: =VLOOKUP(C13,'Rank 3 bandas'!C:C,2,FALSE) -> #REF! | C13: =UPPER(D13) -> MARTÍN INFANTES, ANTONIO JOSÉ | D13: Martín Infantes, Antonio José | E13: 2 | F13: 1 | G13: 70 | H13: 83 | I13: 0.843 | J13: 0.939 | K13: 118
A14: 18 | B14: =VLOOKUP(C14,'Rank 3 bandas'!C:C,2,FALSE) -> #REF! | C14: GÓMEZ SÁNCHEZ, ALBERTO | D14: Gómez Sánchez, Alberto | E14: 4 | F14: 3 | G14: 142 | H14: 144 | I14: 0.986 | J14: 1.212 | K14: 117
A15: 19 | B15: =VLOOKUP(C15,'Rank 3 bandas'!C:C,2,FALSE) -> #REF! | C15: =UPPER(D15) -> CANO LÓPEZ, PABLO | D15: Cano López, Pablo | E15: 2 | F15: 1 | G15: 72 | H15: 89 | I15: 0.809 | J15: 0.909 | K15: 116
A16: 20 | B16: =VLOOKUP(C16,'Rank 3 bandas'!C:C,2,FALSE) -> #REF! | C16: =UPPER(D16) -> GUTIÉRREZ SAMPEDRO, RAFAEL | D16: Gutiérrez Sampedro, Rafael | E16: 2 | F16: 1 | G16: 70 | H16: 87 | I16: 0.805 | J16: 0.952 | K16: 115
A17: 21 | B17: =VLOOKUP(C17,'Rank 3 bandas'!C:C,2,FALSE) -> #REF! | C17: =UPPER(D17) -> GONZÁLEZ RODRÍGUEZ, ALEJANDRO ANTONIO | D17: González Rodríguez, Alejandro Antonio | E17: 2 | F17: 1 | G17: 67 | H17: 94 | I17: 0.713 | J17: 0.76 | K17: 114
A18: 22 | B18: =VLOOKUP(C18,'Rank 3 bandas'!C:C,2,FALSE) -> #REF! | C18: =UPPER(D18) -> MARÍN GUERRERO, FELICIANO | D18: Marín Guerrero, Feliciano | E18: 1 | F18: 0 | G18: 27 | H18: 41 | I18: 0.659 | J18: 0.659 | K18: 113
A19: 23 | B19: =VLOOKUP(C19,'Rank 3 bandas'!C:C,2,FALSE) -> #REF! | C19: =UPPER(D19) -> GONZÁLEZ RODRÍGUEZ, DIEGO | D19: González Rodríguez, Diego | E19: 2 | F19: 1 | G19: 58 | H19: 93 | I19: 0.624 | J19: 0.651 | K19: 112
A20: 24 | B20: =VLOOKUP(C20,'Rank 3 bandas'!C:C,2,FALSE) -> #REF! | C20: =UPPER(D20) -> TORRES PULIDO, EMILIO JOSÉ | D20: Torres Pulido, Emilio José | E20: 3 | F20: 2 | G20: 101 | H20: 125 | I20: 0.808 | J20: 1.176 | K20: 111
A21: 25 | B21: =VLOOKUP(C21,'Rank 3 bandas'!C:C,2,FALSE) -> #REF! | C21: =UPPER(D21) -> MORENO LEO, ANTONIO | D21: Moreno Leo, Antonio | E21: 2 | F21: 1 | G21: 67 | H21: 100 | I21: 0.67 | J21: 0.78 | K21: 110
A22: 26 | B22: =VLOOKUP(C22,'Rank 3 bandas'!C:C,2,FALSE) -> #REF! | C22: =UPPER(D22) -> SÁNCHEZ GUARDIA, ISIDRO | D22: Sánchez Guardia, Isidro | E22: 2 | F22: 1 | G22: 54 | H22: 100 | I22: 0.54 | J22: 0.56 | K22: 109
A23: 27 | B23: =VLOOKUP(C23,'Rank 3 bandas'!C:C,2,FALSE) -> #REF! | C23: =UPPER(D23) -> DOMINGO CRESPO, JOSÉ MANUEL | D23: Domingo Crespo, José Manuel | E23: 1 | F23: 0 | G23: 22 | H23: 41 | I23: 0.537 | J23: 0.537 | K23: 108
A24: 28 | B24: =VLOOKUP(C24,'Rank 3 bandas'!C:C,2,FALSE) -> #REF! | C24: =UPPER(D24) -> SORIA MORENO, ANTONIO | D24: Soria Moreno, Antonio | E24: 2 | F24: 1 | G24: 48 | H24: 81 | I24: 0.593 | J24: 0.64 | K24: 107
A25: 29 | B25: =VLOOKUP(C25,'Rank 3 bandas'!C:C,2,FALSE) -> #REF! | C25: =UPPER(D25) -> PONCE RAMOS, DOMINGO | D25: Ponce Ramos, Domingo | E25: 3 | F25: 1 | G25: 79 | H25: 135 | I25: 0.585 | J25: 0.62 | K25: 106
A26: 30 | B26: =VLOOKUP(C26,'Rank 3 bandas'!C:C,2,FALSE) -> #REF! | C26: =UPPER(D26) -> DOMÍNGUEZ CANO, JUAN | D26: Domínguez Cano, Juan | E26: 4 | F26: 3 | G26: 115 | H26: 200 | I26: 0.575 | J26: 0.72 | K26: 105
... A75: 79 | B75: =VLOOKUP(C75,'Rank 3 bandas'!C:C,2,FALSE) -> #REF! | C75: =UPPER(D75) -> SÁNCHEZ GARCÍA, JUAN RAMÓN | D75: Sánchez García, Juan Ramón | E75: 1 | F75: 0 | G75: 26 | H75: 50 | I75: 0.52 | J75: 0.52 | K75: 35
A76: 80 | B76: =VLOOKUP(C76,'Rank 3 bandas'!C:C,2,FALSE) -> #REF! | C76: =UPPER(D76) -> MUÑOZ MORENO, FRANCISCO | D76: Muñoz Moreno, Francisco | E76: 0 | F76: 0 | G76: 0 | H76: 0 | J76: 0 | K76: 34
A77: 81 | B77: =VLOOKUP(C77,'Rank 3 bandas'!C:C,2,FALSE) -> #REF! | C77: =UPPER(D77) -> CASTRO CRESPO, JORGE | D77: Castro Crespo, Jorge | E77: 1 | F77: 0 | G77: 23 | H77: 50 | I77: 0.46 | J77: 0.46 | K77: 25
A78: 82 | B78: =VLOOKUP(C78,'Rank 3 bandas'!C:C,2,FALSE) -> #REF! | C78: =UPPER(D78) -> GONZÁLEZ MARÍN, MANUEL JULIO | D78: González Marín, Manuel Julio | E78: 1 | F78: 0 | G78: 21 | H78: 50 | I78: 0.42 | J78: 0.42 | K78: 25
A79: 83 | B79: =VLOOKUP(C79,'Rank 3 bandas'!C:C,2,FALSE) -> #REF! | C79: =UPPER(D79) -> JIMÉNEZ UTRERA, JOSÉ | D79: Jiménez Utrera, José | E79: 1 | F79: 0 | G79: 20 | H79: 50 | I79: 0.4 | J79: 0.4 | K79: 25
A80: 84 | B80: =VLOOKUP(C80,'Rank 3 bandas'!C:C,2,FALSE) -> #REF! | C80: =UPPER(D80) -> PALOMINO ROMERA, FRANCISCO | D80: Palomino Romera, Francisco | E80: 1 | F80: 0 | G80: 18 | H80: 50 | I80: 0.36 | J80: 0.36 | K80: 25
A81: 85 | B81: =VLOOKUP(C81,'Rank 3 bandas'!C:C,2,FALSE) -> #REF! | C81: =UPPER(D81) -> CABELLO SOUSA, JUAN JOSÉ | D81: Cabello Sousa, Juan José | E81: 1 | F81: 0 | G81: 18 | H81: 50 | I81: 0.36 | J81: 0.36 | K81: 25
A82: 86 | B82: =VLOOKUP(C82,'Rank 3 bandas'!C:C,2,FALSE) -> #REF! | C82: =UPPER(D82) -> RAMOS ROMÁN, ANTONIO | D82: Ramos Román, Antonio | E82: 1 | F82: 0 | G82: 9 | H82: 50 | I82: 0.18 | J82: 0.18 | K82: 25
A83: 87 | B83: =VLOOKUP(C83,'Rank 3 bandas'!C:C,2,FALSE) -> #REF! | C83: =UPPER(D83) -> MANZANO DOÑA, FRANCISCO DE ASÍS | D83: Manzano Doña, Francisco de Asís | E83: 1 | F83: 0 | G83: 7 | H83: 50 | I83: 0.14 | J83: 0.14 | K83: 25

Sheet Rank Banda
C2: RANKING ACUMULADO BANDA TEMP. 21/22
C4: CLASIFICACION
B5: DNI | C5: NOMBRE | D5: BURGUILLOS 21/22 | E5: MIJAS 21/22 | F5: HUMILLADERO 21/22 | G5: Bonus Asistencia | H5: TOTAL
A6: 1 | B6: 29735450S | C6: MORALES MARTÍNEZ, GREGORIO | D6: 72 | E6: 40 | F6: 40 | G6: =+COUNT(D6:F6)*5 -> 15 | H6: =+SUM(D6:G6) -> 167
A7: 2 | B7: 80128244Q | C7: MORAL CASTRO, JAVIER | D7: 56 | E7: 40 | F7: 56 | G7: =+COUNT(D7:F7)*5 -> 15 | H7: =+SUM(D7:G7) -> 167
A8: 3 | B8: 75340105V | C8: RODRÍGUEZ MARTÍN, FERNANDO | D8: 30 | E8: 32 | F8: 72 | G8: =+COUNT(D8:F8)*5 -> 15 | H8: =+SUM(D8:G8) -> 149
A9: 4 | B9: 22449098V | C9: MENCHÓN GARCÍA, JUAN ANTONIO | D9: 40 | E9: 56 | G9: =+COUNT(D9:F9)*5 -> 10 | H9: =+SUM(D9:G9) -> 106
A10: 5 | B10: 75366301Q | C10: LÓPEZ PEREJÓN, JUAN | D10: 16 | E10: 30 | F10: 32 | G10: =+COUNT(D10:F10)*5 -> 15 | H10: =+SUM(D10:G10) -> 93
A11: 6 | B11: 75642038Y | C11: BUJALANCE FERNÁNDEZ, JOAQUÍN | D11: 19 | E11: 18 | F11: 40 | G11: =+COUNT(D11:F11)*5 -> 15 | H11: =+SUM(D11:G11) -> 92
A12: 7 | B12: 28885555A | C12: SÁNCHEZ GUARDIA, ISIDRO | D12: 32 | E12: 15 | F12: 28 | G12: =+COUNT(D12:F12)*5 -> 15 | H12: =+SUM(D12:G12) -> 90
A13: 8 | B13: 48004772T | C13: CHACÓN LÓPEZ, CARLOS JAVIER | E13: 72 | G13: =+COUNT(D13:F13)*5 -> 5 | H13: =+SUM(D13:G13) -> 77
A14: 9 | B14: X7785753T | C14: DADDETTA, JOSÉ NESTOR | D14: 28 | F14: 30 | G14: =+COUNT(D14:F14)*5 -> 10 | H14: =+SUM(D14:G14) -> 68
A15: 10 | B15: 28665484D | C15: DÍAZ RODRÍGUEZ, JUAN MARÍA | D15: 5 | E15: 26 | F15: 16 | G15: =+COUNT(D15:F15)*5 -> 15 | H15: =+SUM(D15:G15) -> 62
A16: 11 | B16: 25302662C | C16: SORIA MORENO, ANTONIO | D16: 14 | E16: 17 | F16: 15 | G16: =+COUNT(D16:F16)*5 -> 15 | H16: =+SUM(D16:G16) -> 61
A17: 12 | B17: 29746898D | C17: MARÍN GUERRERO, FELICIANO | D17: 40 | G17: =+COUNT(D17:F17)*5 -> 5 | H17: =+SUM(D17:G17) -> 45
A18: 13 | B18: 28339040G | C18: VELA LARA, ANDRÉS | D18: 13 | F18: 20 | G18: =+COUNT(D18:F18)*5 -> 10 | H18: =+SUM(D18:G18) -> 43
A19: 14 | B19: 28811977S | C19: GUTIÉRREZ SAMPEDRO, RAFAEL | D19: 8 | F19: 17 | G19: =+COUNT(D19:F19)*5 -> 10 | H19: =+SUM(D19:G19) -> 35
A20: 15 | B20: 24280762F | C20: ALONSO SUÁREZ, ANTONIO | D20: 6 | E20: 0 | F20: 19 | G20: =+COUNT(D20:F20)*5-5 -> 10 | H20: =+SUM(D20:G20) -> 35
A21: 16 | B21: 27335549A | C21: VALERO ALARCÓN, ENRIQUE | E21: 28 | G21: =+COUNT(D21:F21)*5 -> 5 | H21: =+SUM(D21:G21) -> 33
A22: 17 | B22: 75363756R | C22: PÉREZ MUÑOZ, FRANCISCO | D22: 26 | G22: =+COUNT(D22:F22)*5 -> 5 | H22: =+SUM(D22:G22) -> 31
A23: 18 | B23: 25291978M | C23: SANCHO LÓPEZ, FRANCISCO | F23: 26 | G23: =+COUNT(D23:F23)*5 -> 5 | H23: =+SUM(D23:G23) -> 31
A24: 19 | B24: 25317537B | C24: SORIA MORENO, JOSÉ | D24: 4 | F24: 18 | G24: =+COUNT(D24:F24)*5-5 -> 5 | H24: =+SUM(D24:G24) -> 27
A25: 20 | B25: 28412353Q | C25: LOBILLO VILLALÓN, JOSÉ | D25: 20 | G25: =+COUNT(D25:F25)*5 -> 5 | H25: =+SUM(D25:G25) -> 25
A26: 21 | B26: 75528972P | C26: CANO LÓPEZ, PABLO | D26: 18 | G26: =+COUNT(D26:F26)*5 -> 5 | H26: =+SUM(D26:G26) -> 23
A27: 22 | B27: 29742675H | C27: FERNÁNDEZ LINEROS, JOSÉ ANTONIO | D27: 17 | G27: =+COUNT(D27:F27)*5 -> 5 | H27: =+SUM(D27:G27) -> 22
A28: 23 | B28: 31861913J | C28: TORREJÓN MOLINA, DIONISIO | E28: 16 | G28: =+COUNT(D28:F28)*5 -> 5 | H28: =+SUM(D28:G28) -> 21
A29: 24 | B29: 28668899C | C29: PINEDA POZO, RAFAEL | D29: 15 | G29: =+COUNT(D29:F29)*5 -> 5 | H29: =+SUM(D29:G29) -> 20
A30: 25 | B30: 24860582C | C30: GONZÁLEZ RODRÍGUEZ, DIEGO | E30: 15 | G30: =+COUNT(D30:F30)*5 -> 5 | H30: =+SUM(D30:G30) -> 20
A31: 26 | B31: 80046684Z | C31: BLANCA GARCÍA, JUAN ANTONIO | E31: 14 | G31: =+COUNT(D31:F31)*5 -> 5 | H31: =+SUM(D31:G31) -> 19
A32: 27 | B32: 52271032J | C32: MORENO LEO, ANTONIO | F32: 14 | G32: =+COUNT(D32:F32)*5 -> 5 | H32: =+SUM(D32:G32) -> 19
A33: 28 | B33: 24792531A | C33: PAVÓN CELADA, JOSÉ ANTONIO | E33: 13 | G33: =+COUNT(D33:F33)*5 -> 5 | H33: =+SUM(D33:G33) -> 18
A34: 29 | B34: 75407294T | C34: GÓMEZ PÉREZ, MANUEL | D34: 12 | G34: =+COUNT(D34:F34)*5 -> 5 | H34: =+SUM(D34:G34) -> 17
A35: 30 | B35: 79167173T | C35: HENAO GONZÁLEZ, JUVENAL | E35: 12 | G35: =+COUNT(D35:F35)*5 -> 5 | H35: =+SUM(D35:G35) -> 17
A36: 31 | B36: 75628542B | C36: JIMÉNEZ LÓPEZ, CLEMENTE | D36: 11 | G36: =+COUNT(D36:F36)*5 -> 5 | H36: =+SUM(D36:G36) -> 16
A37: 32 | B37: X99999999 | C37: STAND URIBE, JOSÉ ANTONIO | E37: 11 | G37: =+COUNT(D37:F37)*5 -> 5 | H37: =+SUM(D37:G37) -> 16
A38: 33 | B38: 28881046S | C38: SEVILLA BEJARANO, JUAN JOSÉ | D38: 10 | G38: =+COUNT(D38:F38)*5 -> 5 | H38: =+SUM(D38:G38) -> 15
A39: 34 | B39: 51961955X | C39: GEA BERMEJO, FERNANDO | E39: 10 | G39: =+COUNT(D39:F39)*5 -> 5 | H39: =+SUM(D39:G39) -> 15
A40: 35 | B40: 75357153E | C40: PERNÍA HERNÁNDEZ, ANTONIO | D40: 9 | G40: =+COUNT(D40:F40)*5 -> 5 | H40: =+SUM(D40:G40) -> 14
A41: 36 | B41: 75426952Q | C41: ROMÁN RUBIO, JOSÉ | D41: 7 | G41: =+COUNT(D41:F41)*5 -> 5 | H41: =+SUM(D41:G41) -> 12
A42: 37 | B42: 52750303X | C42: TRUEBA SÁNCHEZ, JUAN CARLOS | D42: 3 | G42: =+COUNT(D42:F42)*5 -> 5 | H42: =+SUM(D42:G42) -> 8
...

Sheet Hoja2
A1: DÍAZ RODRÍGUEZ, JAVIER | B1: 180 | C1: =VLOOKUP(A1,'Rank 3 bandas'!C:X,7,FALSE) -> 165
A2: GONZÁLEZ CASTRILLO, MANUEL JESÚS | B2: 165 | C2: =VLOOKUP(A2,'Rank 3 bandas'!C:X,7,FALSE) -> 131
A3: SOUSA LÓPEZ, MANUEL | B3: 155 | C3: =VLOOKUP(A3,'Rank 3 bandas'!C:X,7,FALSE) -> 128
A4: SÁNCHEZ FARACO, JAIME | B4: 155 | C4: =VLOOKUP(A4,'Rank 3 bandas'!C:X,7,FALSE) -> 132
A5: KOFOED, PER | B5: 146 | C5: =VLOOKUP(A5,'Rank 3 bandas'!C:X,7,FALSE) -> 146
A6: MIRA CANTILLO, BALDOMERO | B6: 144 | C6: =VLOOKUP(A6,'Rank 3 bandas'!C:X,7,FALSE) -> 103
A7: GOMÁRIZ PORTALES, FRANCISCO JAVIER | B7: 142 | C7: =VLOOKUP(A7,'Rank 3 bandas'!C:X,7,FALSE) -> 0
A8: MUÑOZ MUÑOZ, JOSÉ | B8: 140 | C8: =VLOOKUP(A8,'Rank 3 bandas'!C:X,7,FALSE) -> 0
A9: CAMACHO DÍAZ, JOSÉ LUIS | B9: 132 | C9: =VLOOKUP(A9,'Rank 3 bandas'!C:X,7,FALSE) -> 117
A10: MENCHÓN GARCÍA, JUAN ANTONIO | B10: 131 | C10: =VLOOKUP(A10,'Rank 3 bandas'!C:X,7,FALSE) -> #N/A
A11: MARTÍN INFANTES, ANTONIO JOSÉ | B11: 130 | C11: =VLOOKUP(A11,'Rank 3 bandas'!C:X,7,FALSE) -> 91
A12: BRAVO MURILLO, ADOLFO | B12: 129 | C12: =VLOOKUP(A12,'Rank 3 bandas'!C:X,7,FALSE) -> 92
... A83: HERRERO DE LUCAS, FRANCISCO | B83: 25 | C83: =VLOOKUP(A83,'Rank 3 bandas'!C:X,7,FALSE) -> 0

Sheet Hoja3
A1: DÍAZ RODRÍGUEZ, JAVIER | B1: 180
A2: MENCHÓN GARCÍA, JUAN ANTONIO | B2: 165
A3: GONZÁLEZ CASTRILLO, MANUEL JESÚS | B3: 155
A4: MORAL CASTRO, JAVIER | B4: 155
A5: GÓMEZ SÁNCHEZ, ALBERTO | B5: 146
A6: GONZÁLEZ CALLE, JOSÉ RAMÓN | B6: 144
A7: KOFOED, PER | B7: 142
A8: CANO LÓPEZ, PABLO | B8: 140
A9: DOMINGO CRESPO, JOSÉ MANUEL | B9: 132
A10: LAZO BLANCO, JOSÉ | B10: 131
A11: RODRÍGUEZ DOMÍNGUEZ, FRANCISCO J. | B11: 130
A12: CAMACHO ESPINA, JOSÉ ANTONIO | B12: 129
... A75: TOSSE RIAÑO, SANDRA PATRICIA | B75: 39

Sheet Hoja7
B1: Jugador | C1: Puntos
A2: 1 | C2: 180
A3: 2 | C3: 165
A4: 3 | B4: GÓMEZ SÁNCHEZ, ALBERTO | C4: 155
A5: 4 | C5: 155
A6: 5 | B6: KOFOED, PER | C6: 146
A7: 6 | B7: ZOTOV GRIMA, ARTURO DANIEL | C7: 144
A8: 7 | B8: CAMACHO ESPINA, JOSÉ ANTONIO | C8: 142
A9: 8 | B9: MARTÍN SALAS, JOSÉ | C9: 140
A10: 9 | B10: SÁNCHEZ FARACO, JAIME | C10: 132
A11: 10 | B11: GONZÁLEZ CASTRILLO, MANUEL JESÚS | C11: 131
A12: 11 | B12: DOMINGO CRESPO, JOSÉ MANUEL | C12: 130
A13: 12 | B13: MENCHÓN GARCÍA, JUAN ANTONIO | C13: 129
A14: 13 | B14: SOUSA LÓPEZ, MANUEL | C14: 128
A15: 14 | B15: MARÍN GUERRERO, FELICIANO | C15: 127
A16: 15 | B16: TORRES PULIDO, EMILIO JOSÉ | C16: 126
A17: 16 | B17: MORAL CASTRO, JAVIER | C17: 125
... A77: 76 | B77: GUTIERREZ MORENO, RAFAEL | C77: 0

Sheet Hoja8
A1: Nombre | B1: Apellidos | C1: Apuntado | D1: Pagado
A2: FRANCISCO JAVIER | B2: COBO SORIANO | C2: SI | D2: SI
A3: ÁNGEL | B3: RUIZ AMEZCUA | C3: SI | D3: SI
A4: PER | B4: KOFOED | C4: SI | D4: SI
A5: FERNANDO | B5: RAMOS BLÁZQUEZ | C5: SI | D5: SI
A6: FRANCISCO | B6: TALLÓN TABOADA | C6: SI
A7: JOSÉ MANUEL | B7: DOMINGO CRESPO | C7: SI | D7: SI
A8: RICARDO | B8: FERNÁNDEZ MAIQUEZ | C8: SI
A9: JAVIER | B9: HERNÁNDEZ MARTÍNEZ | C9: SI
A10: MANUEL | B10: LINDE PRIETO | C10: SI
A11: ARTURO DANIEL | B11: ZOTOV GRIMA | C11: NO
A12: FRANCISCO JAVIER | B12: GOMÁRIZ PORTALES | C12: NO
A13: ANTONIO | B13: RUIZ LÓPEZ | C13: NO
A14: RAFAEL | B14: SÁNCHEZ ALBANCHEL | C14: NO
A15: ANTONIO | B15: ALONSO SUÁREZ | C15: NO
A16: ANTONIO | B16: GARCÍA HERNÁNDEZ | C16: NO
A17: CARLOS | B17: SAMANIEGO MELÉNDEZ-VALDÉS | C17: SI
A18: PEDRO | B18: JIMÉNEZ MÉNDEZ | C18: SI | D18: SI
A19: JOSÉ MANUEL | B19: RUIZ MURGUIA | C19: NO
A20: CARLOS | B20: MOLINA RAMÍREZ | C20: NO
A21: ALFONSO | B21: NAVIDAD MADRID | C21: NO
A22: JUAN ANTONIO | B22: MARTÍN VIVALDI | C22: SI
A23: JUAN ANTONIO | B23: MARTÍN LÓPEZ | C23: NO
A24: FRANCISCO | B24: MIRA CERVERA | C24: NO
A25: GERMÁN | B25: NUÑEZ | C25: SI

Sheet Rank 3 bandas (2)
C4: CLASIFICACION
B5: DNI | C5: NOMBRE | D5: ALMONTE 21/22 | E5: ALCALÁ 21/22 | F5: MIJAS 21/22 | G5: SEVILLA 21/22 | H5: BURGUILLOS 21/22 | I5: Bonus Asistencia | J5: TOTAL | K5: Máximo
A6: 1 | B6: 75526957V | C6: SÁNCHEZ FARACO, JAIME | D6: 180 | E6: 142 | F6: 180 | G6: 165 | H6: 130 | I6: =+COUNT(D6:H6)*15 -> 75 | J6: =+SUM(D6:I6) -> 872 | K6: =MAX(D6:G6) -> 180 | L6: =SUM(E6:I6) -> 692
A7: 2 | B7: 26745824K | C7: GOMÁRIZ PORTALES, FRANCISCO JAVIER | D7: 165 | E7: 94 | F7: 155 | G7: 180 | H7: 146 | I7: =+COUNT(D7:H7)*15 -> 75 | J7: =+SUM(D7:I7) -> 815 | K7: =MAX(D7:G7) -> 180 | L7: =SUM(E7:I7) -> 650
A8: 3 | B8: 29741092E | C8: MARTÍN SALAS, JOSÉ | D8: 130 | E8: 132 | F8: 106 | G8: 155 | H8: 180 | I8: =+COUNT(D8:H8)*15 -> 75 | J8: =+SUM(D8:I8) -> 778 | K8: =MAX(D8:G8) -> 155 | L8: =SUM(E8:I8) -> 648
A9: 4 | B9: 28353489D | C9: MIRA CANTILLO, BALDOMERO | D9: 142 | E9: 127 | F9: 144 | G9: 155 | H9: 126 | I9: =+COUNT(D9:H9)*15 -> 75 | J9: =+SUM(D9:I9) -> 769 | K9: =MAX(D9:G9) -> 155 | L9: =SUM(E9:I9) -> 627
A10: 5 | B10: 29492239Y | C10: DÍAZ RODRÍGUEZ, JAVIER | D10: 146 | E10: 180 | F10: 146 | G10: 103 | H10: 132 | I10: =+COUNT(D10:H10)*15-15 -> 60 | J10: =+SUM(D10:I10) -> 767 | K10: =MAX(D10:G10) -> 180 | L10: =SUM(E10:I10) -> 621
A11: 6 | B11: X5145438Q | C11: KOFOED, PER | D11: 114 | E11: 140 | F11: 155 | G11: 126 | H11: 155 | I11: =+COUNT(D11:H11)*15 -> 75 | J11: =+SUM(D11:I11) -> 765 | K11: =MAX(D11:G11) -> 155 | L11: =SUM(E11:I11) -> 651
A12: 7 | B12: 33371451S | C12: MUÑOZ MUÑOZ, JOSÉ | D12: 155 | E12: 116 | F12: 132 | G12: 142 | H12: 142 | I12: =+COUNT(D12:H12)*15 -> 75 | J12: =+SUM(D12:I12) -> 762 | K12: =MAX(D12:G12) -> 155 | L12: =SUM(E12:I12) -> 607
A13: 8 | B13: 48925054Y | C13: SOUSA LÓPEZ, MANUEL | D13: 129 | E13: 144 | F13: 115 | G13: 140 | H13: 144 | I13: =+COUNT(D13:H13)*15 -> 75 | J13: =+SUM(D13:I13) -> 747 | K13: =MAX(D13:G13) -> 144 | L13: =SUM(E13:I13) -> 618
